BEGIN:VCALENDAR
VERSION:2.0
PRODID:-//Fondazione Giovanni Santin ETS - ECPv6.15.14//NONSGML v1.0//EN
CALSCALE:GREGORIAN
METHOD:PUBLISH
X-ORIGINAL-URL:https://fondazionegiovannisantinets.it
X-WR-CALDESC:Eventi per Fondazione Giovanni Santin ETS
REFRESH-INTERVAL;VALUE=DURATION:PT1H
X-Robots-Tag:noindex
X-PUBLISHED-TTL:PT1H
BEGIN:VTIMEZONE
TZID:Europe/Rome
BEGIN:DAYLIGHT
TZOFFSETFROM:+0100
TZOFFSETTO:+0200
TZNAME:CEST
DTSTART:20220327T010000
END:DAYLIGHT
BEGIN:STANDARD
TZOFFSETFROM:+0200
TZOFFSETTO:+0100
TZNAME:CET
DTSTART:20221030T010000
END:STANDARD
BEGIN:DAYLIGHT
TZOFFSETFROM:+0100
TZOFFSETTO:+0200
TZNAME:CEST
DTSTART:20230326T010000
END:DAYLIGHT
BEGIN:STANDARD
TZOFFSETFROM:+0200
TZOFFSETTO:+0100
TZNAME:CET
DTSTART:20231029T010000
END:STANDARD
BEGIN:DAYLIGHT
TZOFFSETFROM:+0100
TZOFFSETTO:+0200
TZNAME:CEST
DTSTART:20240331T010000
END:DAYLIGHT
BEGIN:STANDARD
TZOFFSETFROM:+0200
TZOFFSETTO:+0100
TZNAME:CET
DTSTART:20241027T010000
END:STANDARD
END:VTIMEZONE
BEGIN:VEVENT
DTSTART;VALUE=DATE:20230716
DTEND;VALUE=DATE:20230717
DTSTAMP:20260421T180101
CREATED:20240410T192850Z
LAST-MODIFIED:20240410T192850Z
UID:10000007-1689465600-1689551999@fondazionegiovannisantinets.it
SUMMARY:ACQUA\, MUSICA E MAGIA
DESCRIPTION:Vivi l’emozione della musica classica all’alba in un luogo unico. Non perdere “Acqua\, Musica e Magia”\, un concerto ispirato all’acqua e alle storie di magia della tradizione popolare. Con Silvia Celadin\, soprano\, e Pierluigi Piran\, pianoforte.\n\nDomenica 16 luglio 2023 ore 06:30\nCaneva e Polcenigo\, Sito UNESCO Palafitticolo di Palù di Livenza\n\nIngresso libero con prenotazione consigliata SMS o WhatsApp al 347 3254999 o via email a blanceuropeanfestival@gmail.com\n\nSilvia Celadin è una soprano di talento che ha iniziato gli studi musicali di pianoforte e successivamente proseguito lo studio del canto presso il Conservatorio «C. Pollini» di Padova. Si esibisce regolarmente come solista in Italia e all’estero.\n\nPierluigi Piran\, diplomato con il massimo dei voti e la lode presso il Conservatorio di Venezia\, è un pianista di fama internazionale\, che ha vinto numerosi concorsi nazionali ed internazionali e si esibisce in importanti sale italiane e all’estero.\n\nIl sito Palafitticolo di Palù di Livenza è sicuramente uno tra i più interessanti siti palafitticoli neolitici dell’Italia settentrionale e dal 2011 è stato iscritto nella lista del Patrimonio Mondiale dell’UNESCO.\n\nPer maggiori informazioni visita il sito: https://bit.ly/3NO7XHL\n\nBLANC EUROPEAN FESTIVAL 2023\nArte\, Sostenibilità e Territorio.\n13 eventi multi-art\, ispirati alle tematiche della Sostenibilità e al Territorio\, in diversi luoghi magici del Friuli-Venezia Giulia dall’1 luglio – 8 agosto 2023.\n\nScopri il programma completo del Festival su www.blancfestival.org
URL:https://fondazionegiovannisantinets.it/events/acqua-musica-e-magia/
LOCATION:Sito UNESCO Palafitticolo di Palù di Livenza\, Caneva\, Pordenone\, 33070
CATEGORIES:Mostre
ATTACH;FMTTYPE=image/jpeg:https://fondazionegiovannisantinets.it/wp-content/uploads/2024/04/thumbnail.jpeg
END:VEVENT
END:VCALENDAR