BEGIN:VCALENDAR
VERSION:2.0
PRODID:-//Fondazione Giovanni Santin ETS - ECPv6.15.20//NONSGML v1.0//EN
CALSCALE:GREGORIAN
METHOD:PUBLISH
X-ORIGINAL-URL:https://fondazionegiovannisantinets.it
X-WR-CALDESC:Eventi per Fondazione Giovanni Santin ETS
REFRESH-INTERVAL;VALUE=DURATION:PT1H
X-Robots-Tag:noindex
X-PUBLISHED-TTL:PT1H
BEGIN:VTIMEZONE
TZID:Europe/Rome
BEGIN:DAYLIGHT
TZOFFSETFROM:+0100
TZOFFSETTO:+0200
TZNAME:CEST
DTSTART:20150329T010000
END:DAYLIGHT
BEGIN:STANDARD
TZOFFSETFROM:+0200
TZOFFSETTO:+0100
TZNAME:CET
DTSTART:20151025T010000
END:STANDARD
BEGIN:DAYLIGHT
TZOFFSETFROM:+0100
TZOFFSETTO:+0200
TZNAME:CEST
DTSTART:20160327T010000
END:DAYLIGHT
BEGIN:STANDARD
TZOFFSETFROM:+0200
TZOFFSETTO:+0100
TZNAME:CET
DTSTART:20161030T010000
END:STANDARD
BEGIN:DAYLIGHT
TZOFFSETFROM:+0100
TZOFFSETTO:+0200
TZNAME:CEST
DTSTART:20170326T010000
END:DAYLIGHT
BEGIN:STANDARD
TZOFFSETFROM:+0200
TZOFFSETTO:+0100
TZNAME:CET
DTSTART:20171029T010000
END:STANDARD
BEGIN:DAYLIGHT
TZOFFSETFROM:+0100
TZOFFSETTO:+0200
TZNAME:CEST
DTSTART:20180325T010000
END:DAYLIGHT
BEGIN:STANDARD
TZOFFSETFROM:+0200
TZOFFSETTO:+0100
TZNAME:CET
DTSTART:20181028T010000
END:STANDARD
BEGIN:DAYLIGHT
TZOFFSETFROM:+0100
TZOFFSETTO:+0200
TZNAME:CEST
DTSTART:20190331T010000
END:DAYLIGHT
BEGIN:STANDARD
TZOFFSETFROM:+0200
TZOFFSETTO:+0100
TZNAME:CET
DTSTART:20191027T010000
END:STANDARD
BEGIN:DAYLIGHT
TZOFFSETFROM:+0100
TZOFFSETTO:+0200
TZNAME:CEST
DTSTART:20200329T010000
END:DAYLIGHT
BEGIN:STANDARD
TZOFFSETFROM:+0200
TZOFFSETTO:+0100
TZNAME:CET
DTSTART:20201025T010000
END:STANDARD
BEGIN:DAYLIGHT
TZOFFSETFROM:+0100
TZOFFSETTO:+0200
TZNAME:CEST
DTSTART:20210328T010000
END:DAYLIGHT
BEGIN:STANDARD
TZOFFSETFROM:+0200
TZOFFSETTO:+0100
TZNAME:CET
DTSTART:20211031T010000
END:STANDARD
BEGIN:DAYLIGHT
TZOFFSETFROM:+0100
TZOFFSETTO:+0200
TZNAME:CEST
DTSTART:20220327T010000
END:DAYLIGHT
BEGIN:STANDARD
TZOFFSETFROM:+0200
TZOFFSETTO:+0100
TZNAME:CET
DTSTART:20221030T010000
END:STANDARD
BEGIN:DAYLIGHT
TZOFFSETFROM:+0100
TZOFFSETTO:+0200
TZNAME:CEST
DTSTART:20230326T010000
END:DAYLIGHT
BEGIN:STANDARD
TZOFFSETFROM:+0200
TZOFFSETTO:+0100
TZNAME:CET
DTSTART:20231029T010000
END:STANDARD
BEGIN:DAYLIGHT
TZOFFSETFROM:+0100
TZOFFSETTO:+0200
TZNAME:CEST
DTSTART:20240331T010000
END:DAYLIGHT
BEGIN:STANDARD
TZOFFSETFROM:+0200
TZOFFSETTO:+0100
TZNAME:CET
DTSTART:20241027T010000
END:STANDARD
END:VTIMEZONE
BEGIN:VEVENT
DTSTART;VALUE=DATE:20230914
DTEND;VALUE=DATE:20230915
DTSTAMP:20260425T131047
CREATED:20240418T192310Z
LAST-MODIFIED:20240421T182820Z
UID:10000147-1694649600-1694735999@fondazionegiovannisantinets.it
SUMMARY:PORDENONELEGGE 14 SETTEMBRE 2023
DESCRIPTION:Sergio Vaccher\, inviato dalla Fondazione Giovanni Santin Onlus a Pordenonelegge documenta gli eventi della seconda giornata 14 settembre. Il suo obiettivo professionale\, unito alla sensibilità e attenzione “poetica” di un’artista rendono questi scatti significativi e coinvolgenti. \nGrazie di cuore e complimenti!
URL:https://fondazionegiovannisantinets.it/events/pordenonelegge-14-settembre-2023/
CATEGORIES:Attività
ATTACH;FMTTYPE=image/jpeg:https://fondazionegiovannisantinets.it/wp-content/uploads/2024/04/thumbnail-20.jpeg
END:VEVENT
BEGIN:VEVENT
DTSTART;VALUE=DATE:20230914
DTEND;VALUE=DATE:20230915
DTSTAMP:20260425T131047
CREATED:20240412T090815Z
LAST-MODIFIED:20240421T190034Z
UID:10000017-1694649600-1694735999@fondazionegiovannisantinets.it
SUMMARY:Pordonelegge
DESCRIPTION:Sergio Vaccher\, inviato dalla Fondazione Giovanni Santin Onlus a Pordenonelegge documenta gli eventi della seconda giornata 14 settembre. Il suo obiettivo professionale\, unito alla sensibilità e attenzione “poetica” di un’artista rendono questi scatti signuificativi e coinvolgenti. \n\n\n\nGrazie di cuore e complimenti!
URL:https://fondazionegiovannisantinets.it/events/pordonelegge/
CATEGORIES:Attività
ATTACH;FMTTYPE=image/jpeg:https://fondazionegiovannisantinets.it/wp-content/uploads/2024/03/pnlegge2023sito.jpg
END:VEVENT
BEGIN:VEVENT
DTSTART;VALUE=DATE:20230913
DTEND;VALUE=DATE:20230914
DTSTAMP:20260425T131047
CREATED:20240418T192112Z
LAST-MODIFIED:20240421T182855Z
UID:10000146-1694563200-1694649599@fondazionegiovannisantinets.it
SUMMARY:PORDENONE LEGGE 13 SETTEMBRE 2023
DESCRIPTION:Sergio Vaccher\, inviato dalla Fondazione Giovanni Santin Onlus a Pordenonelegge documenta gli eventi della prima giornata 13 settembre. Il suo obiettivo professionale\, unito alla sensibilità e attenzione “poetica” di un’artista rendono questi scatti significativi e coinvolgenti. \nGrazie di cuore e complimenti!
URL:https://fondazionegiovannisantinets.it/events/pordenone-legge-13-settembre-2023/
CATEGORIES:Attività
ATTACH;FMTTYPE=image/jpeg:https://fondazionegiovannisantinets.it/wp-content/uploads/2024/04/img-20230914-wa0005-xmfeyxcmtn.jpg
END:VEVENT
BEGIN:VEVENT
DTSTART;VALUE=DATE:20210915
DTEND;VALUE=DATE:20210916
DTSTAMP:20260425T131047
CREATED:20240418T164014Z
LAST-MODIFIED:20240421T183057Z
UID:10000099-1631664000-1631750399@fondazionegiovannisantinets.it
SUMMARY:SERGIO VACCHER E PORDENONELEGGE 2021
DESCRIPTION:Un grande fotografo\, artista\, reporter Free lance Sergio Vaccher accompagna la Fondazione Giovanni Santin Onlus alle presentazioni di libri e autori di Pordenonelegge 2021. \nCondividere i suoi ritratti\, gli scatti che documentano gli eventi con professionalità è un grande onore! \nGrazie Sergio.
URL:https://fondazionegiovannisantinets.it/events/sergio-vaccher-e-pordenonelegge-2021/
CATEGORIES:Attività
ATTACH;FMTTYPE=image/jpeg:https://fondazionegiovannisantinets.it/wp-content/uploads/2024/04/thumbnail-2-6.jpeg
END:VEVENT
BEGIN:VEVENT
DTSTART;VALUE=DATE:20190901
DTEND;VALUE=DATE:20190902
DTSTAMP:20260425T131047
CREATED:20240420T151930Z
LAST-MODIFIED:20240420T151930Z
UID:10000264-1567296000-1567382399@fondazionegiovannisantinets.it
SUMMARY:BIENNALE DI VENEZIA ATTRAVERSO LO SGARDO DI SERGIO VACCHER
DESCRIPTION:
URL:https://fondazionegiovannisantinets.it/events/biennale-di-venezia-attraverso-lo-sgardo-di-sergio-vaccher/
CATEGORIES:Mostre
ATTACH;FMTTYPE=image/jpeg:https://fondazionegiovannisantinets.it/wp-content/uploads/2024/04/sv_01483-hd3zlacjnk.jpg
END:VEVENT
BEGIN:VEVENT
DTSTART;VALUE=DATE:20181104
DTEND;VALUE=DATE:20181105
DTSTAMP:20260425T131047
CREATED:20240420T072502Z
LAST-MODIFIED:20240420T072502Z
UID:10000219-1541289600-1541375999@fondazionegiovannisantinets.it
SUMMARY:IL MEMORIAL GIOVANNI SANTIN
DESCRIPTION:IL MEMORIAL GIOVANNI SANTIN \nSabato 4 novembre si é tenuto “il primo Memorial Giovanni Santin” Torneo Rugby di Pordenone. Condividiamo con voi le foto scattate durante la conferenza stampa e l’evento. \nGrazie a Sergio Vaccher e alla sua impareggiabile professionalità della fotografia. \n\n			\n				\n			\n			\n				\n			\n			\n				\n			\n			\n				\n			\n			\n				\n			\n			\n				\n			\n			\n				\n			\n			\n				\n			\n			\n				\n			\n			\n				\n			\n			\n				\n			\n			\n				\n			\n			\n				\n			\n			\n				\n			\n			\n				\n			\n			\n				\n			\n			\n				\n			\n			\n				\n			\n		\n \n 
URL:https://fondazionegiovannisantinets.it/events/il-memorial-giovanni-santin/
CATEGORIES:Mostre
ATTACH;FMTTYPE=image/jpeg:https://fondazionegiovannisantinets.it/wp-content/uploads/2024/04/9-l0gugjdwj.jpg
END:VEVENT
BEGIN:VEVENT
DTSTART;VALUE=DATE:20180317
DTEND;VALUE=DATE:20180409
DTSTAMP:20260425T131047
CREATED:20240419T214633Z
LAST-MODIFIED:20240419T214633Z
UID:10000206-1521244800-1523231999@fondazionegiovannisantinets.it
SUMMARY:QUELLA GIUNGLA NEL MIO GIARDINO-ALBERTO MAGRI
DESCRIPTION:LE OPERE ESPOSTE SONO TRATTE DAL NUOVO LIBRO ILLUSTRATO DI ALBERTO MAGRI\, QUELLA GIUNGLA DEL MIO GIARDINO\, CHE VERRÀ PRESENTATO L’8 APRILE ALLE ORE 17\,30 A CHIUSURA DELLA MOSTRA.\nÈ UN OMAGGIO CREATIVO E NATURALISTICO\, IN CUI MAGRI HA REALIZZATO VARI DIPINTI\, ILLUSTRAZIONI E SCHIZZI ISPIRANDOSI ALLA BIODIVERSITÀ OSSERVATA IN UN FAZZOLETTO DI TERRA\, NEL PROPRIO GIARDINO.\nALBERTO MAGRI È UN GIOVANE PITTORE E ILLUSTRATORE DI PORDENONE E AUTORE DEI LIBRI ILLUSTRATI PICTOR MODERNUS E MENOCCHIO. \nESPLORANDO\nQUELLA GIUNGLA DEL MIO GIARDINO \nLA MOSTRA OSPITA LE OPERE DI ALCUNI AUTORI\, ARTISTI E PERSONALITÀ CHE SU INVITO DI ALBERTO MAGRI HANNO CREATO O PRESTATO DAI LORO ARCHIVI UNA LORO OPERA ISPIRANDOSI AL CONCETTO DI QUELLA GIUNGLA DEL MIO GIARDINO.\nL’IDEA NASCE DALLA CURIOSITÀ DI ESPLORARE NUOVI PUNTI DI VISTA E LE POSSIBILI VIE NARRATIVE E ARTISTICHE CHE QUESTA FRASE PUÒ EVOCARE ATTRAVERSO LA MUSICA\, LA SCRITTURA E LE ARTI VISIVE. \nPARTECIPANO: \nMONS. GIANCARLO STIVAL – STEFANO CIOL – SERGIO VACCHER – GIOVANNI DEL BEN – MICHELE ZANETTI \nMAURO CALDANA – SILVIA PIGNAT – FEDERICO CECCHIN – GIULIO MASIERI – STEFANO BERNABEI \nGIANCARLO MAGRI – EMANUELE BERTOSSI – LUDOVICO BOMBEN – FILIPPO TRAMONTANA & MARCO QUARIN
URL:https://fondazionegiovannisantinets.it/events/quella-giungla-nel-mio-giardino-alberto-magri/
LOCATION:Museo Civico d’Arte\, Corso Vittorio Emanuele II\, 51\, Pordenone\, 33170\, Italia
CATEGORIES:Mostre
ATTACH;FMTTYPE=image/jpeg:https://fondazionegiovannisantinets.it/wp-content/uploads/2024/04/thumbnail-21-1.jpeg
END:VEVENT
BEGIN:VEVENT
DTSTART;VALUE=DATE:20170922
DTEND;VALUE=DATE:20170923
DTSTAMP:20260425T131047
CREATED:20240416T210732Z
LAST-MODIFIED:20240421T184619Z
UID:10000080-1506038400-1506124799@fondazionegiovannisantinets.it
SUMMARY:BIENNALE DI VENEZIA 2017 PARTE 1.
DESCRIPTION:L’ obiettivo ragionato e poetico di un grande fotografo\, Sergio Vaccher\, al 74 Festival del Cinema di Venezia per la Fondazione Giovanni Santin Onlus. \nVi presentiamo i video girati durante la Biennale di Venezia 74 \nFestival del cinema Venezia 2017-Il nuovo video di presentazione \n \nFestival del cinema Venezia 2017-Guillermo del Toro The shape of Water \n \nInvisibile di Paolo Giorgelli \n \nInvisibile di Paolo Giorgelli pt2 \n \nMarvin di Anne Fontaine 74 Venezia-Festival del cinema \n \nHappy winter. Fuori concorso  Venezia74 \n \nVenezia 74 \n \nSakamoto al Festival del Cinema di Venezia \n \nSakamoto al Festival del Cinema di Venezia pt.2 \n \nIn conocorso Orizzonti  Gatta Cenerentola Venezia 2017
URL:https://fondazionegiovannisantinets.it/events/biennale-di-venezia-2017-parte-1/
CATEGORIES:Attività
ATTACH;FMTTYPE=image/jpeg:https://fondazionegiovannisantinets.it/wp-content/uploads/2024/04/thumbnail-2-4.jpeg
END:VEVENT
BEGIN:VEVENT
DTSTART;VALUE=DATE:20170920
DTEND;VALUE=DATE:20170921
DTSTAMP:20260425T131047
CREATED:20240416T212643Z
LAST-MODIFIED:20240421T184549Z
UID:10000081-1505865600-1505951999@fondazionegiovannisantinets.it
SUMMARY:BIENNALE DI VENEZIA - parte 2
DESCRIPTION:L’obiettivo ragionato e poetico di un grande fotografo\, Sergio Vaccher\, al 74 Festival del Cinema di Venezia per la Fondazione Giovanni Santin Onlus. \nFotografie scattate da Sergio Vaccher
URL:https://fondazionegiovannisantinets.it/events/biennale-di-venezia/
CATEGORIES:Attività
ATTACH;FMTTYPE=image/jpeg:https://fondazionegiovannisantinets.it/wp-content/uploads/2024/04/6.-wdcqblhcnc.jpg
END:VEVENT
BEGIN:VEVENT
DTSTART;VALUE=DATE:20170915
DTEND;VALUE=DATE:20170916
DTSTAMP:20260425T131047
CREATED:20240418T150249Z
LAST-MODIFIED:20240421T183426Z
UID:10000082-1505433600-1505519999@fondazionegiovannisantinets.it
SUMMARY:PORDENONE LEGGE
DESCRIPTION:Sergio Vaccher: l’obiettivo di un grande fotografo al Festival del libro “pordeanonelegge” per la Fondzione Giovanni Santin Onlus. Un onore pubblicale i suoi ritratti\, frammenti\, composizioni d’arte \n\n			\n				\n			\n			\n				\n			\n			\n				\n			\n			\n				\n			\n			\n				\n			\n			\n				\n			\n			\n				\n			\n			\n				\n			\n			\n				\n			\n			\n				\n			\n			\n				\n			\n			\n				\n			\n			\n				\n			\n			\n				\n			\n			\n				\n			\n			\n				\n			\n		\n \n  \nUn altro tempo \nTutti scrivono\, tutti leggono\, come mai fino ad oggi nella storia dell’umanità. C’è stato un tempo ancora recente quando\, conclusi gli anni della formazione\, i pochi che continuavano a scrivere lo facevano con parsimonia e per motivi squisitamente professionali. Gli altri erano innamorati ossessivi\, compulsivi redattori di lettere anonime\, oppure scrittori\, poeti\, giornalisti\, storici e filosofi. Non è più così\, la comunicazione scritta è onnipresente e incessante\, e sempre più in connubio con l’altrettanto ubiqua presenza delle foto da cellulare. E i libri? Oh\, quelli! Sì\, ci sono ancora\, e sono ancora il modo migliore per imparare\, pensare e crescere. Ci sono anche molti libri senza le immagini! E sono esigenti\, quasi tutti. Chiedono ciò che è più tuo e che maggiormente ti sfugge nella vita: il tempo. Vogliono tempo\, un tempo solo tuo. E in cambio\, però\, aprono nel trascorrere della tua vita un altro tempo\, più ampio\, più profondo\, che non ha i numeri dell’orologio. L’incontro con l’autore e il suo libro a pordenoneleggedura un’ora dell’orologio. E potrebbe valere quanto una stagione della vita. \n\nhttp://www.pordenonelegge.it/festival/edizione-2017 \n\n\n\n			\n				\n			\n			\n				\n			\n			\n				\n			\n			\n				\n			\n			\n				\n			\n			\n				\n			\n			\n				\n			\n			\n				\n			\n			\n				\n			\n			\n				\n			\n			\n				\n			\n			\n				\n			\n			\n				\n			\n			\n				\n			\n			\n				\n			\n			\n				\n			\n			\n				\n			\n			\n				\n			\n			\n				\n			\n			\n				\n			\n			\n				\n			\n			\n				\n			\n			\n				\n			\n			\n				\n			\n			\n				\n			\n			\n				\n			\n			\n				\n			\n			\n				\n			\n			\n				\n			\n			\n				\n			\n			\n				\n			\n			\n				\n			\n			\n				\n			\n			\n				\n			\n			\n				\n			\n			\n				\n			\n			\n				\n			\n			\n				\n			\n			\n				\n			\n			\n				\n			\n			\n				\n			\n			\n				\n			\n			\n				\n			\n			\n				\n			\n		\n \n\n 
URL:https://fondazionegiovannisantinets.it/events/pordenone-legge/
CATEGORIES:Attività
ATTACH;FMTTYPE=image/jpeg:https://fondazionegiovannisantinets.it/wp-content/uploads/2024/04/7.-yxmwgc52z5.jpg
END:VEVENT
BEGIN:VEVENT
DTSTART;VALUE=DATE:20170717
DTEND;VALUE=DATE:20170724
DTSTAMP:20260425T131047
CREATED:20240419T212738Z
LAST-MODIFIED:20240419T212738Z
UID:10000199-1500249600-1500854399@fondazionegiovannisantinets.it
SUMMARY:PORDENONE BLUES FESTIVAL 2017
DESCRIPTION:“Innamoratevi del nostro territorio” è lo slogan del Pordenone Blues Festival che quest’anno si ripropone con novità che coinvolgono l’intera città. Dal 17 al 23 Luglio 2017\, dalla mattina alla sera in centro a Pordenone\, potrete assaggiare il blues attraverso concerti\, mostre\, proiezioni\, conferenze\, letture\, stage\, contest\, sorseggiando “vini musicali”\, ascoltando l’anima della terra nei suoi prodotti tipici. Un invito a fare uscire il blues che è in voi.
URL:https://fondazionegiovannisantinets.it/events/pordenone-blues-festival-2017/
CATEGORIES:Mostre
ATTACH;FMTTYPE=image/png:https://fondazionegiovannisantinets.it/wp-content/uploads/2024/04/Kepkivagas.png
END:VEVENT
BEGIN:VEVENT
DTSTART;VALUE=DATE:20160915
DTEND;VALUE=DATE:20160916
DTSTAMP:20260425T131048
CREATED:20240419T194926Z
LAST-MODIFIED:20240421T105558Z
UID:10000177-1473897600-1473983999@fondazionegiovannisantinets.it
SUMMARY:DAI MAGREDI AL NONCELLO
DESCRIPTION:Giovedì 15 Settembre 2016 Magraid ritorna a pordenonelegge: l’ ASD TRIATHLON TEAM PORDENONE\, ideatrice del progetto “Dai Magredi al Noncello” condiviso con l’associazione ProPordenone è lieta di invitarvi all’inaugurazione della Mostra Fotografica di Stefano Tubaro\, Sergio Vaccher e dei partecipanti del workshop fotografico realizzato nell’edizione 2015 a cura di Alessandra Santin. \n\n			\n				\n			\n			\n				\n			\n			\n				\n			\n			\n				\n			\n			\n				\n			\n			\n				\n			\n		\n \nIncontro con Alessandra Santin\, Sergio Vaccher\, Stefano Tubaro e Stefano Fabian \nUn convegno\, l’evento sportivo Magraid\, e la Festa del Noncello hanno rappresentato tre tappe fondamentali per far conoscere il territorio pordenonese e le acque che lo attraversano. Un workshop fotografico condotto da Stefano Tubaro e Sergio Vaccher ha offerto esperienze e contenuti ai 24 fotografi\, le cui opere sono presenti accanto a quelle dei professionisti. Stefano Fabian\, responsabile della comunicazione e delle attività divulgative del Progetto Life Magredi Grassland del FVG\, ha illustrato le caratteristiche ambientali dei Magredi. Il volume\, i risultati e le immagini di questo articolato progetto vengono presentati al pubblico di pordenonelegge. \nTroverete tutte le info al seguente link: http://www.pordenonelegge.it/ \nIn collaborazione con Propordenone e A.S.D. TRIATHLON TEAM
URL:https://fondazionegiovannisantinets.it/events/dai-magredi-al-noncello/
LOCATION:Teatro G. Verdi\, Riva Tre Novembre 1\, Trieste\, 34121\, Italia
CATEGORIES:Mostre
ATTACH;FMTTYPE=image/jpeg:https://fondazionegiovannisantinets.it/wp-content/uploads/2024/04/img_1215-nqs2pbdmqk.jpg
END:VEVENT
END:VCALENDAR