BEGIN:VCALENDAR
VERSION:2.0
PRODID:-//Fondazione Giovanni Santin ETS - ECPv6.15.20//NONSGML v1.0//EN
CALSCALE:GREGORIAN
METHOD:PUBLISH
X-ORIGINAL-URL:https://fondazionegiovannisantinets.it
X-WR-CALDESC:Eventi per Fondazione Giovanni Santin ETS
REFRESH-INTERVAL;VALUE=DURATION:PT1H
X-Robots-Tag:noindex
X-PUBLISHED-TTL:PT1H
BEGIN:VTIMEZONE
TZID:Europe/Rome
BEGIN:DAYLIGHT
TZOFFSETFROM:+0100
TZOFFSETTO:+0200
TZNAME:CEST
DTSTART:20230326T010000
END:DAYLIGHT
BEGIN:STANDARD
TZOFFSETFROM:+0200
TZOFFSETTO:+0100
TZNAME:CET
DTSTART:20231029T010000
END:STANDARD
BEGIN:DAYLIGHT
TZOFFSETFROM:+0100
TZOFFSETTO:+0200
TZNAME:CEST
DTSTART:20240331T010000
END:DAYLIGHT
BEGIN:STANDARD
TZOFFSETFROM:+0200
TZOFFSETTO:+0100
TZNAME:CET
DTSTART:20241027T010000
END:STANDARD
BEGIN:DAYLIGHT
TZOFFSETFROM:+0100
TZOFFSETTO:+0200
TZNAME:CEST
DTSTART:20250330T010000
END:DAYLIGHT
BEGIN:STANDARD
TZOFFSETFROM:+0200
TZOFFSETTO:+0100
TZNAME:CET
DTSTART:20251026T010000
END:STANDARD
END:VTIMEZONE
BEGIN:VEVENT
DTSTART;VALUE=DATE:20240720
DTEND;VALUE=DATE:20240821
DTSTAMP:20260425T143408
CREATED:20241106T101904Z
LAST-MODIFIED:20241106T101904Z
UID:10000354-1721433600-1724198399@fondazionegiovannisantinets.it
SUMMARY:BLANC EUROPEAN FESTIVAL 2024 - Arte e Natura
DESCRIPTION:Gentilissimi Sostenitori del Blanc European Festival\,\n\nCi stiamo preparando al lancio della nuova edizione che comincerà con un ospite eccezionale a Tramonti di Sopra\, sabato prossimo 20 Luglio alle ore 17:30.\n\nIl Blanc European Festival propone performance multi-art\, in luoghi convenzionali e non\, coinvolgendo artisti di fama nazionale ed internazionale.    \nLe performance di quest’anno si svilupperanno intorno al tema del rapporto uomo-natura e al colore Bianco\, archetipo e simbolo di luce e gioia. \n \nCome sapete\, il Blanc European Festival nasce nel 2019 con l’intento di portare all’interno delle latterie friulane performance multi-art ispirate al Latte e al colore Bianco. Dal 2021 il festival decide di dedicare i suoi eventi in maniera più specifica allo  Sviluppo Sostenibile. Il festival si fa pioniere della riscoperta di alcuni tesori storico-naturalistici del territorio\, in chiave performativa. Nel 2023 ha realizzato il primo concerto in assoluto all’interno della galleria della Vecchia strada della Valcellina\, all’altezza del Ponte Antoi a Barcis. \n\n——\n\nSe avete piacere di condividere la nuova edizione\, vi allego la copertina di quest’anno e il sito rinnovato https://www.blanceuropeanfestival.it\n\nAbbiamo anche i canali social molto attivi:\nInstagram —> blanceuropean_festival\nFacebook —> AssociazioneCulturaleBlanc \n \nPer il materiale grafico\, abbiamo creato un link drive dedicato https://drive.google.com/drive/folders/1Ur7_5dQoPkHVo2jWYN3g0q1jnCUZyPiK?usp=share_link\n \n——\n \nRingraziandoVi per il supporto rinnovato alla nostra iniziativa\, Vi aspettiamo ai nostri eventi e mando a ciascuno un sentito ringraziamento.\nRiccardo Pes
URL:https://fondazionegiovannisantinets.it/events/blanc-european-festival-2024-arte-e-natura/
CATEGORIES:Mostre
ATTACH;FMTTYPE=image/jpeg:https://fondazionegiovannisantinets.it/wp-content/uploads/2024/11/Copertina-quadrata-Blanc-2024.jpg
END:VEVENT
END:VCALENDAR