BEGIN:VCALENDAR
VERSION:2.0
PRODID:-//Fondazione Giovanni Santin ETS - ECPv6.15.20//NONSGML v1.0//EN
CALSCALE:GREGORIAN
METHOD:PUBLISH
X-WR-CALNAME:Fondazione Giovanni Santin ETS
X-ORIGINAL-URL:https://fondazionegiovannisantinets.it
X-WR-CALDESC:Eventi per Fondazione Giovanni Santin ETS
REFRESH-INTERVAL;VALUE=DURATION:PT1H
X-Robots-Tag:noindex
X-PUBLISHED-TTL:PT1H
BEGIN:VTIMEZONE
TZID:Europe/Rome
BEGIN:DAYLIGHT
TZOFFSETFROM:+0100
TZOFFSETTO:+0200
TZNAME:CEST
DTSTART:20180325T010000
END:DAYLIGHT
BEGIN:STANDARD
TZOFFSETFROM:+0200
TZOFFSETTO:+0100
TZNAME:CET
DTSTART:20181028T010000
END:STANDARD
BEGIN:DAYLIGHT
TZOFFSETFROM:+0100
TZOFFSETTO:+0200
TZNAME:CEST
DTSTART:20190331T010000
END:DAYLIGHT
BEGIN:STANDARD
TZOFFSETFROM:+0200
TZOFFSETTO:+0100
TZNAME:CET
DTSTART:20191027T010000
END:STANDARD
BEGIN:DAYLIGHT
TZOFFSETFROM:+0100
TZOFFSETTO:+0200
TZNAME:CEST
DTSTART:20200329T010000
END:DAYLIGHT
BEGIN:STANDARD
TZOFFSETFROM:+0200
TZOFFSETTO:+0100
TZNAME:CET
DTSTART:20201025T010000
END:STANDARD
END:VTIMEZONE
BEGIN:VEVENT
DTSTART;VALUE=DATE:20190506
DTEND;VALUE=DATE:20190626
DTSTAMP:20260425T143524
CREATED:20240420T131802Z
LAST-MODIFIED:20240420T131802Z
UID:10000238-1557100800-1561507199@fondazionegiovannisantinets.it
SUMMARY:RÉTI ÁGNES
DESCRIPTION:Come si puó usare la casualità? Si puó controllare la casualitá? C’è una coincidenza consapevole? \nQueste sono le domande a cui sto lavorando da quando lavoro con la tecnica unica che sto perfezionando e sviluppando da due anni\, che si basa sia sulla coscienza che sulla coincidenza/casualitá. \nUtilizzare il tessuto jersey cotone con caratteristiche speciali (elasticità\, grinze) ai miei quadri di pastello invece del solito foglio lascia spazio per l’ammissione della fatalitá nel processo creativo. La loro incorporazione cosciente nell’immagine\, l’estensione del loro uso\, è già il controllo totale e cosciente della fatalitá. \nUn processo controllato che include elementi casuali\, progettazione consapevole e lavoro di sviluppo. Ho sperimentato molto per controllare\, produrre consapevolmente\, riprodurre e creare un sistema di movimentazione personalizzato e uno stile. A volte\, tuttavia\, “inizia a dettare” accidentalmente. Sto disegnando motivi che mi spingono ad andare in una direzione diversa da ciò che è stato pianificato. Naturalmente\, posso decidere di rifiutare la “volontà” dell’immagine\, eliminare l’inaspettata “che si presenta” e andare oltre nella direzione che ho in programma. Ma ho l’idea di ” andare con l’inaspettato”\, accettare e iniziare a ridisegnare. (Cos’è questo? Il messaggio del subconscio?) Ecco come è stato creato il mio “Cervo cornuto”. Quando accettai la volontà dell’immagine e iniziai a prenderla nella direzione dettata\, mi resi conto di quanto sia meraviglioso il mitico animale\, il cervo come simbolo universale\, nella sezione unno-ungherese\, così come in molti popoli eurasiatici e indiani del Nord America. Ho osservato che maggiore è lo spazio per la casualità\, più le mie foto sono surreali e maggiore è il ruolo della coscienza nel processo creativo\, più sono romantici pur mantenendo la loro surrealtà. \nDivertitevi con questo continuo dialogo tra l’ immagine e me. Spero che i quadri/immagini e io\, in questo dialogo\, possiamo coinvolgere anche lo spettatore. \nÁgnes Réti \npittore\, artista grafico
URL:https://fondazionegiovannisantinets.it/events/reti-agnes/
LOCATION:Museum Hotel Budapest\, Trefort utca 2\, Budapest\, 1088\, Ungheria
CATEGORIES:Mostre
ATTACH;FMTTYPE=image/jpeg:https://fondazionegiovannisantinets.it/wp-content/uploads/2024/04/reti_agnes_meghivo-hu-vizszintes-jl5m6o8sff.jpg
END:VEVENT
END:VCALENDAR