BEGIN:VCALENDAR
VERSION:2.0
PRODID:-//Fondazione Giovanni Santin ETS - ECPv6.15.14//NONSGML v1.0//EN
CALSCALE:GREGORIAN
METHOD:PUBLISH
X-WR-CALNAME:Fondazione Giovanni Santin ETS
X-ORIGINAL-URL:https://fondazionegiovannisantinets.it
X-WR-CALDESC:Eventi per Fondazione Giovanni Santin ETS
REFRESH-INTERVAL;VALUE=DURATION:PT1H
X-Robots-Tag:noindex
X-PUBLISHED-TTL:PT1H
BEGIN:VTIMEZONE
TZID:Europe/Rome
BEGIN:DAYLIGHT
TZOFFSETFROM:+0100
TZOFFSETTO:+0200
TZNAME:CEST
DTSTART:20160327T010000
END:DAYLIGHT
BEGIN:STANDARD
TZOFFSETFROM:+0200
TZOFFSETTO:+0100
TZNAME:CET
DTSTART:20161030T010000
END:STANDARD
BEGIN:DAYLIGHT
TZOFFSETFROM:+0100
TZOFFSETTO:+0200
TZNAME:CEST
DTSTART:20170326T010000
END:DAYLIGHT
BEGIN:STANDARD
TZOFFSETFROM:+0200
TZOFFSETTO:+0100
TZNAME:CET
DTSTART:20171029T010000
END:STANDARD
BEGIN:DAYLIGHT
TZOFFSETFROM:+0100
TZOFFSETTO:+0200
TZNAME:CEST
DTSTART:20180325T010000
END:DAYLIGHT
BEGIN:STANDARD
TZOFFSETFROM:+0200
TZOFFSETTO:+0100
TZNAME:CET
DTSTART:20181028T010000
END:STANDARD
BEGIN:DAYLIGHT
TZOFFSETFROM:+0100
TZOFFSETTO:+0200
TZNAME:CEST
DTSTART:20190331T010000
END:DAYLIGHT
BEGIN:STANDARD
TZOFFSETFROM:+0200
TZOFFSETTO:+0100
TZNAME:CET
DTSTART:20191027T010000
END:STANDARD
BEGIN:DAYLIGHT
TZOFFSETFROM:+0100
TZOFFSETTO:+0200
TZNAME:CEST
DTSTART:20200329T010000
END:DAYLIGHT
BEGIN:STANDARD
TZOFFSETFROM:+0200
TZOFFSETTO:+0100
TZNAME:CET
DTSTART:20201025T010000
END:STANDARD
BEGIN:DAYLIGHT
TZOFFSETFROM:+0100
TZOFFSETTO:+0200
TZNAME:CEST
DTSTART:20210328T010000
END:DAYLIGHT
BEGIN:STANDARD
TZOFFSETFROM:+0200
TZOFFSETTO:+0100
TZNAME:CET
DTSTART:20211031T010000
END:STANDARD
BEGIN:DAYLIGHT
TZOFFSETFROM:+0100
TZOFFSETTO:+0200
TZNAME:CEST
DTSTART:20220327T010000
END:DAYLIGHT
BEGIN:STANDARD
TZOFFSETFROM:+0200
TZOFFSETTO:+0100
TZNAME:CET
DTSTART:20221030T010000
END:STANDARD
BEGIN:DAYLIGHT
TZOFFSETFROM:+0100
TZOFFSETTO:+0200
TZNAME:CEST
DTSTART:20230326T010000
END:DAYLIGHT
BEGIN:STANDARD
TZOFFSETFROM:+0200
TZOFFSETTO:+0100
TZNAME:CET
DTSTART:20231029T010000
END:STANDARD
END:VTIMEZONE
BEGIN:VEVENT
DTSTART;VALUE=DATE:20220903
DTEND;VALUE=DATE:20221012
DTSTAMP:20260421T133655
CREATED:20240421T141748Z
LAST-MODIFIED:20240421T141748Z
UID:10000316-1662163200-1665532799@fondazionegiovannisantinets.it
SUMMARY:INFRASUB DANIELE PUPPI
DESCRIPTION:Cari Amici\, cari Soci\,eccoci pronti a ricominciare la nostra attività dopo la pausa estiva.Torna la rassegna “Artisti in Dialogo” che quest’anno vedrà come primo protagonista l’artista Daniele Puppi per un doppio evento speciale.Venerdì 2 settembre 2022 alle ore 21 a Cinemazero  Daniele Puppi in dialogo con Bruno Di Marino\, storico dell’immagine in movimento. A seguire dalle ore 22.15 nelle sale di Cinemazero\, proiezione di quattro lavori selezionati dall’artista.Sabato 3 settembre 2022 alle ore 18 a Casa Furlan in via Mazzini 53\, inaugurazione della mostra INFRASUB con un’opera creata dall’artista espressamente per l’occasione.Daniele Puppi\, cordenonese di nascita\, torna nel suo territorio dopo una carriera nel campo della video-arte sviluppatasi non solo a livello nazionale ma anche internazionale\, spaziando dall’Europa agli Stati Uniti. L’Associazione “Amici di Parco” vuole far conoscere la sua ricerca artistica nel suo territorio con un evento in grado di polarizzare le tematiche a lui care ed allo stesso tempo all’altezza della sua notorietà.L’evento è promosso in collaborazione e con il contributo di Cinemazero e della Fondazione Ado Furlan.Sperando nella vostra numerosa partecipazione in questa occasione unica\,Il Presidente \nRenzo Spadotto
URL:https://fondazionegiovannisantinets.it/events/infrasub-daniele-puppi/
CATEGORIES:Mostre
ATTACH;FMTTYPE=image/jpeg:https://fondazionegiovannisantinets.it/wp-content/uploads/2024/04/daniele_puppi_infrasub_fondazione_furlan-bqpkc9sbxw.jpg
END:VEVENT
BEGIN:VEVENT
DTSTART;VALUE=DATE:20170429
DTEND;VALUE=DATE:20170529
DTSTAMP:20260421T133655
CREATED:20240419T210456Z
LAST-MODIFIED:20240419T210456Z
UID:10000192-1493424000-1496015999@fondazionegiovannisantinets.it
SUMMARY:PIERGIORGIO DEL BEN MIND VOGUE
DESCRIPTION:COMUNICATO STAMPA \nMostra personale d’arte contemporanea opere di Piergiorgio Del Ben \na cura di Renzo Spadotto \nintervento critico di Alessandra Santin \n\n			\n				\n			\n			\n				\n			\n			\n				\n			\n			\n				\n			\n			\n				\n			\n			\n				\n			\n			\n				\n			\n			\n				\n			\n			\n				\n			\n			\n				\n			\n			\n				\n			\n			\n				\n			\n			\n				\n			\n			\n				\n			\n			\n				\n			\n			\n				\n			\n			\n				\n			\n			\n				\n			\n			\n				\n			\n			\n				\n			\n			\n				\n			\n			\n				\n			\n			\n				\n			\n		\n\nL’Associazione culturale Woland Art Club e la Fondazione Giovanni Santin Onlus presentano la Mostra Personale MIND VOGUE dell’artista Piergiorgio Del Ben\, a cura di Renzo Spadotto. L’esposizione\, che ha luogo dal 29 Aprile al 28 maggio 2017\, nella galleria di Woland Art Club\, in via Le Botteghe 1 a Portopiccolo Sistiana (TS)\, vedrà esposte le opere più recenti di Piergiorgio Del Ben. I tratti distintivi delle celebri serie Business Story e Anonymous Project si coniugano perfettamente con la nuova collezione MIND VOGUE\, confermando le modalità stilistiche codificate\, le cifre che rendono riconoscibile la produzione dell’artista. \nIl percorso di ricerca di Piergiorgio Del Ben\, la cui poetica pone in rilievo la crisi d’identità dell’uomo d’oggi\, dà risalto alla tragicità dei personaggi raffigurati. In linea con le problematiche caratteristiche del mondo contemporaneo\, in queste sue opere affiora la spersonalizzazione dell’individuo\, la perdita dell’interiorità e della soggettività\, l’uniformità imposta dalla moda e dalle regole sociali. \nL’esposizione nella sua complessità propone una riflessione sulla società del presente che evidenzia l’importanza dell’apparire a discapito dell’essere\, mettendo in crisi la soggettività e le manifestazioni delle diversità individuali. Il processo di omologazione è rappresentato attraverso la cancellazione dei tratti distintivi\, anche fisiognomici\, che rendono ciascuna persona unica\, indicibile e insostituibile. \nCampiture sature di colore compatto\, privo di velature\, annullano ogni profondità e azzerano prospettive e quotidianità dei luoghi\, enfatizzando le categorie concettuali ispirative. Texture ricercate\, composte di dettagli e piccoli particolari grafici costituiscono forme di scrittura inedita\, rappresentazioni decorative che suggeriscono la superficialità e vacuità della comunicazione mediatica. \n\n\n29 Aprile – 28 Maggio 2017 \norari apertura: da venerdì a domenica 11:00-17:00 Inaugurazione Sabato 29 Aprile 2017 ore 18:00 Portopiccolo\, Sistiana 231 \n34013 Trieste – Italy \nPer informazioni e visite guidate: Woland Art Club \nT: 040 9976630 info@wolandartclub.com www.wolandartclub.com
URL:https://fondazionegiovannisantinets.it/events/piergiorgio-del-ben-mind-vogue/
LOCATION:WOLAND ART CLUB\, Sistiana 231\, Portopiccolo\, Italia
CATEGORIES:Mostre
ATTACH;FMTTYPE=image/jpeg:https://fondazionegiovannisantinets.it/wp-content/uploads/2024/04/piergiorgio-w8epskrufp.jpg
END:VEVENT
END:VCALENDAR