BEGIN:VCALENDAR
VERSION:2.0
PRODID:-//Fondazione Giovanni Santin ETS - ECPv6.15.14//NONSGML v1.0//EN
CALSCALE:GREGORIAN
METHOD:PUBLISH
X-WR-CALNAME:Fondazione Giovanni Santin ETS
X-ORIGINAL-URL:https://fondazionegiovannisantinets.it
X-WR-CALDESC:Eventi per Fondazione Giovanni Santin ETS
REFRESH-INTERVAL;VALUE=DURATION:PT1H
X-Robots-Tag:noindex
X-PUBLISHED-TTL:PT1H
BEGIN:VTIMEZONE
TZID:Europe/Rome
BEGIN:DAYLIGHT
TZOFFSETFROM:+0100
TZOFFSETTO:+0200
TZNAME:CEST
DTSTART:20140330T010000
END:DAYLIGHT
BEGIN:STANDARD
TZOFFSETFROM:+0200
TZOFFSETTO:+0100
TZNAME:CET
DTSTART:20141026T010000
END:STANDARD
BEGIN:DAYLIGHT
TZOFFSETFROM:+0100
TZOFFSETTO:+0200
TZNAME:CEST
DTSTART:20150329T010000
END:DAYLIGHT
BEGIN:STANDARD
TZOFFSETFROM:+0200
TZOFFSETTO:+0100
TZNAME:CET
DTSTART:20151025T010000
END:STANDARD
BEGIN:DAYLIGHT
TZOFFSETFROM:+0100
TZOFFSETTO:+0200
TZNAME:CEST
DTSTART:20160327T010000
END:DAYLIGHT
BEGIN:STANDARD
TZOFFSETFROM:+0200
TZOFFSETTO:+0100
TZNAME:CET
DTSTART:20161030T010000
END:STANDARD
END:VTIMEZONE
BEGIN:VEVENT
DTSTART;VALUE=DATE:20150424
DTEND;VALUE=DATE:20150425
DTSTAMP:20260422T010716
CREATED:20240418T190217Z
LAST-MODIFIED:20240418T190217Z
UID:10000136-1429833600-1429919999@fondazionegiovannisantinets.it
SUMMARY:PATRIZIA SERENA
DESCRIPTION:La Fondazione Giovanni Santin Onlus ha sostenuto l’evento che si è svolto sabato 24 Aprile 2015\, presso l’Hotel Santin\, a Pordenone in via delle Grazie 9. Durante la degustazioni di vini\, offerti dalla cantina Rive Col de Fer di Caneva\, si sono potuti ammirare i Mosaici dell’artista Patrizia Serena. \n 
URL:https://fondazionegiovannisantinets.it/events/patrizia-serena/
LOCATION:Galleria d’Arte Hotel Santin\, Via delle Grazie 9\, Pordenone\, 33170\, Italia
CATEGORIES:Mostre
ATTACH;FMTTYPE=image/jpeg:https://fondazionegiovannisantinets.it/wp-content/uploads/2024/04/evento_giovanna-7ixkpsthtg.jpg
END:VEVENT
END:VCALENDAR