BEGIN:VCALENDAR
VERSION:2.0
PRODID:-//Fondazione Giovanni Santin ETS - ECPv6.15.14//NONSGML v1.0//EN
CALSCALE:GREGORIAN
METHOD:PUBLISH
X-WR-CALNAME:Fondazione Giovanni Santin ETS
X-ORIGINAL-URL:https://fondazionegiovannisantinets.it
X-WR-CALDESC:Eventi per Fondazione Giovanni Santin ETS
REFRESH-INTERVAL;VALUE=DURATION:PT1H
X-Robots-Tag:noindex
X-PUBLISHED-TTL:PT1H
BEGIN:VTIMEZONE
TZID:Europe/Rome
BEGIN:DAYLIGHT
TZOFFSETFROM:+0100
TZOFFSETTO:+0200
TZNAME:CEST
DTSTART:20160327T010000
END:DAYLIGHT
BEGIN:STANDARD
TZOFFSETFROM:+0200
TZOFFSETTO:+0100
TZNAME:CET
DTSTART:20161030T010000
END:STANDARD
BEGIN:DAYLIGHT
TZOFFSETFROM:+0100
TZOFFSETTO:+0200
TZNAME:CEST
DTSTART:20170326T010000
END:DAYLIGHT
BEGIN:STANDARD
TZOFFSETFROM:+0200
TZOFFSETTO:+0100
TZNAME:CET
DTSTART:20171029T010000
END:STANDARD
BEGIN:DAYLIGHT
TZOFFSETFROM:+0100
TZOFFSETTO:+0200
TZNAME:CEST
DTSTART:20180325T010000
END:DAYLIGHT
BEGIN:STANDARD
TZOFFSETFROM:+0200
TZOFFSETTO:+0100
TZNAME:CET
DTSTART:20181028T010000
END:STANDARD
END:VTIMEZONE
BEGIN:VEVENT
DTSTART;VALUE=DATE:20170402
DTEND;VALUE=DATE:20170429
DTSTAMP:20260420T001848
CREATED:20240419T210025Z
LAST-MODIFIED:20240419T210025Z
UID:10000191-1491091200-1493423999@fondazionegiovannisantinets.it
SUMMARY:OLAJOS GYÖRGY
DESCRIPTION:Ho studiato all’ Accademia  delle Belle Arti Ungheresi alla facoltá al corso di grafica tra il 1979 e il 1985. Ancora durante gli anni accademici ho partecipato con successo alla Biennale Grafico\, e da allora ho ricevuto numerosi premi\, nel 2001 mi é stato segnato il premio Munkácsy. Grazie a borse di studio e altri inviti sono riuscito a esporre i miei lavori in numerose cittá Europee e sono riuscito a partecipare interessanti viaggi relativi al campo artistico. L’amore per le filisofie orientali e i materiali naturali con l’aggiunta dell’utilizzo di tecniche antiche caratterizzano il mio lavoro. \nDa sempre cerco di tramandare alle nuove generazioni di artisti e studenti valori\, come il rispetto per la natura\, l’impegno della coerenza tra arte e ragione e la costante voglia di perfezionare le tecniche utilizzate.
URL:https://fondazionegiovannisantinets.it/events/olajos-gyorgy/
LOCATION:Museum Hotel Budapest\, Trefort utca 2\, Budapest\, 1088\, Ungheria
CATEGORIES:Mostre
ATTACH;FMTTYPE=image/jpeg:https://fondazionegiovannisantinets.it/wp-content/uploads/2024/04/img_3991-bq8t2e6cje.jpg
END:VEVENT
END:VCALENDAR