BEGIN:VCALENDAR
VERSION:2.0
PRODID:-//Fondazione Giovanni Santin ETS - ECPv6.15.14//NONSGML v1.0//EN
CALSCALE:GREGORIAN
METHOD:PUBLISH
X-ORIGINAL-URL:https://fondazionegiovannisantinets.it
X-WR-CALDESC:Eventi per Fondazione Giovanni Santin ETS
REFRESH-INTERVAL;VALUE=DURATION:PT1H
X-Robots-Tag:noindex
X-PUBLISHED-TTL:PT1H
BEGIN:VTIMEZONE
TZID:Europe/Rome
BEGIN:DAYLIGHT
TZOFFSETFROM:+0100
TZOFFSETTO:+0200
TZNAME:CEST
DTSTART:20150329T010000
END:DAYLIGHT
BEGIN:STANDARD
TZOFFSETFROM:+0200
TZOFFSETTO:+0100
TZNAME:CET
DTSTART:20151025T010000
END:STANDARD
BEGIN:DAYLIGHT
TZOFFSETFROM:+0100
TZOFFSETTO:+0200
TZNAME:CEST
DTSTART:20160327T010000
END:DAYLIGHT
BEGIN:STANDARD
TZOFFSETFROM:+0200
TZOFFSETTO:+0100
TZNAME:CET
DTSTART:20161030T010000
END:STANDARD
BEGIN:DAYLIGHT
TZOFFSETFROM:+0100
TZOFFSETTO:+0200
TZNAME:CEST
DTSTART:20170326T010000
END:DAYLIGHT
BEGIN:STANDARD
TZOFFSETFROM:+0200
TZOFFSETTO:+0100
TZNAME:CET
DTSTART:20171029T010000
END:STANDARD
END:VTIMEZONE
BEGIN:VEVENT
DTSTART;VALUE=DATE:20160531
DTEND;VALUE=DATE:20160601
DTSTAMP:20260421T034714
CREATED:20240416T200522Z
LAST-MODIFIED:20240421T192807Z
UID:10000058-1464652800-1464739199@fondazionegiovannisantinets.it
SUMMARY:I MAESTRI DEL 900 NANE ZAVAGNO 2
DESCRIPTION:Il giorno in cui ho visitato lo studio del Maestro Nane Zavagno\, era una giornata ventosa come oggi.\nMentre chiacchieravamo\, osservavo le fronde delle betulle ondeggiare in giardino. All’interno dello studio tutto era apparentemente fermo ed immobile.\nGuardando poi queste piccole sculture appoggiate sul davanzale\, ho dovuto ricredermi: erano così vive e capaci di creare il legame perfetto tra interno ed esterno! \nMai avrei mai pensato di diventare così avida di autografi! Uno dei momenti che mi piace di più delle visite agli studi dei ‪#‎MaestriDelNovencento‬ è proprio quello in cui mi omaggiano di un loro catalogo e me lo dedicano\, proprio perché quel libricino mi ricorderà sempre di quelle ore preziose passate a respirare acquaragia e colori. \n \nNella foto il Maestro Nane Zavagno mentre firma uno dei suoi ultimi cataloghi. \nPer Nane Zavagno (1932) gli elementi basilari sono il punto – da cui ha origine tutto – e la linea che non è altro che la continuazione di una serie di punti.\nLa linea può proseguire perfettamente dritta o curvare\, nel caso in cui vogliamo incroci il primo punto che si è lasciata alle spalle. \n\nIl punto\nLa linea\nIl cerchio\nIl quadrato\nIl triangolo\nNon esistono altre forme.\nTutto si riduce lì. È solo con la composizione di queste forme che ne originiamo altre. \n \n‪#‎NaneZavagno‬ ‪#‎IMaestriDelNovecento‬ ‪#‎FondazioneGiovanniSantinOnlus‬ Fondazione Giovanni Santin onlus
URL:https://fondazionegiovannisantinets.it/events/i-maestri-del-900-nane-zavagno-2/
CATEGORIES:Attività
ATTACH;FMTTYPE=image/jpeg:https://fondazionegiovannisantinets.it/wp-content/uploads/2024/04/nane_zavagno3-zqousjmw0.jpg
END:VEVENT
BEGIN:VEVENT
DTSTART;VALUE=DATE:20160401
DTEND;VALUE=DATE:20160402
DTSTAMP:20260421T034714
CREATED:20240416T194409Z
LAST-MODIFIED:20240421T193005Z
UID:10000051-1459468800-1459555199@fondazionegiovannisantinets.it
SUMMARY:I MAESTRI DEL NOVECENTO NANE ZAVAGNO
DESCRIPTION:Nane Zavagno \nNane Zavagno\, classe 1932\, è un artista friulano di fama internazionale. Ho avuto il privilegio di incontrarlo per conto della Fondazione Giovanni Santin onlus e di sentire il suo interessante parere sulle diverse forme artistiche.Non appena si raggiunge la piccola strada che porta allo studio di Nane Zavagno – pittore\, scultore\, mosaicista\, artista a tutto campo friulano – ci si rende conto di arrivare in un posto magico. Le sculture in rete metallica si confondono tra le betulle del giardino. La scelta della rete è voluta dall’artista per permettere la completa visione degli altri elementi architettonici e paesaggistici.  \n\n  \nAdoro questa foto con il Maestro Nane Zavagno nel suo studio di Pinzano al Tagliamento. Cercavo disperatamente di essere concentrata\, ma essere “accerchiata” da così tanta bellezza\, ha reso le cose cose davvero difficili. \nLa prima cosa che ho visto entrando nello studio di ‪#‎NaneZavagno‬ è stata questa serie di mosaici.\nIn queste opere è facile scorgere il caratteristico segno del Maestro friulano\, ma anche la continua sperimentazione e ricerca. A quello che è diventato “il classico contemporaneo” Nane Zavagno dona – grazie agli smalti colorati e ai sassi neri – un impatto estetico grafico del tutto nuovo.
URL:https://fondazionegiovannisantinets.it/events/i-maestri-del-novecento-nane-zavagno/
CATEGORIES:Attività
ATTACH;FMTTYPE=image/jpeg:https://fondazionegiovannisantinets.it/wp-content/uploads/2024/04/studio_nane_zavagno_2-d86ic73kk.jpg
END:VEVENT
END:VCALENDAR