BEGIN:VCALENDAR
VERSION:2.0
PRODID:-//Fondazione Giovanni Santin ETS - ECPv6.15.14//NONSGML v1.0//EN
CALSCALE:GREGORIAN
METHOD:PUBLISH
X-WR-CALNAME:Fondazione Giovanni Santin ETS
X-ORIGINAL-URL:https://fondazionegiovannisantinets.it
X-WR-CALDESC:Eventi per Fondazione Giovanni Santin ETS
REFRESH-INTERVAL;VALUE=DURATION:PT1H
X-Robots-Tag:noindex
X-PUBLISHED-TTL:PT1H
BEGIN:VTIMEZONE
TZID:Europe/Rome
BEGIN:DAYLIGHT
TZOFFSETFROM:+0100
TZOFFSETTO:+0200
TZNAME:CEST
DTSTART:20140330T010000
END:DAYLIGHT
BEGIN:STANDARD
TZOFFSETFROM:+0200
TZOFFSETTO:+0100
TZNAME:CET
DTSTART:20141026T010000
END:STANDARD
BEGIN:DAYLIGHT
TZOFFSETFROM:+0100
TZOFFSETTO:+0200
TZNAME:CEST
DTSTART:20150329T010000
END:DAYLIGHT
BEGIN:STANDARD
TZOFFSETFROM:+0200
TZOFFSETTO:+0100
TZNAME:CET
DTSTART:20151025T010000
END:STANDARD
BEGIN:DAYLIGHT
TZOFFSETFROM:+0100
TZOFFSETTO:+0200
TZNAME:CEST
DTSTART:20160327T010000
END:DAYLIGHT
BEGIN:STANDARD
TZOFFSETFROM:+0200
TZOFFSETTO:+0100
TZNAME:CET
DTSTART:20161030T010000
END:STANDARD
END:VTIMEZONE
BEGIN:VEVENT
DTSTART;VALUE=DATE:20150601
DTEND;VALUE=DATE:20150629
DTSTAMP:20260421T235338
CREATED:20240418T190900Z
LAST-MODIFIED:20240418T190900Z
UID:10000139-1433116800-1435535999@fondazionegiovannisantinets.it
SUMMARY:AGNES VARGA
DESCRIPTION:La Fondazione Giovanni Santin Onlus ha esposto le opere di Agnes Varga presso la galleria d’arte dell’Hotel Museum di Budapest dal 01 Giugno al 28 Giugno 2015. La mostra è stata curata da Marta Czinder Manyain. \n       \n 
URL:https://fondazionegiovannisantinets.it/events/agnes-varga/
LOCATION:Museum Hotel Budapest\, Trefort utca 2\, Budapest\, 1088\, Ungheria
CATEGORIES:Mostre
ATTACH;FMTTYPE=image/jpeg:https://fondazionegiovannisantinets.it/wp-content/uploads/2024/04/volantino_agnes-cgid9yz74g.jpg
END:VEVENT
BEGIN:VEVENT
DTSTART;VALUE=DATE:20150203
DTEND;VALUE=DATE:20150301
DTSTAMP:20260421T235338
CREATED:20240418T175609Z
LAST-MODIFIED:20240418T175609Z
UID:10000117-1422921600-1425167999@fondazionegiovannisantinets.it
SUMMARY:SZENTPÉTERVÀRI LUDMILLA
DESCRIPTION:udmilla Szentpétervari è nata a San Pietroburgo il 20 gennaio 1956 e a 27 anni si trasferisce in Ungheria. \nFin da bambina il disegno e la pittura catturano la sua attenzione\, a questa passione dedica i suoi studi universitari. Tutta la sua vita è influenzata dalla ricchezza artistica della sua città natale. \nI dipinti parlano di umanità\, comprensione dell’universo\, approccio con la religione e amore. \nI suoi lavori sono espressione di movimento e giochi di luce cercando di rendere visibile l’invisibile\, penetrando il tempo del mondo\, unendo alla bellezza della vita materiale le infinite forme di esistenza. \nL’esposizione si è tenuta presso la Galleria d’arte dell’Hotel Museum di Budapest\, con la curatela di Marta Czinder Mányainé.
URL:https://fondazionegiovannisantinets.it/events/szentpetervari-ludmilla/
LOCATION:Museum Hotel Budapest\, Trefort utca 2\, Budapest\, 1088\, Ungheria
CATEGORIES:Mostre
ATTACH;FMTTYPE=image/png:https://fondazionegiovannisantinets.it/wp-content/uploads/2024/04/manifesto_ludmilla-iul4367wrs.png
END:VEVENT
END:VCALENDAR