BEGIN:VCALENDAR
VERSION:2.0
PRODID:-//Fondazione Giovanni Santin ETS - ECPv6.15.20//NONSGML v1.0//EN
CALSCALE:GREGORIAN
METHOD:PUBLISH
X-ORIGINAL-URL:https://fondazionegiovannisantinets.it
X-WR-CALDESC:Eventi per Fondazione Giovanni Santin ETS
REFRESH-INTERVAL;VALUE=DURATION:PT1H
X-Robots-Tag:noindex
X-PUBLISHED-TTL:PT1H
BEGIN:VTIMEZONE
TZID:Europe/Rome
BEGIN:DAYLIGHT
TZOFFSETFROM:+0100
TZOFFSETTO:+0200
TZNAME:CEST
DTSTART:20210328T010000
END:DAYLIGHT
BEGIN:STANDARD
TZOFFSETFROM:+0200
TZOFFSETTO:+0100
TZNAME:CET
DTSTART:20211031T010000
END:STANDARD
BEGIN:DAYLIGHT
TZOFFSETFROM:+0100
TZOFFSETTO:+0200
TZNAME:CEST
DTSTART:20220327T010000
END:DAYLIGHT
BEGIN:STANDARD
TZOFFSETFROM:+0200
TZOFFSETTO:+0100
TZNAME:CET
DTSTART:20221030T010000
END:STANDARD
BEGIN:DAYLIGHT
TZOFFSETFROM:+0100
TZOFFSETTO:+0200
TZNAME:CEST
DTSTART:20230326T010000
END:DAYLIGHT
BEGIN:STANDARD
TZOFFSETFROM:+0200
TZOFFSETTO:+0100
TZNAME:CET
DTSTART:20231029T010000
END:STANDARD
END:VTIMEZONE
BEGIN:VEVENT
DTSTART;VALUE=DATE:20220315
DTEND;VALUE=DATE:20220316
DTSTAMP:20260425T202022
CREATED:20240418T165727Z
LAST-MODIFIED:20240421T192249Z
UID:10000104-1647302400-1647388799@fondazionegiovannisantinets.it
SUMMARY:DONNE PROTAGONISTE 2022 - VISITA DEGLI ALUNNI DELLA SCUOLA PRIMARIA "L. GABELLI"
DESCRIPTION:Questa mattina Alessandra Santin\, Lorena Blarasin  ed io abbiamo avuto il piacere di ospitare al Casello di Guardia due classi della scuola elementare “Gabelli” di Porcia per la visita guidata alla mostra Note a margine.\n\nÈ stata un incontro di quelli che “lasciano il segno”: vedere con quanta attenzione questi bambini hanno seguito le spiegazioni di Alessandra Santin ed ascoltare le loro osservazioni puntuali e pertinenti mi ha riempito il cuore di gioia. Da vecchia insegnante in pensione devo fare i miei complimenti alle insegnanti per queste due classi di piccoli studenti educati e che hanno saputo ascoltare una vera lezione di storia dell’arte con curiosità ed interesse.\n\nChe cos’è l’arte contemporanea? quali sono le sue caratteristiche? le  tecniche degli artisti? quali messaggi vogliono trasmettere? alcuni dei temi trattati con quella che si suole definire “capacità maieutica” da Alessandra che ringraziamo per la sua capacità di rendere semplici e chiari concetti che sicuramente non lo sono.\n\nMi piace condividere il messaggio di una delle maestre\, Valentina Vivian.\n\nA seguito della visita “Donne protagoniste 2022” presso il Casello di Guardia noi insegnanti delle classi quarte della scuola primaria “Gabelli” di Porcia ci teniamo a ringraziare la vice sindaco Blarasin\, la critica d’ arte dott.ssa Alessandra Santin e la professoressa Franca Benvenuti per la disponibilità ad accogliere le nostre classi in occasione della mostra per farcela vivere con gli occhi del cuore.\nAbbiamo imparato molte cose…un’ esperienza che ci aiuterà a riempire la nostra “valigia” ..una piccola tessera  del nostro puzzle…\nSiamo riconoscenti\, speriamo a breve di poterci incontrare.\nFranca Benvenuti\n\n\n\n			\n				\n			\n			\n				\n			\n			\n				\n			\n			\n				\n			\n		\n\n\n 
URL:https://fondazionegiovannisantinets.it/events/donne-protagoniste-2022-visita-degli-alunni-della-scuola-primaria-l-gabelli/
LOCATION:Casello di Guardia\, Via Antonio De Pellegrini\, Porcia\, 33080\, Italia
CATEGORIES:Attività
ATTACH;FMTTYPE=image/jpeg:https://fondazionegiovannisantinets.it/wp-content/uploads/2024/04/thumbnail-3-5.jpeg
END:VEVENT
END:VCALENDAR