BEGIN:VCALENDAR
VERSION:2.0
PRODID:-//Fondazione Giovanni Santin ETS - ECPv6.15.14//NONSGML v1.0//EN
CALSCALE:GREGORIAN
METHOD:PUBLISH
X-WR-CALNAME:Fondazione Giovanni Santin ETS
X-ORIGINAL-URL:https://fondazionegiovannisantinets.it
X-WR-CALDESC:Eventi per Fondazione Giovanni Santin ETS
REFRESH-INTERVAL;VALUE=DURATION:PT1H
X-Robots-Tag:noindex
X-PUBLISHED-TTL:PT1H
BEGIN:VTIMEZONE
TZID:Europe/Rome
BEGIN:DAYLIGHT
TZOFFSETFROM:+0100
TZOFFSETTO:+0200
TZNAME:CEST
DTSTART:20160327T010000
END:DAYLIGHT
BEGIN:STANDARD
TZOFFSETFROM:+0200
TZOFFSETTO:+0100
TZNAME:CET
DTSTART:20161030T010000
END:STANDARD
BEGIN:DAYLIGHT
TZOFFSETFROM:+0100
TZOFFSETTO:+0200
TZNAME:CEST
DTSTART:20170326T010000
END:DAYLIGHT
BEGIN:STANDARD
TZOFFSETFROM:+0200
TZOFFSETTO:+0100
TZNAME:CET
DTSTART:20171029T010000
END:STANDARD
BEGIN:DAYLIGHT
TZOFFSETFROM:+0100
TZOFFSETTO:+0200
TZNAME:CEST
DTSTART:20180325T010000
END:DAYLIGHT
BEGIN:STANDARD
TZOFFSETFROM:+0200
TZOFFSETTO:+0100
TZNAME:CET
DTSTART:20181028T010000
END:STANDARD
END:VTIMEZONE
BEGIN:VEVENT
DTSTART;TZID=Europe/Rome:20170309T080000
DTEND;TZID=Europe/Rome:20170309T170000
DTSTAMP:20260422T133612
CREATED:20240419T204223Z
LAST-MODIFIED:20240419T204223Z
UID:10000187-1489046400-1489078800@fondazionegiovannisantinets.it
SUMMARY:Viale Marconi
DESCRIPTION:“VIALE MARCONI” \n  \n“Da tempo\, su fb\, ho comunicato che questo sarebbe stato il titolo del prossimo romanzo. Ecco oggi la copertina\, che riproduce una china su carta di Ado Scaini degli inizi degli anni novanta\, “Città da 150.000.000” (di abitanti\, ndr). Lui sognava megalopoli e le disegnava su grandi fogli della Cartiera Galvani. Sono opere a mio parere bellissime\, ne potrete ammirare una il 9 marzo\, alla presentazione del libro nella sala grande dell’ex-convento di San Francesco\, in piazza della Motta in città. Discuterò con Marco Minuz del libro. E ci sarà anche Ado\, ovviamente in carne ed ossa: se ci fosse qualche San Tommaso che volesse controllare\, si presterà. Orazio Cantiello e il suo “Omino Rosso”\, il Circolo della Cultura e delle Arti\, Alessandra ed Alessandro Santin della Fondazione Santin ed io vi aspettiamo con piacere. Grazie fin d’ora.” \nGianni Zanolin
URL:https://fondazionegiovannisantinets.it/events/viale-marconi/
CATEGORIES:Mostre
ATTACH;FMTTYPE=image/jpeg:https://fondazionegiovannisantinets.it/wp-content/uploads/2024/04/16991874_1840010372883699_4244937889320476639_o1.jpg
END:VEVENT
END:VCALENDAR