BEGIN:VCALENDAR
VERSION:2.0
PRODID:-//Fondazione Giovanni Santin ETS - ECPv6.15.14//NONSGML v1.0//EN
CALSCALE:GREGORIAN
METHOD:PUBLISH
X-ORIGINAL-URL:https://fondazionegiovannisantinets.it
X-WR-CALDESC:Eventi per Fondazione Giovanni Santin ETS
REFRESH-INTERVAL;VALUE=DURATION:PT1H
X-Robots-Tag:noindex
X-PUBLISHED-TTL:PT1H
BEGIN:VTIMEZONE
TZID:Europe/Rome
BEGIN:DAYLIGHT
TZOFFSETFROM:+0100
TZOFFSETTO:+0200
TZNAME:CEST
DTSTART:20150329T010000
END:DAYLIGHT
BEGIN:STANDARD
TZOFFSETFROM:+0200
TZOFFSETTO:+0100
TZNAME:CET
DTSTART:20151025T010000
END:STANDARD
BEGIN:DAYLIGHT
TZOFFSETFROM:+0100
TZOFFSETTO:+0200
TZNAME:CEST
DTSTART:20160327T010000
END:DAYLIGHT
BEGIN:STANDARD
TZOFFSETFROM:+0200
TZOFFSETTO:+0100
TZNAME:CET
DTSTART:20161030T010000
END:STANDARD
BEGIN:DAYLIGHT
TZOFFSETFROM:+0100
TZOFFSETTO:+0200
TZNAME:CEST
DTSTART:20170326T010000
END:DAYLIGHT
BEGIN:STANDARD
TZOFFSETFROM:+0200
TZOFFSETTO:+0100
TZNAME:CET
DTSTART:20171029T010000
END:STANDARD
END:VTIMEZONE
BEGIN:VEVENT
DTSTART;VALUE=DATE:20161010
DTEND;VALUE=DATE:20161011
DTSTAMP:20260421T122132
CREATED:20240419T200240Z
LAST-MODIFIED:20240419T200240Z
UID:10000179-1476057600-1476143999@fondazionegiovannisantinets.it
SUMMARY:GIANCARLO TEARDO
DESCRIPTION:Teadro Giancarlo \nPittore\, incisore. \n  \nLa grande passione e l’amore per la pittura l’hanno spinto per molti anni a svolgere una lunga e intensa ricerca stilistica\, sperimentando diverse tecniche\, cimentandosi dall’acquerello all’olio\, alla matita grassa e al pastello con la quale\, ha intrapreso il suo ultimo percorso. Giancarlo Teardo si è dedicato per vari anni\, all’insegnamento della tecnica dell’acquerello e del colore a olio e una schiera di allievi hanno seguite le sue orme. \nLa sua grande passione è da sempre stato il paesaggio che lo ha spinto a dipingere romantici scorci in più di mezza Italia. \nSi è anche cimentato con le natura morte e da ultimo con la figura e in particolare il ritratto. \nLusinghiere le critiche di autorevoli esperti\, che hanno definito la produzione di Teardo «un appello a risvegliarci dall’indifferenza che avvolge la nostra cultura\, per riscoprire quella concezione secondo la quale tutto è vivo e tutto canta». I segni e i colori di Teardo «delineano i tratti sostanziali del paesaggio»\, la sua è una «tavolozza che si distende sulla tela con risultati definibili come ottima armonizzazione di atmosfera e grammatica friulana»\, mentre «veneti sono il respiro e la tenerezza degli ocra come dei rosati». \nDi lui hanno parlato e scritto: S. Manfrin\, Luciano Padovese\, Paolo Rizzi\, Enzo Santese\, Alessandra Santin\, Ruggero Sicurtelli e molti altri. \n\n			\n				\n			\n			\n				\n			\n			\n				\n			\n			\n				\n			\n			\n				\n			\n			\n				\n			\n			\n				\n			\n			\n				\n			\n		\n\nHa alle spalle una carriera artistica di lungo corso\, arricchita non soltanto dalle numerose mostre personali allestite in tutto il nord Italia\, e dalle mostre collettive di gruppo\, ma soprattutto Giancarlo Teardo è conosciuto ad apprezzato\, dalla critica e dal pubblico di appassionati d’arte\, grazie ai numerosi premi conseguiti grazie alle sue opere esposte in concorsi sia in Italia che in numerosi paesi europei.
URL:https://fondazionegiovannisantinets.it/events/giancarlo-teardo/
CATEGORIES:Mostre
ATTACH;FMTTYPE=image/jpeg:https://fondazionegiovannisantinets.it/wp-content/uploads/2024/04/img_1200-2txtcci6ws.jpg
END:VEVENT
END:VCALENDAR