BEGIN:VCALENDAR
VERSION:2.0
PRODID:-//Fondazione Giovanni Santin ETS - ECPv6.15.14//NONSGML v1.0//EN
CALSCALE:GREGORIAN
METHOD:PUBLISH
X-ORIGINAL-URL:https://fondazionegiovannisantinets.it
X-WR-CALDESC:Eventi per Fondazione Giovanni Santin ETS
REFRESH-INTERVAL;VALUE=DURATION:PT1H
X-Robots-Tag:noindex
X-PUBLISHED-TTL:PT1H
BEGIN:VTIMEZONE
TZID:Europe/Rome
BEGIN:DAYLIGHT
TZOFFSETFROM:+0100
TZOFFSETTO:+0200
TZNAME:CEST
DTSTART:20150329T010000
END:DAYLIGHT
BEGIN:STANDARD
TZOFFSETFROM:+0200
TZOFFSETTO:+0100
TZNAME:CET
DTSTART:20151025T010000
END:STANDARD
BEGIN:DAYLIGHT
TZOFFSETFROM:+0100
TZOFFSETTO:+0200
TZNAME:CEST
DTSTART:20160327T010000
END:DAYLIGHT
BEGIN:STANDARD
TZOFFSETFROM:+0200
TZOFFSETTO:+0100
TZNAME:CET
DTSTART:20161030T010000
END:STANDARD
BEGIN:DAYLIGHT
TZOFFSETFROM:+0100
TZOFFSETTO:+0200
TZNAME:CEST
DTSTART:20170326T010000
END:DAYLIGHT
BEGIN:STANDARD
TZOFFSETFROM:+0200
TZOFFSETTO:+0100
TZNAME:CET
DTSTART:20171029T010000
END:STANDARD
END:VTIMEZONE
BEGIN:VEVENT
DTSTART;VALUE=DATE:20160611
DTEND;VALUE=DATE:20160711
DTSTAMP:20260422T163313
CREATED:20240418T200943Z
LAST-MODIFIED:20240421T105106Z
UID:10000168-1465603200-1468195199@fondazionegiovannisantinets.it
SUMMARY:VEDERE OLTRE GAETANO DE FAVERI
DESCRIPTION:GAETANO DE FAVERI \nKRISIS \nLa crisi che attraversa l’Occidente mina l’immaginazione sia iconica che logico-convenzionale: i casi limite della fantasia o del sogno potrebbero indurre non al cambiamento\, ma al ripristino di un ordine passato. La crisi potrebbe esprimersi nello sguardo di spettatori ciechi\, caratterizzati dalla sistematica derealizzazione delle proprie esperienze e quindi anche delle proprie aspettative e immaginazioni. Edmond Jabes direbbe: -Dal niente all’impensato\, qui è tutto il tragitto del pensiero-. \nQuesto timore spinge l’artista a rendere molteplici\, dinamiche e incerte le presenze architettoniche che costituiscono formalmente i luoghi delle sue opere. \nVie\, sottopassi urbani\, ponti e scalinate non conducono più altrove perché lo rappresentano. L’altrove è nel qui quotidiano; è nel complesso panorama urbano contemporaneo\, che si carica della funzione poetica ed evocativa dell’arte. \n  \nLa realtà  virtuale unisce l’illusione\, l’imitazione e la rappresentazione. Questo fatto pone il lettore delle opere di Gaetano De Favero in bilico tra il ricordo della realtà esperita e il “rischio” di percepirne una nuova\, solo apparentemente impossibile. L’artista si concentra sul carattere illusionistico di queste sue realtà virtuali\, inserendovi ritualità estetiche\, carnali e partecipative. Musicisti in concerto\, capolavori pittorici\, sculture poste fuori contesto hanno il compito di condurre nuovamente al rito. Attraverso l’arte si regredisce profondamente all’unità dei primordi\, in una luce grigia e dorata in cui natura\, cultura\, individuo\, specie e divinità sono ancora fusi e si dispongono al divenire vitale. \nAlessandra Santin
URL:https://fondazionegiovannisantinets.it/events/vedere-oltre-gaetano-de-faveri/
CATEGORIES:Mostre
ATTACH;FMTTYPE=image/png:https://fondazionegiovannisantinets.it/wp-content/uploads/2024/04/gaetano_de_faveri2-npgqblreh.png
END:VEVENT
END:VCALENDAR