BEGIN:VCALENDAR
VERSION:2.0
PRODID:-//Fondazione Giovanni Santin ETS - ECPv6.15.14//NONSGML v1.0//EN
CALSCALE:GREGORIAN
METHOD:PUBLISH
X-WR-CALNAME:Fondazione Giovanni Santin ETS
X-ORIGINAL-URL:https://fondazionegiovannisantinets.it
X-WR-CALDESC:Eventi per Fondazione Giovanni Santin ETS
REFRESH-INTERVAL;VALUE=DURATION:PT1H
X-Robots-Tag:noindex
X-PUBLISHED-TTL:PT1H
BEGIN:VTIMEZONE
TZID:Europe/Rome
BEGIN:DAYLIGHT
TZOFFSETFROM:+0100
TZOFFSETTO:+0200
TZNAME:CEST
DTSTART:20150329T010000
END:DAYLIGHT
BEGIN:STANDARD
TZOFFSETFROM:+0200
TZOFFSETTO:+0100
TZNAME:CET
DTSTART:20151025T010000
END:STANDARD
BEGIN:DAYLIGHT
TZOFFSETFROM:+0100
TZOFFSETTO:+0200
TZNAME:CEST
DTSTART:20160327T010000
END:DAYLIGHT
BEGIN:STANDARD
TZOFFSETFROM:+0200
TZOFFSETTO:+0100
TZNAME:CET
DTSTART:20161030T010000
END:STANDARD
BEGIN:DAYLIGHT
TZOFFSETFROM:+0100
TZOFFSETTO:+0200
TZNAME:CEST
DTSTART:20170326T010000
END:DAYLIGHT
BEGIN:STANDARD
TZOFFSETFROM:+0200
TZOFFSETTO:+0100
TZNAME:CET
DTSTART:20171029T010000
END:STANDARD
END:VTIMEZONE
BEGIN:VEVENT
DTSTART;VALUE=DATE:20160405
DTEND;VALUE=DATE:20160406
DTSTAMP:20260422T105415
CREATED:20240416T194601Z
LAST-MODIFIED:20240421T192948Z
UID:10000052-1459814400-1459900799@fondazionegiovannisantinets.it
SUMMARY:I MAESTRI DEL 900 FRANCO DUGO
DESCRIPTION:Franco Dugo \nCosa fa un artista mentre è al telefono? Disegna.\nSe poi è il Maestro Franco Dugo\, un semplice tratto a penna si trasforma in un volto\, in un oggetto\, in un paesaggio.\nMentre parlavo con Franco\, non ho potuto fare a meno di notare proprio uno di questi suoi schizzi veloci sul piano dove lavora. Anche qui si comprende quanto sia in grado di dominare i segni\, quanto grande sia la sua tecnica.\n‪‎FrancoDugo‬ è un artista friulano riconosciuto internazionalmente: due sue opere sono esposte al Victoria & Albert Museum di Londra\, ma anche in diverse altre capitali.\nL’ho incontrato per conto della Fondazione Giovanni Santin onlus nel suo studio a Gorizia: un pomeriggio che mi porterò sempre nel cuore.\n‪#‎IMaestriDelNovecento‬
URL:https://fondazionegiovannisantinets.it/events/i-maestri-del-900-franco-dugo/
CATEGORIES:Attività
ATTACH;FMTTYPE=image/jpeg:https://fondazionegiovannisantinets.it/wp-content/uploads/2024/04/franco_dugo-43ciyccd.jpg
END:VEVENT
END:VCALENDAR