BEGIN:VCALENDAR
VERSION:2.0
PRODID:-//Fondazione Giovanni Santin ETS - ECPv6.15.14//NONSGML v1.0//EN
CALSCALE:GREGORIAN
METHOD:PUBLISH
X-ORIGINAL-URL:https://fondazionegiovannisantinets.it
X-WR-CALDESC:Eventi per Fondazione Giovanni Santin ETS
REFRESH-INTERVAL;VALUE=DURATION:PT1H
X-Robots-Tag:noindex
X-PUBLISHED-TTL:PT1H
BEGIN:VTIMEZONE
TZID:Europe/Rome
BEGIN:DAYLIGHT
TZOFFSETFROM:+0100
TZOFFSETTO:+0200
TZNAME:CEST
DTSTART:20150329T010000
END:DAYLIGHT
BEGIN:STANDARD
TZOFFSETFROM:+0200
TZOFFSETTO:+0100
TZNAME:CET
DTSTART:20151025T010000
END:STANDARD
BEGIN:DAYLIGHT
TZOFFSETFROM:+0100
TZOFFSETTO:+0200
TZNAME:CEST
DTSTART:20160327T010000
END:DAYLIGHT
BEGIN:STANDARD
TZOFFSETFROM:+0200
TZOFFSETTO:+0100
TZNAME:CET
DTSTART:20161030T010000
END:STANDARD
BEGIN:DAYLIGHT
TZOFFSETFROM:+0100
TZOFFSETTO:+0200
TZNAME:CEST
DTSTART:20170326T010000
END:DAYLIGHT
BEGIN:STANDARD
TZOFFSETFROM:+0200
TZOFFSETTO:+0100
TZNAME:CET
DTSTART:20171029T010000
END:STANDARD
END:VTIMEZONE
BEGIN:VEVENT
DTSTART;VALUE=DATE:20160402
DTEND;VALUE=DATE:20160501
DTSTAMP:20260421T221358
CREATED:20240420T084607Z
LAST-MODIFIED:20240420T084607Z
UID:10000230-1459555200-1462060799@fondazionegiovannisantinets.it
SUMMARY:FOHL FERENC
DESCRIPTION:“Poche parole su di me.  Al primo tentativo sono stato ammesso all’Universitá Politecnica \, dove sono diventato un ingegnere meccanico. \nDopo il cambio del regime ho ottenuto la seconda laurea in economia e commercio e da li mi guadagno per vivere come commercialista. \nAll’epoca i miei professori  mi diedero un insegnamento prezioso per la vita: degni successori di Kandó e Jendrassik possiamo realizzarci solo se cerchiamo instancabili risposte sensate a domande significative. \nIl professore Máriási Iván (Masznyik Iván) al dipartimento di disegno architettonico mi prese sotto la sua ala\, seguendomi come se fossi un alunno privato. \nDopo un paio di mesi mi fece conoscere il sig. Barcsay Jenő. Insieme si offrirono di insegnarmi tutto quello che sapevano\, ma avrei perso il mio talento innato sotto la loro influenza. \nRipenso sempre al mio maestro con immenso gratitudine\, lui mi insegnò come poter essere maestro e alunno contemporaneamente\, un autodidatta come Dalí.\nDa circa 40anni la pittura è la mia ossessione. \n\n			\n				\n			\n			\n				\n			\n			\n				\n			\n			\n				\n			\n			\n				\n			\n			\n				\n			\n			\n				\n			\n			\n				\n			\n			\n				\n			\n			\n				\n			\n			\n				\n			\n			\n				\n			\n			\n				\n			\n			\n				\n			\n			\n				\n			\n			\n				\n			\n			\n				\n			\n			\n				\n			\n			\n				\n			\n		\n\nNel 2008\, col mio caro amico Ruttka Feri\, abbiamo fondato il museo “Fohlart Ruttka e amici”. Ruttka Feri ha dipinto e donato al Vaticano i ritratti di due Papi. \nNel 2013 il Fohlart é stato assorbito dal Museo degli artisti\, fondatori : Aknay János\, Szkok Iván. \nNel 2011 ho presentato la mostra “Poesia col pennello” presso la galleria dell’Hotel Museum Budapest ed ora sto presentando una nuova mostra intitolata “Assurdo e Satira della Pittura Grottesca”. \nL’anno prossimo presenterò nell’Abazia di Tihany “L’intuizione del degrado”. \nUna selezione dei miei dipinti si possono vedere al sito www.fohlart.hu.”
URL:https://fondazionegiovannisantinets.it/events/fohl-ferenc-2/
LOCATION:Museum Hotel Budapest\, Trefort utca 2\, Budapest\, 1088\, Ungheria
CATEGORIES:Mostre
ATTACH;FMTTYPE=image/jpeg:https://fondazionegiovannisantinets.it/wp-content/uploads/2024/04/thumbnail-28.jpeg
END:VEVENT
END:VCALENDAR