BEGIN:VCALENDAR
VERSION:2.0
PRODID:-//Fondazione Giovanni Santin ETS - ECPv6.15.14//NONSGML v1.0//EN
CALSCALE:GREGORIAN
METHOD:PUBLISH
X-WR-CALNAME:Fondazione Giovanni Santin ETS
X-ORIGINAL-URL:https://fondazionegiovannisantinets.it
X-WR-CALDESC:Eventi per Fondazione Giovanni Santin ETS
REFRESH-INTERVAL;VALUE=DURATION:PT1H
X-Robots-Tag:noindex
X-PUBLISHED-TTL:PT1H
BEGIN:VTIMEZONE
TZID:Europe/Rome
BEGIN:DAYLIGHT
TZOFFSETFROM:+0100
TZOFFSETTO:+0200
TZNAME:CEST
DTSTART:20210328T010000
END:DAYLIGHT
BEGIN:STANDARD
TZOFFSETFROM:+0200
TZOFFSETTO:+0100
TZNAME:CET
DTSTART:20211031T010000
END:STANDARD
BEGIN:DAYLIGHT
TZOFFSETFROM:+0100
TZOFFSETTO:+0200
TZNAME:CEST
DTSTART:20220327T010000
END:DAYLIGHT
BEGIN:STANDARD
TZOFFSETFROM:+0200
TZOFFSETTO:+0100
TZNAME:CET
DTSTART:20221030T010000
END:STANDARD
BEGIN:DAYLIGHT
TZOFFSETFROM:+0100
TZOFFSETTO:+0200
TZNAME:CEST
DTSTART:20230326T010000
END:DAYLIGHT
BEGIN:STANDARD
TZOFFSETFROM:+0200
TZOFFSETTO:+0100
TZNAME:CET
DTSTART:20231029T010000
END:STANDARD
BEGIN:DAYLIGHT
TZOFFSETFROM:+0100
TZOFFSETTO:+0200
TZNAME:CEST
DTSTART:20240331T010000
END:DAYLIGHT
BEGIN:STANDARD
TZOFFSETFROM:+0200
TZOFFSETTO:+0100
TZNAME:CET
DTSTART:20241027T010000
END:STANDARD
END:VTIMEZONE
BEGIN:VEVENT
DTSTART;VALUE=DATE:20230416
DTEND;VALUE=DATE:20230417
DTSTAMP:20260420T055241
CREATED:20240418T190027Z
LAST-MODIFIED:20240421T191235Z
UID:10000135-1681603200-1681689599@fondazionegiovannisantinets.it
SUMMARY:NEI LUOGHI DI FEDERICO\, POETA DI ANDREIS
DESCRIPTION:
URL:https://fondazionegiovannisantinets.it/events/nei-luoghi-di-federico-poeta-di-andreis/
CATEGORIES:Attività
ATTACH;FMTTYPE=image/jpeg:https://fondazionegiovannisantinets.it/wp-content/uploads/2024/04/img-20230406-wa0010-ms1h68yzfm.jpg
END:VEVENT
BEGIN:VEVENT
DTSTART;VALUE=DATE:20221106
DTEND;VALUE=DATE:20221203
DTSTAMP:20260420T055241
CREATED:20240421T092744Z
LAST-MODIFIED:20240421T092744Z
UID:10000296-1667692800-1670025599@fondazionegiovannisantinets.it
SUMMARY:UNA VITA FRA LE RIGHE - ALDA MERINI E FEDERICO TAVAN
DESCRIPTION:Una mostra su Alda Merini e Federico Tavan nata dalla sensibilità di Rosanna Baldari e Fabio Ferretti De Virgilio.Da non perdereIn mostra sino al 2 dicembre 2022OFF Gallery | Must Lecce
URL:https://fondazionegiovannisantinets.it/events/una-vita-fra-le-righe-alda-merini-e-federico-tavan/
LOCATION:MUST (Museo Storico Città di Lecce)\, Via Degli Ammirati\, 11\, Lecce\, Lecce\, 73100\, Italia
CATEGORIES:Mostre
ATTACH;FMTTYPE=image/jpeg:https://fondazionegiovannisantinets.it/wp-content/uploads/2024/04/thumbnail-39.jpeg
END:VEVENT
END:VCALENDAR