BEGIN:VCALENDAR
VERSION:2.0
PRODID:-//Fondazione Giovanni Santin ETS - ECPv6.15.20//NONSGML v1.0//EN
CALSCALE:GREGORIAN
METHOD:PUBLISH
X-WR-CALNAME:Fondazione Giovanni Santin ETS
X-ORIGINAL-URL:https://fondazionegiovannisantinets.it
X-WR-CALDESC:Eventi per Fondazione Giovanni Santin ETS
REFRESH-INTERVAL;VALUE=DURATION:PT1H
X-Robots-Tag:noindex
X-PUBLISHED-TTL:PT1H
BEGIN:VTIMEZONE
TZID:Europe/Rome
BEGIN:DAYLIGHT
TZOFFSETFROM:+0100
TZOFFSETTO:+0200
TZNAME:CEST
DTSTART:20160327T010000
END:DAYLIGHT
BEGIN:STANDARD
TZOFFSETFROM:+0200
TZOFFSETTO:+0100
TZNAME:CET
DTSTART:20161030T010000
END:STANDARD
BEGIN:DAYLIGHT
TZOFFSETFROM:+0100
TZOFFSETTO:+0200
TZNAME:CEST
DTSTART:20170326T010000
END:DAYLIGHT
BEGIN:STANDARD
TZOFFSETFROM:+0200
TZOFFSETTO:+0100
TZNAME:CET
DTSTART:20171029T010000
END:STANDARD
BEGIN:DAYLIGHT
TZOFFSETFROM:+0100
TZOFFSETTO:+0200
TZNAME:CEST
DTSTART:20180325T010000
END:DAYLIGHT
BEGIN:STANDARD
TZOFFSETFROM:+0200
TZOFFSETTO:+0100
TZNAME:CET
DTSTART:20181028T010000
END:STANDARD
END:VTIMEZONE
BEGIN:VEVENT
DTSTART;VALUE=DATE:20170514
DTEND;VALUE=DATE:20170604
DTSTAMP:20260425T143753
CREATED:20240419T211423Z
LAST-MODIFIED:20240419T211423Z
UID:10000194-1494720000-1496534399@fondazionegiovannisantinets.it
SUMMARY:DRÍ&VALDEMARIN
DESCRIPTION:Le opere fotografiche a tiratura unica\, di grande formato a colori\, realizzate a multiscatto evocano concettualmente il fluire inarrestabile del tempo\, il senso dell’istante\, l’imprevedibilitá dell’evolversi di forme e relazioni tra elementi in movimento. \nCoerente con le categorie piú attente alla dimensione complessa e sistemica del contemporaneo\, si coniugano perfettamente con l’estetica della sottrazione minimale del terzo millennio. Questo continuo indagare il grado zero dell’esistenza; l’ininterrotta riduzione del linguaggio a pochi stilemi primari; la serie di varianti di eventi subacquei costituiscono il percorso Panta Rei di Drí&Valdemarin.
URL:https://fondazionegiovannisantinets.it/events/drivaldemarin/
LOCATION:Museum Hotel Budapest\, Trefort utca 2\, Budapest\, 1088\, Ungheria
CATEGORIES:Mostre
ATTACH;FMTTYPE=image/jpeg:https://fondazionegiovannisantinets.it/wp-content/uploads/2024/04/thumbnail-15-1.jpeg
END:VEVENT
END:VCALENDAR