BEGIN:VCALENDAR
VERSION:2.0
PRODID:-//Fondazione Giovanni Santin ETS - ECPv6.15.14//NONSGML v1.0//EN
CALSCALE:GREGORIAN
METHOD:PUBLISH
X-WR-CALNAME:Fondazione Giovanni Santin ETS
X-ORIGINAL-URL:https://fondazionegiovannisantinets.it
X-WR-CALDESC:Eventi per Fondazione Giovanni Santin ETS
REFRESH-INTERVAL;VALUE=DURATION:PT1H
X-Robots-Tag:noindex
X-PUBLISHED-TTL:PT1H
BEGIN:VTIMEZONE
TZID:Europe/Rome
BEGIN:DAYLIGHT
TZOFFSETFROM:+0100
TZOFFSETTO:+0200
TZNAME:CEST
DTSTART:20170326T010000
END:DAYLIGHT
BEGIN:STANDARD
TZOFFSETFROM:+0200
TZOFFSETTO:+0100
TZNAME:CET
DTSTART:20171029T010000
END:STANDARD
BEGIN:DAYLIGHT
TZOFFSETFROM:+0100
TZOFFSETTO:+0200
TZNAME:CEST
DTSTART:20180325T010000
END:DAYLIGHT
BEGIN:STANDARD
TZOFFSETFROM:+0200
TZOFFSETTO:+0100
TZNAME:CET
DTSTART:20181028T010000
END:STANDARD
BEGIN:DAYLIGHT
TZOFFSETFROM:+0100
TZOFFSETTO:+0200
TZNAME:CEST
DTSTART:20190331T010000
END:DAYLIGHT
BEGIN:STANDARD
TZOFFSETFROM:+0200
TZOFFSETTO:+0100
TZNAME:CET
DTSTART:20191027T010000
END:STANDARD
BEGIN:DAYLIGHT
TZOFFSETFROM:+0100
TZOFFSETTO:+0200
TZNAME:CEST
DTSTART:20200329T010000
END:DAYLIGHT
BEGIN:STANDARD
TZOFFSETFROM:+0200
TZOFFSETTO:+0100
TZNAME:CET
DTSTART:20201025T010000
END:STANDARD
BEGIN:DAYLIGHT
TZOFFSETFROM:+0100
TZOFFSETTO:+0200
TZNAME:CEST
DTSTART:20210328T010000
END:DAYLIGHT
BEGIN:STANDARD
TZOFFSETFROM:+0200
TZOFFSETTO:+0100
TZNAME:CET
DTSTART:20211031T010000
END:STANDARD
BEGIN:DAYLIGHT
TZOFFSETFROM:+0100
TZOFFSETTO:+0200
TZNAME:CEST
DTSTART:20220327T010000
END:DAYLIGHT
BEGIN:STANDARD
TZOFFSETFROM:+0200
TZOFFSETTO:+0100
TZNAME:CET
DTSTART:20221030T010000
END:STANDARD
BEGIN:DAYLIGHT
TZOFFSETFROM:+0100
TZOFFSETTO:+0200
TZNAME:CEST
DTSTART:20230326T010000
END:DAYLIGHT
BEGIN:STANDARD
TZOFFSETFROM:+0200
TZOFFSETTO:+0100
TZNAME:CET
DTSTART:20231029T010000
END:STANDARD
BEGIN:DAYLIGHT
TZOFFSETFROM:+0100
TZOFFSETTO:+0200
TZNAME:CEST
DTSTART:20240331T010000
END:DAYLIGHT
BEGIN:STANDARD
TZOFFSETFROM:+0200
TZOFFSETTO:+0100
TZNAME:CET
DTSTART:20241027T010000
END:STANDARD
BEGIN:DAYLIGHT
TZOFFSETFROM:+0100
TZOFFSETTO:+0200
TZNAME:CEST
DTSTART:20250330T010000
END:DAYLIGHT
BEGIN:STANDARD
TZOFFSETFROM:+0200
TZOFFSETTO:+0100
TZNAME:CET
DTSTART:20251026T010000
END:STANDARD
END:VTIMEZONE
BEGIN:VEVENT
DTSTART;TZID=Europe/Rome:20240225T110000
DTEND;TZID=Europe/Rome:20240324T180000
DTSTAMP:20260421T221000
CREATED:20240330T153141Z
LAST-MODIFIED:20240611T095440Z
UID:10000001-1708858800-1711303200@fondazionegiovannisantinets.it
SUMMARY:Contrapposizioni
DESCRIPTION:INAUGURAZIONE MOSTRA 25 Febbraio ore 11:00 \nPresentazione e intervento critico di Alessandra Santin \nProgetto e allestimento a cura di Giovanna Carlot. \nLa mostra sarà visibile nei seguenti orari: \nSABATO 15:00-18:00 \nDOMENICA 10:00-12:00 15:00-18:00 \nDurante la settimana contattare la biblioteca comunale  allo 0434 797482
URL:https://fondazionegiovannisantinets.it/events/contrapposizioni/
LOCATION:Villa Frova\, Piazza San Marco 3\, Caneva PN\, 33070\, Italia
CATEGORIES:Mostre
ATTACH;FMTTYPE=image/jpeg:https://fondazionegiovannisantinets.it/wp-content/uploads/2024/03/Caontrapposizioni.jpeg
END:VEVENT
BEGIN:VEVENT
DTSTART;VALUE=DATE:20220827
DTEND;VALUE=DATE:20220919
DTSTAMP:20260421T221000
CREATED:20240421T140329Z
LAST-MODIFIED:20240421T140329Z
UID:10000314-1661558400-1663545599@fondazionegiovannisantinets.it
SUMMARY:ALBERTO PASQUAL IPSIUS DI SE STESSO
DESCRIPTION:
URL:https://fondazionegiovannisantinets.it/events/alberto-pasqual-ipsius-di-se-stesso/
CATEGORIES:Mostre
ATTACH;FMTTYPE=image/jpeg:https://fondazionegiovannisantinets.it/wp-content/uploads/2024/04/screenshot_20220810_124933_com.whatsapp-ue3tfrgmx.jpg
END:VEVENT
BEGIN:VEVENT
DTSTART;VALUE=DATE:20220618
DTEND;VALUE=DATE:20221031
DTSTAMP:20260421T221000
CREATED:20240421T133949Z
LAST-MODIFIED:20240421T133949Z
UID:10000311-1655510400-1667174399@fondazionegiovannisantinets.it
SUMMARY:E' PER SEMPRE MELFI
DESCRIPTION:Mostra È per sempre di Mara Fabbro e Alberto Pasqual – Melfi – Cose di Casa\n\n\n\n“È per sempre”\, archeologia e arte contemporanea in dialogo al Castello Federiciano di Melfi – Arte Magazine
URL:https://fondazionegiovannisantinets.it/events/e-per-sempre-melfi/
CATEGORIES:Mostre
ATTACH;FMTTYPE=image/jpeg:https://fondazionegiovannisantinets.it/wp-content/uploads/2024/04/thumbnail-1-13.jpeg
END:VEVENT
BEGIN:VEVENT
DTSTART;VALUE=DATE:20201003
DTEND;VALUE=DATE:20201126
DTSTAMP:20260421T221000
CREATED:20240420T161508Z
LAST-MODIFIED:20240420T161508Z
UID:10000283-1601683200-1606348799@fondazionegiovannisantinets.it
SUMMARY:E' PER SEMPRE
DESCRIPTION:Individui\, palazzi\, spazi vuoti accostati a volumi pieni: sono le mappe urbane che disegnano i nostri giorni svuotati durante la chiusura forzata\, ricolmi di eccessi e di sprechi\, di cui la plastica è la metafora primaria. È da questi temi che nasce il progetto curato dagli artisti friulani Mara Fabbro e Alberto Pasqual\, una ricerca che approderà in due mostre\, la prima in programma in ottobre a San Vito al Tagliamento\, la seconda a maggio a Pordenone. Le due esposizioni nascono come momenti e installazioni distinte pur parte di un itinerario artistico che Fabbro e Pasqual portano avanti da due anni. È la materia\, la plastica\, a diventare non solo linguaggio condiviso\, ma anche il tema centrale della prima mostra\, dal titolo “È per sempre”\, che inaugurerà sabato 3 ottobre nell’antico ospedale dei Battuti di San Vito al Tagliamento\, e che gode del patrocinio del Comune di San Vito\, realizzata con il supporto degli sponsor Raiffeisen\, Credem\, Assilab\, visitabile nei quattro fine-settimana fino al 25 ottobre (sabati e domeniche dalle 10.30 alle 12.30 e dalle 15.30 alle 19). Il percorso espositivo si sviluppa su tre livelli: ad accogliere il visitatore al piano terra sarà una imponente installazione\, “La fine del pesce”\, un labirinto (a misura di sicurezza antiCovid per evitare la contaminazione) ricavato tra un mare di borse di plastica. Lo spettatore viene coinvolto in una traversata immersiva che rimanda alla percezione di soffocamento e di boccheggiamento\, fino a condure a una seconda installazione “Trasparenze”\, progetto che accosta le “Membrane”\, mappe metropolitane\, di Mara Fabbro alle strutture verticali totemiche “Presenze/assenze” di Alberto Pasqual. «Desideriamo testimoniare che siamo ancora lontani da una reale consapevolezza degli effetti nocivi delle materie plastiche abbandonate nell’ambiente dall’uomo. Intendiamo sensibilizzare il visitatore sulle problematiche dello smaltimento di questo prodotto e sull’inquinamento dei mari con materiali plastici\, facendogli fare un’esperienza da pesce» spiegano i due artisti. La mostra si sviluppa al primo e al secondo piano con altre due esposizioni\, le personali dei due artisti. Salendo ci si imbatte nella personale di Mara Fabbro\, artista che lavora con tasselli da lei stessa creati\, minuscoli parallelepipedi materici di base quadrata\, “pixel” che accostati all’altro riproducono mappe che raffigurano geografie reali. Se per Fabbro è l’acqua il discrimine per la sua ricerca\, nelle opere di Alberto Pasqual è il fuoco l’elemento che plasma la materia\, artista di cui si svolge la mostra personale al secondo piano. Si tratta di una ventina di opere\, per lo più inedite\, che ripropongono il tema dello squarcio\, e dello svuotamento dell’individuo. A questa prima mostra fa da contrappunto “È… vuoto”\, opera collettiva che vede al lavoro i due artisti con il contributo di una comunità ampia\, progetto nato durante il lockdown\, che si terrà a maggio nell’ex Tipografia Savio di via Torricella a Pordenone. Completa le due mostre il catalogo con testi e saggi critici di Alessandra Santin\, Giada Centazzo\, Lorenza Gava\, Mariateresa Setaro Chaniac. \nCrediti delle foto Davide Dimitri \nPAGINA FB EVENTO \n@MF.marafabbro \n@albertopasqualartista \n\n			\n				\n			\n			\n				\n			\n			\n				\n			\n			\n				\n			\n			\n				\n			\n			\n				\n			\n			\n				\n			\n			\n				\n			\n			\n				\n			\n			\n				\n			\n			\n				\n			\n			\n				\n			\n			\n				\n			\n			\n				\n			\n			\n				\n			\n			\n				\n			\n			\n				\n			\n			\n				\n			\n		\n\nPress: \nValentina Silvestrini – 338.4010645 – vsilvestrini@gmail.com
URL:https://fondazionegiovannisantinets.it/events/e-per-sempre-2/
LOCATION:Antico Ospedale dei Battuti\, Via Bellunello 18\, San Vito al Tagliamento\, Pordenone\, Italia
CATEGORIES:Mostre
ATTACH;FMTTYPE=image/jpeg:https://fondazionegiovannisantinets.it/wp-content/uploads/2024/04/post_social-mldds0flhc.jpg
END:VEVENT
BEGIN:VEVENT
DTSTART;VALUE=DATE:20200301
DTEND;VALUE=DATE:20200408
DTSTAMP:20260421T221000
CREATED:20240420T154216Z
LAST-MODIFIED:20240420T154216Z
UID:10000274-1583020800-1586303999@fondazionegiovannisantinets.it
SUMMARY:DUNA - ALBERTO PASQUAL A BUDAPEST
DESCRIPTION:DONAU – DUNA – DUNAJ\nALBERTO PASQUAL nella MITTELEUROPA\nAlberto Pasqual è un artista conosciuto ed apprezzato nel mio territorio\, il Friuli\nVenezia Giulia\, in altre regioni d’Italia e a livello internazionale. Avevo sentito\nspesso il suo nome e in più occasioni ammirato le sue opere\, ma mai incontrato.\nL’allestimento in collaborazione di una mostra è stato il modo per entrare in empatia\ncon Alberto il quale con sensibilità mi ha avvicinato alla sua arte.\nNel dicembre 2017 entro per la prima volta all’interno dello Showroom Stroli\nStone a Vienna\, per visitare la mostra del pittore friulano Giordano Floreancig.\nMi colpisce l’eleganza dell’ambiente e la sua singolarità\, rappresentata da un’onda\ngigante e nera che sale al soffitto rompendo l’immacolato e luminoso spazio\nche la circonda. Quando la vedo non so esattamente cosa sia ma la fluidità dell’opera\,\nrealizzata con lastre d’ardesia\, mi porta alla lavorazione della pietra nel\nmondo dell’arte.\nFerro…Pietra sono materiali complementari ed è questa affinità che mi ha indotto\na pensare ad un allestimento con le opere di Alberto Pasqual presso lo Stroli\nStone. Il Danubio\, con il suo lento fluire\, lambisce le rive di alcune capitali\ndell’Europa centrale offrendo alle stesse\, soprattutto nella bella stagione\, luoghi\ndi svago in grandi spazi verdi. Il suo letto navigabile è da secoli una rilevante\nvia di comunicazione per il centro Europa\, esso è stato anche fonte d’ispirazione\nartistica\, il musicista Johann Strauss compose il famoso brano “Sul bel Danubio\nblu”\, valzer conosciuto in tutto il mondo. Questi sono gli elementi che mi hanno\nportato a pensare alla possibilità di realizzare una mostra itinerante da presentare\nin tre capitali toccate dal grande fiume. Vienna presso lo Showroom Stroili Stone\,\nBudapest negli spazi espositivi della Fondazione Giovanni Santin ONLUS e Bratislava\,\nospiteranno le sculture ed i quadri dell’artista friulano dove il riferimento\nalla natura e all’acqua si coniuga nella grande scultura “Eterotopia” (che ritrae dei\ncolossali fili d’erba) e nel rendere liquida la materia.\nLa mostra porta\, come omaggio alla città che la ospita\, il titolo declinato nella\nlingua di riferimento:\nVienna – Donau (tedesco) Budapest – Duna (ungherese) Bratislava – Dunaj (slovacco).
URL:https://fondazionegiovannisantinets.it/events/duna-alberto-pasqual-a-budapest/
LOCATION:Museum Hotel Budapest\, Trefort utca 2\, Budapest\, 1088\, Ungheria
CATEGORIES:Mostre
ATTACH;FMTTYPE=image/jpeg:https://fondazionegiovannisantinets.it/wp-content/uploads/2024/04/84475762_2780003995417611_5932143051811061760_n-tucyersoj9.jpg
END:VEVENT
BEGIN:VEVENT
DTSTART;VALUE=DATE:20191121
DTEND;VALUE=DATE:20191122
DTSTAMP:20260421T221000
CREATED:20240420T152725Z
LAST-MODIFIED:20240420T152725Z
UID:10000267-1574294400-1574380799@fondazionegiovannisantinets.it
SUMMARY:ALBERTO PASQUAL - DONAU DUNA DUNAJ
DESCRIPTION:Vienna lì\, 21 novembre 2019. \nAlberto Pasqual è un artista conosciuto ed apprezzato nel mio territorio\, il Friuli Venezia Giulia\, in altre regioni d’Italia e a livello internazionale. Avevo sentito spesso il suo nome e in più occasioni ammirato le sue opere\, ma mai incontrato. L’allestimento in collaborazione di una mostra è stato il modo per entrare in em – patia con Alberto il quale con sensibilità mi ha avvicinato alla sua arte. Nel dicembre 2017 entro per la prima volta all’interno dello Showroom Stroli Stone a Vienna\, per visitare la mostra del pittore friulano Giordano Floreancig. Mi colpisce l’eleganza dell’ambiente e la sua singolarità\, rappresentata da un’on – da gigante e nera che sale al soffitto rompendo l’immacolato e luminoso spazio che la circonda. Quando la vedo non so esattamente cosa sia ma la fluidità dell’o – pera\, realizzata con lastre d’ardesia\, mi porta alla lavorazione della pietra nel mondo dell’arte. Ferro…Pietra sono materiali complementari ed è questa affinità che mi ha indot – to a pensare ad un allestimento con le opere di Alberto Pasqual presso lo Stro – li Stone. Il Danubio\, con il suo lento fluire\, lambisce le rive di alcune capitali dell’Europa centrale offrendo alle stesse\, soprattutto nella bella stagione\, luoghi di svago in grandi spazi verdi. Il suo letto navigabile è da secoli una rilevante via di comunicazione per il centro Europa\, esso è stato anche fonte d’ispirazione artistica\, il musicista Johann Strauss compose il famoso brano “Sul bel Danubio blu”\, valzer conosciuto in tutto il mondo. Questi sono gli elementi che mi hanno portato a pensare alla possibilità di realizzare una mostra itinerante da presentare in tre capitali toccate dal grande fiume. Vienna presso lo Showroom Stroili Stone\, Budapest negli spazi espositivi della Fondazione Giovanni Santin ONLUS e Bra – tislava\, ospiteranno le sculture ed i quadri dell’artista friulano dove il riferimento alla natura e all’acqua si coniuga nella grande scultura “Eterotopia” (che ritrae dei colossali fili d’erba) e nel rendere liquida la materia. La mostra porta\, come omaggio alla città che la ospita\, il titolo declinato nella lingua di riferimento: Vienna – Donau (tedesco) Budapest – Duna (ungherese) Bratislava – Dunaj (slo – vacco). Giovanna Carlot
URL:https://fondazionegiovannisantinets.it/events/alberto-pasqual-donau-duna-dunaj/
CATEGORIES:Mostre
ATTACH;FMTTYPE=image/jpeg:https://fondazionegiovannisantinets.it/wp-content/uploads/2024/04/catalogoprovvisorio-page-001-rjnfs6lr4k.jpg
END:VEVENT
BEGIN:VEVENT
DTSTART;VALUE=DATE:20180506
DTEND;VALUE=DATE:20180611
DTSTAMP:20260421T221000
CREATED:20240419T214939Z
LAST-MODIFIED:20240419T214939Z
UID:10000208-1525564800-1528675199@fondazionegiovannisantinets.it
SUMMARY:Vanitas - Alberto Pasqual
DESCRIPTION:VANITAS\nMostra di\nALBERTO PASQUAL \n6 MAGGIO – 10 GIUGNO 2018 \n\nInaugurazione domenica 6 maggio 2018 ore 11.00\nPresenta il Critico d’Arte ALESSANDRA SANTIN\nProgetto curato da Giovanna Carlot \n  \nVILLA FROVA – PIAZZA SAN MARCO\,STEVENÀ di CANEVA \nVanitas \nLa ricerca di Alberto Pasqual scardina ogni certezza\, irride il pre-giudizio e gli automatismi concettuali.\nL’artista riconduce la materia più dura\, il ferro\, al silenzio della vulnerabilità esistenziale: la durezza tagliente e spigolosa delle lastre si sfrangia in colature inattese\, si lascia forare\, spezzare\, modellare\, comprimere come farebbe la cera o il burro.\nL’acciaio\, materia invulnerabile per eccellenza\, che sconfigge le forze del Tempo e dello Spazio\, che sorregge ponti e palazzi\, che difende\, protegge\, contiene\, … si arrende e ribolle\, si stempera\, cola\, ritorna agli inizi o alla fine\, alle forme originarie quando ogni realtà ubbidisce alle temperie naturali.\nPer contro il maestro scolpisce la leggerezza del plexiglass\, lo erge sollecitando trasparenze e piegature\, suggerendo le potenzialità inattese di una materia solo apparentemente fragile e volutamente invisibile.\nOgni opera riconduce alla bellezza dell’esistenza\, alla rappresentazione sublime della Vanitas\, al respiro potente del quasi tutto e del quasi nulla\, alla consistenza della caducità della vita che interpella oggi più di sempre l’uomo contemporaneo. \nAlessandra Santin\nMaggio 2018 \nGenius Loci
URL:https://fondazionegiovannisantinets.it/events/vanitas-alberto-pasqual/
LOCATION:Villa Frova\, Piazza San Marco 3\, Caneva PN\, 33070\, Italia
CATEGORIES:Mostre
ATTACH;FMTTYPE=image/jpeg:https://fondazionegiovannisantinets.it/wp-content/uploads/2024/04/thumbnail-23.jpeg
END:VEVENT
END:VCALENDAR