BEGIN:VCALENDAR
VERSION:2.0
PRODID:-//Fondazione Giovanni Santin ETS - ECPv6.15.14//NONSGML v1.0//EN
CALSCALE:GREGORIAN
METHOD:PUBLISH
X-ORIGINAL-URL:https://fondazionegiovannisantinets.it
X-WR-CALDESC:Eventi per Fondazione Giovanni Santin ETS
REFRESH-INTERVAL;VALUE=DURATION:PT1H
X-Robots-Tag:noindex
X-PUBLISHED-TTL:PT1H
BEGIN:VTIMEZONE
TZID:Europe/Rome
BEGIN:DAYLIGHT
TZOFFSETFROM:+0100
TZOFFSETTO:+0200
TZNAME:CEST
DTSTART:20230326T010000
END:DAYLIGHT
BEGIN:STANDARD
TZOFFSETFROM:+0200
TZOFFSETTO:+0100
TZNAME:CET
DTSTART:20231029T010000
END:STANDARD
BEGIN:DAYLIGHT
TZOFFSETFROM:+0100
TZOFFSETTO:+0200
TZNAME:CEST
DTSTART:20240331T010000
END:DAYLIGHT
BEGIN:STANDARD
TZOFFSETFROM:+0200
TZOFFSETTO:+0100
TZNAME:CET
DTSTART:20241027T010000
END:STANDARD
BEGIN:DAYLIGHT
TZOFFSETFROM:+0100
TZOFFSETTO:+0200
TZNAME:CEST
DTSTART:20250330T010000
END:DAYLIGHT
BEGIN:STANDARD
TZOFFSETFROM:+0200
TZOFFSETTO:+0100
TZNAME:CET
DTSTART:20251026T010000
END:STANDARD
END:VTIMEZONE
BEGIN:VEVENT
DTSTART;VALUE=DATE:20240802
DTEND;VALUE=DATE:20240803
DTSTAMP:20260420T043033
CREATED:20240805T081504Z
LAST-MODIFIED:20240805T081600Z
UID:10000332-1722556800-1722643199@fondazionegiovannisantinets.it
SUMMARY:BLANC EUROPEAN FESTIVAL: 𝙎𝙌𝙐𝘼𝙍𝘾𝙄𝘼𝙋𝘼𝘾𝙀: 𝙨𝙪𝙥𝙚𝙧𝙖𝙧𝙚 𝙡𝙚 𝙥𝙖𝙪𝙧𝙚 è 𝙘𝙤𝙢𝙚 𝙨𝙥𝙞𝙘𝙘𝙖𝙧𝙚 𝙞𝙡 𝙫𝙤𝙡𝙤
DESCRIPTION:Gilda e Zora ti aspettano per un’avventura indimenticabile! 🐣🐥 \n🎭 𝙎𝙌𝙐𝘼𝙍𝘾𝙄𝘼𝙋𝘼𝘾𝙀: 𝙨𝙪𝙥𝙚𝙧𝙖𝙧𝙚 𝙡𝙚 𝙥𝙖𝙪𝙧𝙚 è 𝙘𝙤𝙢𝙚 𝙨𝙥𝙞𝙘𝙘𝙖𝙧𝙚 𝙞𝙡 𝙫𝙤𝙡𝙤 🪺🕊🧚‍♀️ \nPreparati a scoprire una storia affascinante che esplora le paure le paure legate alla nascita e alla crescita attraverso l’avventura di Gilda e Zora.🌑 Musiche tratte dal “Carnevale degli Animali” di Camille Saint-Saëns 🎶 \nGilda e Zora nascono assieme\, si avvicinano\, si abbarbicano l’una all’altra\, giocano ad assomigliarsi e a scoprirsi diverse. Si incoraggiano. Crescono.�E si imbattono nell’affascinante scoperta di un uovo\, nero\, oscuro come la notte\, liscio come un serpente\, lucido come uno specchio… a detta degli adulti pericoloso quanto un mistero da risolvere! \n.\n📅 Venerdì 2 Agosto\, ore 18:00\n📍 Palazzo Wassermann\, Toppo di Travesio (PN) \n.\ndi e con 𝘾𝙖𝙩𝙚𝙧𝙞𝙣𝙖 𝘿𝙞 𝙁𝙖𝙣𝙩 e 𝙇𝙪𝙘𝙞𝙖 𝙇𝙞𝙣𝙙𝙖\nregia di 𝙑𝙖𝙡𝙚𝙣𝙩𝙞𝙣𝙖 𝙍𝙞𝙫𝙚𝙡𝙡𝙞\nproduzione 𝙏𝙚𝙖𝙩𝙧𝙤 𝙙𝙚𝙡𝙡𝙖 𝙎𝙚𝙩𝙚 \n👨‍👩‍👧‍👦 🎭Spettacolo teatrale per spettatori dai 5 anni in su. \n.\n🎟️ Ingresso libero\nℹ️ Per maggiori informazioni visita il sito: https://www.blanceuropeanfestival.it/squarciapace \n#fvg #EventiFVG #friuliveneziagiulia #BLANCEuropeanFestival #teatro \n. \nBLANC EUROPEAN FESTIVAL 2024\n20 Luglio – 20 Ottobre\nDal 2019 il Blanc European Festival propone eventi multi-art\, in luoghi non convenzionali\, coinvolgendo artisti di fama nazionale ed internazionale con performance ispirate alla Natura e al colore Bianco\, simbolo di luce e purezza.\nScopri il programma completo del Festival su https://www.blanceuropeanfestival.it/ 🕉️ \n. \nEVENTO REALIZZATO:\n🌿 Con il Patrocinio e il sostegno dei Comuni di : Pordenone\, Tramonti di Sopra\, Castelnovo del Friuli\, Barcis\, Sequals\, Caneva\, Clauzetto\, Polcenigo\, Travesio\n🐚 Con il supporto della Fondazione Friuli\, Camera di Commercio di Pordenone-Udine\, Banca 360\, PordenoneFiere\, Comunità di Montagna delle Prealpi Friulane Orientali\, Fondazione Santin\, Hotel Santin\, Sina Spa\, Tosoni Formaggi\n🌿 In collaborazione con la Magnifica Comunità di Montagna Dolomiti Friulane\, Parco delle Dolomiti Friulane\, Ecomuseo Lis Aganis\, Pordenone with Love \n 
URL:https://fondazionegiovannisantinets.it/events/blanc-european-festival-%f0%9d%99%8e%f0%9d%99%8c%f0%9d%99%90%f0%9d%98%bc%f0%9d%99%8d%f0%9d%98%be%f0%9d%99%84%f0%9d%98%bc%f0%9d%99%8b%f0%9d%98%bc%f0%9d%98%be%f0%9d%99%80-%f0%9d%99%a8%f0%9d%99%aa/
LOCATION:Toppo di Travesio
CATEGORIES:Attività
ATTACH;FMTTYPE=image/jpeg:https://fondazionegiovannisantinets.it/wp-content/uploads/2024/08/WhatsApp-Image-2024-07-19-at-13.24.44.jpeg
END:VEVENT
END:VCALENDAR