BEGIN:VCALENDAR
VERSION:2.0
PRODID:-//Fondazione Giovanni Santin ETS - ECPv6.15.20//NONSGML v1.0//EN
CALSCALE:GREGORIAN
METHOD:PUBLISH
X-WR-CALNAME:Fondazione Giovanni Santin ETS
X-ORIGINAL-URL:https://fondazionegiovannisantinets.it
X-WR-CALDESC:Eventi per Fondazione Giovanni Santin ETS
REFRESH-INTERVAL;VALUE=DURATION:PT1H
X-Robots-Tag:noindex
X-PUBLISHED-TTL:PT1H
BEGIN:VTIMEZONE
TZID:Europe/Rome
BEGIN:DAYLIGHT
TZOFFSETFROM:+0100
TZOFFSETTO:+0200
TZNAME:CEST
DTSTART:20230326T010000
END:DAYLIGHT
BEGIN:STANDARD
TZOFFSETFROM:+0200
TZOFFSETTO:+0100
TZNAME:CET
DTSTART:20231029T010000
END:STANDARD
BEGIN:DAYLIGHT
TZOFFSETFROM:+0100
TZOFFSETTO:+0200
TZNAME:CEST
DTSTART:20240331T010000
END:DAYLIGHT
BEGIN:STANDARD
TZOFFSETFROM:+0200
TZOFFSETTO:+0100
TZNAME:CET
DTSTART:20241027T010000
END:STANDARD
BEGIN:DAYLIGHT
TZOFFSETFROM:+0100
TZOFFSETTO:+0200
TZNAME:CEST
DTSTART:20250330T010000
END:DAYLIGHT
BEGIN:STANDARD
TZOFFSETFROM:+0200
TZOFFSETTO:+0100
TZNAME:CET
DTSTART:20251026T010000
END:STANDARD
END:VTIMEZONE
BEGIN:VEVENT
DTSTART;VALUE=DATE:20240720
DTEND;VALUE=DATE:20240721
DTSTAMP:20260425T173527
CREATED:20240805T084813Z
LAST-MODIFIED:20240805T084813Z
UID:10000335-1721433600-1721519999@fondazionegiovannisantinets.it
SUMMARY:BLANC EUROPEAN FESTIVAL: KOLYMBETHRA
DESCRIPTION:Ti affascinano i luoghi archeologici e la loro storia? Non perdere KOLYMBETHRA: il giardino ritrovato””! 🤩 \nGiuseppe Lo Pilato\, curatore del Giardino della Kolymbethra nella Valle dei Tempi di Agrigento\, ci racconterà la storia e il recupero di questo gioiello archeologico e agricolo\, con oltre 2500 anni di storia. 🏛️ \nInterviene 𝙏𝙞𝙯𝙞𝙖𝙣𝙖 𝙎𝙖𝙣𝙙𝙧𝙞𝙣𝙚𝙡𝙡𝙞\, presidente regionale del FAI FVG.\nModera 𝘼𝙣𝙙𝙧𝙚𝙖 𝙎𝙥𝙖𝙜𝙣𝙤𝙡\, responsabile gruppo FAI Spilimbergo Maniago. \n📅 Sabato 20 Luglio\, ore 17:30\n📍 Sala Polifunzionale\, Tramonti di Sopra \n🎟️ Ingresso libero\nPer maggiori informazioni visita il sito: https://www.blanceuropeanfestival.it/kolymbethra \n🌿BLANC EUROPEAN FESTIVAL 2024 🐚\n10 eventi multi-art\, in luoghi non convenzionali\, con performance di artisti di fama nazionale ed internazionale\, ispirate alla Natura e al colore Bianco\, simbolo di luce e purezza.\nAttraverso il Friuli-Venezia Giulia dal 20 luglio al 20 Ottobre 2024. \nScopri il programma completo del Festival su https://www.blanceuropeanfestival.it/ \n#fvg #EventiFVG #archeologia #kolymbethra #friuliveneziagiulia #BLANCEuropeanFestival \n 
URL:https://fondazionegiovannisantinets.it/events/blanc-european-festival-kolymbethra/
LOCATION:Sala Polifunzionale Tramonti di Sopra
CATEGORIES:Attività
ATTACH;FMTTYPE=image/webp:https://fondazionegiovannisantinets.it/wp-content/uploads/2024/08/garden-of-the-kolymbethra-valley-of-the-temples-agrigento-news-photo-1641917675.webp
END:VEVENT
END:VCALENDAR