BEGIN:VCALENDAR
VERSION:2.0
PRODID:-//Fondazione Giovanni Santin ETS - ECPv6.15.20//NONSGML v1.0//EN
CALSCALE:GREGORIAN
METHOD:PUBLISH
X-WR-CALNAME:Fondazione Giovanni Santin ETS
X-ORIGINAL-URL:https://fondazionegiovannisantinets.it
X-WR-CALDESC:Eventi per Fondazione Giovanni Santin ETS
REFRESH-INTERVAL;VALUE=DURATION:PT1H
X-Robots-Tag:noindex
X-PUBLISHED-TTL:PT1H
BEGIN:VTIMEZONE
TZID:Europe/Rome
BEGIN:DAYLIGHT
TZOFFSETFROM:+0100
TZOFFSETTO:+0200
TZNAME:CEST
DTSTART:20230326T010000
END:DAYLIGHT
BEGIN:STANDARD
TZOFFSETFROM:+0200
TZOFFSETTO:+0100
TZNAME:CET
DTSTART:20231029T010000
END:STANDARD
BEGIN:DAYLIGHT
TZOFFSETFROM:+0100
TZOFFSETTO:+0200
TZNAME:CEST
DTSTART:20240331T010000
END:DAYLIGHT
BEGIN:STANDARD
TZOFFSETFROM:+0200
TZOFFSETTO:+0100
TZNAME:CET
DTSTART:20241027T010000
END:STANDARD
BEGIN:DAYLIGHT
TZOFFSETFROM:+0100
TZOFFSETTO:+0200
TZNAME:CEST
DTSTART:20250330T010000
END:DAYLIGHT
BEGIN:STANDARD
TZOFFSETFROM:+0200
TZOFFSETTO:+0100
TZNAME:CET
DTSTART:20251026T010000
END:STANDARD
END:VTIMEZONE
BEGIN:VEVENT
DTSTART;VALUE=DATE:20240819
DTEND;VALUE=DATE:20240827
DTSTAMP:20260425T173231
CREATED:20241106T103440Z
LAST-MODIFIED:20241106T103440Z
UID:10000355-1724025600-1724716799@fondazionegiovannisantinets.it
SUMMARY:ACOUSTIC DAYS PORDENONE - UNA FONTANA DI NOTE 2024
DESCRIPTION:Ogni tanto prende anche a me la fretta di postare\, accade perchè l’emozione di vedere un evento che va alla grande ti travolge e ti senti di voler urlare a tutti la soddisfazione che ne deriva.\nMartedì sera la chiusa del post era un “grazie a tutti” che oggi vorrei specificare di più.\nAcoustic Days (con il tutto esaurito ogni sera) e Una Fontana di Note (con la piazza stracolma tutte le sere) sono il lavoro di mesi e di tanti che ringrazio:\na partire dal Comune di Pordenone che ha creduto e sostenuto le iniziative (tutte ad ingresso gratuito) promosse e organizzate dall’ Istituto Di Musica Della Pedemontana (grazie al Presidente e al Direttivo che appoggiano con responsabilità tutte le iniziative) e alla nostra segreteria e ai consulenti.\nLuca Berton con il suo instancabile impegno\nChiara Fassetta per gli Acoustic days\nSilenziosi ma sempre presenti con il loro prezioso aiuto la Fondazione Giovanni Santin onlus\, il Pn Bar e Caffè e Western Union di via Santa Caterina.
URL:https://fondazionegiovannisantinets.it/events/acoustic-days-pordenone-una-fontana-di-note-2024/
LOCATION:Ex convento di San Francesco\, Pordenone\, Italy
CATEGORIES:Attività
ATTACH;FMTTYPE=image/jpeg:https://fondazionegiovannisantinets.it/wp-content/uploads/2024/11/WhatsApp-Image-2024-08-30-at-00.22.48.jpeg
END:VEVENT
END:VCALENDAR