BEGIN:VCALENDAR
VERSION:2.0
PRODID:-//Fondazione Giovanni Santin ETS - ECPv6.15.14//NONSGML v1.0//EN
CALSCALE:GREGORIAN
METHOD:PUBLISH
X-WR-CALNAME:Fondazione Giovanni Santin ETS
X-ORIGINAL-URL:https://fondazionegiovannisantinets.it
X-WR-CALDESC:Eventi per Fondazione Giovanni Santin ETS
REFRESH-INTERVAL;VALUE=DURATION:PT1H
X-Robots-Tag:noindex
X-PUBLISHED-TTL:PT1H
BEGIN:VTIMEZONE
TZID:Europe/Rome
BEGIN:DAYLIGHT
TZOFFSETFROM:+0100
TZOFFSETTO:+0200
TZNAME:CEST
DTSTART:20230326T010000
END:DAYLIGHT
BEGIN:STANDARD
TZOFFSETFROM:+0200
TZOFFSETTO:+0100
TZNAME:CET
DTSTART:20231029T010000
END:STANDARD
BEGIN:DAYLIGHT
TZOFFSETFROM:+0100
TZOFFSETTO:+0200
TZNAME:CEST
DTSTART:20240331T010000
END:DAYLIGHT
BEGIN:STANDARD
TZOFFSETFROM:+0200
TZOFFSETTO:+0100
TZNAME:CET
DTSTART:20241027T010000
END:STANDARD
BEGIN:DAYLIGHT
TZOFFSETFROM:+0100
TZOFFSETTO:+0200
TZNAME:CEST
DTSTART:20250330T010000
END:DAYLIGHT
BEGIN:STANDARD
TZOFFSETFROM:+0200
TZOFFSETTO:+0100
TZNAME:CET
DTSTART:20251026T010000
END:STANDARD
END:VTIMEZONE
BEGIN:VEVENT
DTSTART;VALUE=DATE:20240804
DTEND;VALUE=DATE:20240805
DTSTAMP:20260422T025846
CREATED:20240805T082321Z
LAST-MODIFIED:20240805T082321Z
UID:10000333-1722729600-1722815999@fondazionegiovannisantinets.it
SUMMARY:BLANC EUROPEAN FESTIVAL: 𝘾𝙃𝙄𝘼𝙍𝘼 𝘿𝙄 𝙂𝙇𝙀𝙍𝙄𝘼 + 𝘽𝙇𝘼𝙉𝘾 𝙎𝙏𝙍𝙄𝙉𝙂 𝙊𝙍𝘾𝙃𝙀𝙎𝙏𝙍𝘼 + 𝘽𝘼𝙉𝘿 𝘾𝙝𝙞𝙖𝙧𝙖 𝘿𝙞 𝙂𝙡𝙚𝙧𝙞𝙖\, 𝘽𝙇𝘼𝙉𝘾 𝙎𝙩𝙧𝙞𝙣𝙜 𝙊𝙧𝙘𝙝𝙚𝙨𝙩𝙧𝙖\, 𝙍𝙤𝙗𝙚𝙧𝙩𝙤 𝙑𝙞𝙤𝙡𝙖\, 𝙈𝙖𝙧𝙘𝙤 𝘼𝙣𝙙𝙧𝙚𝙤𝙣𝙞\, 𝙀𝙧𝙢𝙚𝙨 𝙂𝙝𝙞𝙧𝙖𝙧𝙙𝙞𝙣𝙞
DESCRIPTION:BLANC EUROPEAN FESTIVAL 2024 🐚 \n📅 Domenica 4 Agosto\, ore 20:45\n📍 Area Cortivon\, Piazza Pleibiscito\, Polcenigo (PN) \n𝘾𝙃𝙄𝘼𝙍𝘼 𝘿𝙄 𝙂𝙇𝙀𝙍𝙄𝘼 + 𝘽𝙇𝘼𝙉𝘾 𝙎𝙏𝙍𝙄𝙉𝙂 𝙊𝙍𝘾𝙃𝙀𝙎𝙏𝙍𝘼 + 𝘽𝘼𝙉𝘿\n𝘾𝙝𝙞𝙖𝙧𝙖 𝘿𝙞 𝙂𝙡𝙚𝙧𝙞𝙖\, 𝘽𝙇𝘼𝙉𝘾 𝙎𝙩𝙧𝙞𝙣𝙜 𝙊𝙧𝙘𝙝𝙚𝙨𝙩𝙧𝙖\, 𝙍𝙤𝙗𝙚𝙧𝙩𝙤 𝙑𝙞𝙤𝙡𝙖\, 𝙈𝙖𝙧𝙘𝙤 𝘼𝙣𝙙𝙧𝙚𝙤𝙣𝙞\, 𝙀𝙧𝙢𝙚𝙨 𝙂𝙝𝙞𝙧𝙖𝙧𝙙𝙞𝙣𝙞 \nUna spumeggiante performance estiva circondata dalle fresche acque del fiume Livenza inonderà il sito UNESCO del Palù con tanta energia musicale. \nUna band eccezionale si esibirà per l’occasione con musiche di Zimmer\, Led Zeppelin\, Etta James\, Aretha Franklin\, Elvis\, Pink Floyd e molti altri. \nIn collaborazione con il PALÙ SUMMER FESTIVAL. \n𝘾𝙝𝙞𝙖𝙧𝙖 𝘿𝙞 𝙂𝙡𝙚𝙧𝙞𝙖 voce solista\n𝙍𝙤𝙗𝙚𝙧𝙩𝙤 𝙑𝙞𝙤𝙡𝙖 tastiere\n𝙈𝙖𝙧𝙘𝙤 𝘼𝙣𝙙𝙧𝙚𝙤𝙣𝙞 basso\n𝙀𝙧𝙢𝙚𝙨 𝙂𝙝𝙞𝙧𝙖𝙧𝙙𝙞𝙣𝙞 batteria\n𝘽𝙇𝘼𝙉𝘾 𝙎𝙩𝙧𝙞𝙣𝙜 𝙊𝙧𝙘𝙝𝙚𝙨𝙩𝙧𝙖 \nPer conoscere i protagonisti visita: https://www.blanceuropeanfestival.it/palusummerfestival \n🎟️ Ingresso libero\nℹ️ Per informazioni: associazioneblanc@gmail.com \n🌧 In caso di maltempo si svolgerà nell’ auditorium dell’ ex-convento di San Giacomo:\nVia S. Giacomo\, 16\, 33070 Polcenigo PN \n  \n🌿 BLANC EUROPEAN FESTIVAL 2024 🐚\n20 Luglio – 20 Ottobre \nDal 2019 il Blanc European Festival propone eventi multi-art\, in luoghi non convenzionali\, coinvolgendo artisti di fama nazionale ed internazionale con performance ispirate alla Natura e al colore Bianco\, simbolo di luce e purezza. \nScopri il programma completo del Festival su https://www.blanceuropeanfestival.it/ \n  \nEVENTO REALIZZATO: \n🌿 Con il Patrocinio e il sostegno dei Comuni di : Pordenone\, Tramonti di Sopra\, Castelnovo del Friuli\, Barcis\, Sequals\, Caneva\, Clauzetto\, Polcenigo\, Travesio \n🐚 Con il supporto della Fondazione Friuli\, Camera di Commercio di Pordenone-Udine\, Banca 360\, PordenoneFiere\, Comunità di Montagna delle Prealpi Friulane Orientali\, Fondazione Santin\, Hotel Santin\, Sina Spa\, Tosoni Formaggi \n🌿 In collaborazione con la Magnifica Comunità di Montagna Dolomiti Friulane\, Parco delle Dolomiti Friulane\, Ecomuseo Lis Aganis\, Pordenone with Love
URL:https://fondazionegiovannisantinets.it/events/blanc-european-festival-%f0%9d%98%be%f0%9d%99%83%f0%9d%99%84%f0%9d%98%bc%f0%9d%99%8d%f0%9d%98%bc-%f0%9d%98%bf%f0%9d%99%84-%f0%9d%99%82%f0%9d%99%87%f0%9d%99%80%f0%9d%99%8d%f0%9d%99%84%f0%9d%98%bc/
LOCATION:Piazza Plebiscito Polcenigo
CATEGORIES:Attività
ATTACH;FMTTYPE=image/webp:https://fondazionegiovannisantinets.it/wp-content/uploads/2024/08/CHIARA-DI-GLERIA-BAND.webp
END:VEVENT
END:VCALENDAR