BEGIN:VCALENDAR
VERSION:2.0
PRODID:-//Fondazione Giovanni Santin ETS - ECPv6.15.20//NONSGML v1.0//EN
CALSCALE:GREGORIAN
METHOD:PUBLISH
X-ORIGINAL-URL:https://fondazionegiovannisantinets.it
X-WR-CALDESC:Eventi per Fondazione Giovanni Santin ETS
REFRESH-INTERVAL;VALUE=DURATION:PT1H
X-Robots-Tag:noindex
X-PUBLISHED-TTL:PT1H
BEGIN:VTIMEZONE
TZID:Europe/Rome
BEGIN:DAYLIGHT
TZOFFSETFROM:+0100
TZOFFSETTO:+0200
TZNAME:CEST
DTSTART:20170326T010000
END:DAYLIGHT
BEGIN:STANDARD
TZOFFSETFROM:+0200
TZOFFSETTO:+0100
TZNAME:CET
DTSTART:20171029T010000
END:STANDARD
BEGIN:DAYLIGHT
TZOFFSETFROM:+0100
TZOFFSETTO:+0200
TZNAME:CEST
DTSTART:20180325T010000
END:DAYLIGHT
BEGIN:STANDARD
TZOFFSETFROM:+0200
TZOFFSETTO:+0100
TZNAME:CET
DTSTART:20181028T010000
END:STANDARD
BEGIN:DAYLIGHT
TZOFFSETFROM:+0100
TZOFFSETTO:+0200
TZNAME:CEST
DTSTART:20190331T010000
END:DAYLIGHT
BEGIN:STANDARD
TZOFFSETFROM:+0200
TZOFFSETTO:+0100
TZNAME:CET
DTSTART:20191027T010000
END:STANDARD
END:VTIMEZONE
BEGIN:VEVENT
DTSTART;VALUE=DATE:20181029
DTEND;VALUE=DATE:20181030
DTSTAMP:20260425T201900
CREATED:20240420T084325Z
LAST-MODIFIED:20240420T084325Z
UID:10000229-1540771200-1540857599@fondazionegiovannisantinets.it
SUMMARY:DA KANDINSKY A BOTERO DA NOVEMBRE A PALAZZO ZAGURI
DESCRIPTION:L’antico e nobile Palazzo Zaguri\, in Campo San Maurizio\, già residenza di Giacomo Casanova\, dal 1° novembre tornerà ad essere un luogo d’arte e di cultura con la grande mostra Da Kandinsky a Botero.\nUn grande evento internazionale\, grazie al quale sarà possibile incontrare il meglio dell’arte del ‘900 attraverso i suoi più celebri maestri: Kandinsky\, Dalì\, Miró\, Casorati\, Capogrossi\, Warhol. Sarà possibile chiudere gli occhi sulla magica laguna di Venezia per riaprirli davanti alla forza dei colori di Matisse e Klee\, le forme senza tempo di De Chirico\, l’arte dirompente di Corrado Cagli e Mirko Basaldella. \n\nUna grande mostra che va oltre i quadri\, oltre gli artisti\, oltre la pittura. Più di 100 le opere in esposizione. \nSplendido palazzo gotico costruito nel 1353\, Palazzo Zaguri è un nuovo polo espositivo permanente veneziano di 2500 mq che si snoda nelle 36 sale\, su 5 piani. Ospita al piano terra un ampio bookshop\, al quale è possibile accedere liberamente essendo uno spazio autonomo rispetto alla sede espositiva. Palazzo Zaguri dal 2019 avrà una sezione espositiva permanente. \nLa dott.ssa Silvana Cincotti e il prof. Livio Secco ospiti nella sede veneziana della Fondazione Giovanni Santin Onlus\, messa a disposizione per l’organizzazione della mostra “da Kandinsky a Botero” che si inaugurerà a fine ottobre a Palazzo Zaguri in Campo San Maurizio \n\n			\n				\n			\n			\n				\n			\n			\n				\n			\n			\n				\n			\n			\n				\n			\n			\n				\n			\n			\n				\n			\n			\n				\n			\n			\n				\n			\n			\n				\n			\n			\n				\n			\n			\n				\n			\n			\n				\n			\n			\n				\n			\n			\n				\n			\n			\n				\n			\n			\n				\n			\n			\n				\n			\n			\n				\n			\n			\n				\n			\n			\n				\n			\n			\n				\n			\n			\n				\n			\n			\n				\n			\n			\n				\n			\n			\n				\n			\n			\n				\n			\n			\n				\n			\n			\n				\n			\n			\n				\n			\n			\n				\n			\n			\n				\n			\n			\n				\n			\n			\n				\n			\n			\n				\n			\n			\n				\n			\n			\n				\n			\n			\n				\n			\n			\n				\n			\n			\n				\n			\n			\n				\n			\n			\n				\n			\n			\n				\n			\n			\n				\n			\n			\n				\n			\n			\n				\n			\n			\n				\n			\n			\n				\n			\n			\n				\n			\n			\n				\n			\n			\n				\n			\n			\n				\n			\n			\n				\n			\n			\n				\n			\n			\n				\n			\n			\n				\n			\n			\n				\n			\n			\n				\n			\n		\n\n 
URL:https://fondazionegiovannisantinets.it/events/da-kandinsky-a-botero-da-novembre-a-palazzo-zaguri/
LOCATION:Palazzo Zaguri\, Campo San Maurizio\, 2668\, Venezia\, 30124\, Italia
CATEGORIES:Mostre
ATTACH;FMTTYPE=image/jpeg:https://fondazionegiovannisantinets.it/wp-content/uploads/2024/04/thumbnail-27.jpeg
END:VEVENT
END:VCALENDAR