BEGIN:VCALENDAR
VERSION:2.0
PRODID:-//Fondazione Giovanni Santin ETS - ECPv6.15.14//NONSGML v1.0//EN
CALSCALE:GREGORIAN
METHOD:PUBLISH
X-WR-CALNAME:Fondazione Giovanni Santin ETS
X-ORIGINAL-URL:https://fondazionegiovannisantinets.it
X-WR-CALDESC:Eventi per Fondazione Giovanni Santin ETS
REFRESH-INTERVAL;VALUE=DURATION:PT1H
X-Robots-Tag:noindex
X-PUBLISHED-TTL:PT1H
BEGIN:VTIMEZONE
TZID:Europe/Rome
BEGIN:DAYLIGHT
TZOFFSETFROM:+0100
TZOFFSETTO:+0200
TZNAME:CEST
DTSTART:20180325T010000
END:DAYLIGHT
BEGIN:STANDARD
TZOFFSETFROM:+0200
TZOFFSETTO:+0100
TZNAME:CET
DTSTART:20181028T010000
END:STANDARD
BEGIN:DAYLIGHT
TZOFFSETFROM:+0100
TZOFFSETTO:+0200
TZNAME:CEST
DTSTART:20190331T010000
END:DAYLIGHT
BEGIN:STANDARD
TZOFFSETFROM:+0200
TZOFFSETTO:+0100
TZNAME:CET
DTSTART:20191027T010000
END:STANDARD
BEGIN:DAYLIGHT
TZOFFSETFROM:+0100
TZOFFSETTO:+0200
TZNAME:CEST
DTSTART:20200329T010000
END:DAYLIGHT
BEGIN:STANDARD
TZOFFSETFROM:+0200
TZOFFSETTO:+0100
TZNAME:CET
DTSTART:20201025T010000
END:STANDARD
END:VTIMEZONE
BEGIN:VEVENT
DTSTART;VALUE=DATE:20190726
DTEND;VALUE=DATE:20190809
DTSTAMP:20260421T192948
CREATED:20240420T142708Z
LAST-MODIFIED:20240420T142708Z
UID:10000245-1564099200-1565308799@fondazionegiovannisantinets.it
SUMMARY:LA CASA DI PORDENONE
DESCRIPTION:Museo Ricchieri Pordenone   LA CASA del PORDENONE   Immagini dello Studiolo \nFoto di Stefano Ciol  Opere di Alberto Magri con il sostegno della Fondazione    Giovanni Santin Onlus \n  \nLAVORI DI ALBERTO E GIANCARLO MAGRI\nUna pubblicazione per far conoscere e valorizzare la Casa Sacchiense e lo Studiolo del Pordenone. \nIl noto e apprezzato restauratore e illustratore pordenonese Alberto Magri sta preparando una pubblicazione con l’intento di far conoscere e valorizzare la Casa Sacchiense e lo Studiolo del Pordenone\, ubicato nel cuore del centro urbano di Pordenone\, dinnanzi alla piazzetta San Marco\, proprio di fronte al Duomo concattedrale\, ricco delle opere dello stesso “Pordenone”.\nLa pubblicazione è promossa dal Centro culturale Augusto Del Noce\, in coedizione con la Libreria al Segno; col contributo della Fondazione Friuli e alcuni sponsor\, in collaborazione con la Soprintendenza Archeologia Belle Arti e Paesaggio del FVG\, col patrocinio del Comune di Pordenone\, del Museo diocesano di Arte Sacra e la delegazione FAI di Pordenone. \n  \nE’ un’opera multidisciplinare. Nella prima parte l’Autore narra la vita del Pordenone\, col linguaggio dell’illustrazione\, attento alla persona\, alla sua creatività e al contesto storico in cui è vissuto. Un viaggio nella sua dimora\, nella città del suo tempo\, attraverso l’occhio dell’artista.\nLe introduzioni sono di Elisabetta Francescutti\, della Soprintendenza\, di Simone Toffolon direttore del Museo diocesano e di Giuseppe Morandin\, presidente della Fondazione Friuli. Nella seconda parte intervengono Giancarlo Magri\, padre di Alberto noto restauratore\, Giulio Cesare Testa\, Roberto Castenetto\, Angelo Crosato\, Giordano Brunettin\, con la collaborazione di Carolle Bidinot\, Gianluigi e Giovanni Magri\, Michele Bianchet\, Rudi e Marco Perin. L’impaginazione grafica è curata dallo stesso Magri\, da Debora De Paoli e Clara Carboncich\, dello studio grafico Interattiva di Spilimbergo. La stampa del volume verrà affidata a Lito Immagine di Rodeano.
URL:https://fondazionegiovannisantinets.it/events/la-casa-di-pordenone/
LOCATION:Leo Collin
CATEGORIES:Mostre
END:VEVENT
END:VCALENDAR