BEGIN:VCALENDAR
VERSION:2.0
PRODID:-//Fondazione Giovanni Santin ETS - ECPv6.15.14//NONSGML v1.0//EN
CALSCALE:GREGORIAN
METHOD:PUBLISH
X-ORIGINAL-URL:https://fondazionegiovannisantinets.it
X-WR-CALDESC:Eventi per Fondazione Giovanni Santin ETS
REFRESH-INTERVAL;VALUE=DURATION:PT1H
X-Robots-Tag:noindex
X-PUBLISHED-TTL:PT1H
BEGIN:VTIMEZONE
TZID:Europe/Rome
BEGIN:DAYLIGHT
TZOFFSETFROM:+0100
TZOFFSETTO:+0200
TZNAME:CEST
DTSTART:20140330T010000
END:DAYLIGHT
BEGIN:STANDARD
TZOFFSETFROM:+0200
TZOFFSETTO:+0100
TZNAME:CET
DTSTART:20141026T010000
END:STANDARD
BEGIN:DAYLIGHT
TZOFFSETFROM:+0100
TZOFFSETTO:+0200
TZNAME:CEST
DTSTART:20150329T010000
END:DAYLIGHT
BEGIN:STANDARD
TZOFFSETFROM:+0200
TZOFFSETTO:+0100
TZNAME:CET
DTSTART:20151025T010000
END:STANDARD
BEGIN:DAYLIGHT
TZOFFSETFROM:+0100
TZOFFSETTO:+0200
TZNAME:CEST
DTSTART:20160327T010000
END:DAYLIGHT
BEGIN:STANDARD
TZOFFSETFROM:+0200
TZOFFSETTO:+0100
TZNAME:CET
DTSTART:20161030T010000
END:STANDARD
BEGIN:DAYLIGHT
TZOFFSETFROM:+0100
TZOFFSETTO:+0200
TZNAME:CEST
DTSTART:20170326T010000
END:DAYLIGHT
BEGIN:STANDARD
TZOFFSETFROM:+0200
TZOFFSETTO:+0100
TZNAME:CET
DTSTART:20171029T010000
END:STANDARD
BEGIN:DAYLIGHT
TZOFFSETFROM:+0100
TZOFFSETTO:+0200
TZNAME:CEST
DTSTART:20180325T010000
END:DAYLIGHT
BEGIN:STANDARD
TZOFFSETFROM:+0200
TZOFFSETTO:+0100
TZNAME:CET
DTSTART:20181028T010000
END:STANDARD
BEGIN:DAYLIGHT
TZOFFSETFROM:+0100
TZOFFSETTO:+0200
TZNAME:CEST
DTSTART:20190331T010000
END:DAYLIGHT
BEGIN:STANDARD
TZOFFSETFROM:+0200
TZOFFSETTO:+0100
TZNAME:CET
DTSTART:20191027T010000
END:STANDARD
BEGIN:DAYLIGHT
TZOFFSETFROM:+0100
TZOFFSETTO:+0200
TZNAME:CEST
DTSTART:20200329T010000
END:DAYLIGHT
BEGIN:STANDARD
TZOFFSETFROM:+0200
TZOFFSETTO:+0100
TZNAME:CET
DTSTART:20201025T010000
END:STANDARD
BEGIN:DAYLIGHT
TZOFFSETFROM:+0100
TZOFFSETTO:+0200
TZNAME:CEST
DTSTART:20210328T010000
END:DAYLIGHT
BEGIN:STANDARD
TZOFFSETFROM:+0200
TZOFFSETTO:+0100
TZNAME:CET
DTSTART:20211031T010000
END:STANDARD
BEGIN:DAYLIGHT
TZOFFSETFROM:+0100
TZOFFSETTO:+0200
TZNAME:CEST
DTSTART:20220327T010000
END:DAYLIGHT
BEGIN:STANDARD
TZOFFSETFROM:+0200
TZOFFSETTO:+0100
TZNAME:CET
DTSTART:20221030T010000
END:STANDARD
BEGIN:DAYLIGHT
TZOFFSETFROM:+0100
TZOFFSETTO:+0200
TZNAME:CEST
DTSTART:20230326T010000
END:DAYLIGHT
BEGIN:STANDARD
TZOFFSETFROM:+0200
TZOFFSETTO:+0100
TZNAME:CET
DTSTART:20231029T010000
END:STANDARD
BEGIN:DAYLIGHT
TZOFFSETFROM:+0100
TZOFFSETTO:+0200
TZNAME:CEST
DTSTART:20240331T010000
END:DAYLIGHT
BEGIN:STANDARD
TZOFFSETFROM:+0200
TZOFFSETTO:+0100
TZNAME:CET
DTSTART:20241027T010000
END:STANDARD
BEGIN:DAYLIGHT
TZOFFSETFROM:+0100
TZOFFSETTO:+0200
TZNAME:CEST
DTSTART:20250330T010000
END:DAYLIGHT
BEGIN:STANDARD
TZOFFSETFROM:+0200
TZOFFSETTO:+0100
TZNAME:CET
DTSTART:20251026T010000
END:STANDARD
BEGIN:DAYLIGHT
TZOFFSETFROM:+0100
TZOFFSETTO:+0200
TZNAME:CEST
DTSTART:20260329T010000
END:DAYLIGHT
BEGIN:STANDARD
TZOFFSETFROM:+0200
TZOFFSETTO:+0100
TZNAME:CET
DTSTART:20261025T010000
END:STANDARD
BEGIN:DAYLIGHT
TZOFFSETFROM:+0100
TZOFFSETTO:+0200
TZNAME:CEST
DTSTART:20270328T010000
END:DAYLIGHT
BEGIN:STANDARD
TZOFFSETFROM:+0200
TZOFFSETTO:+0100
TZNAME:CET
DTSTART:20271031T010000
END:STANDARD
END:VTIMEZONE
BEGIN:VEVENT
DTSTART;VALUE=DATE:20260126
DTEND;VALUE=DATE:20260127
DTSTAMP:20260421T221359
CREATED:20260119T112215Z
LAST-MODIFIED:20260119T112215Z
UID:10000403-1769385600-1769471999@fondazionegiovannisantinets.it
SUMMARY:Giornata della Memoria - STORIE RITROVATE ... per non dimenticare
DESCRIPTION:
URL:https://fondazionegiovannisantinets.it/events/giornata-della-memoria-storie-ritrovate-per-non-dimenticare/
LOCATION:Galleria d’Arte Hotel Santin\, Via delle Grazie 9\, Pordenone\, 33170\, Italia
CATEGORIES:Attività
ATTACH;FMTTYPE=image/jpeg:https://fondazionegiovannisantinets.it/wp-content/uploads/2026/01/WhatsApp-Image-2026-01-12-at-10.44.06-2.jpeg
END:VEVENT
BEGIN:VEVENT
DTSTART;VALUE=DATE:20251216
DTEND;VALUE=DATE:20251217
DTSTAMP:20260421T221359
CREATED:20251230T094025Z
LAST-MODIFIED:20251230T094025Z
UID:10000396-1765843200-1765929599@fondazionegiovannisantinets.it
SUMMARY:Incontro con l'autore MASSIMO CARLOTTO
DESCRIPTION:
URL:https://fondazionegiovannisantinets.it/events/incontro-con-lautore-massimo-carlotto/
LOCATION:Galleria d’Arte Hotel Santin\, Via delle Grazie 9\, Pordenone\, 33170\, Italia
CATEGORIES:Attività
ATTACH;FMTTYPE=image/jpeg:https://fondazionegiovannisantinets.it/wp-content/uploads/2025/12/WhatsApp-Image-2025-12-05-at-21.43.08-1.jpeg
END:VEVENT
BEGIN:VEVENT
DTSTART;VALUE=DATE:20251205
DTEND;VALUE=DATE:20251206
DTSTAMP:20260421T221359
CREATED:20251230T100649Z
LAST-MODIFIED:20251230T100649Z
UID:10000399-1764892800-1764979199@fondazionegiovannisantinets.it
SUMMARY:Presentazione del libro "DI VITA IN VITA" di Sara Zanella
DESCRIPTION:https://pordenoneoggi.it/pordenone/di-vita-in-vita-libro-sara-zanella-al-santin-il-5-dicembre/
URL:https://fondazionegiovannisantinets.it/events/presentazione-del-libro-di-vita-in-vita-di-sara-zanella/
LOCATION:Galleria d’Arte Hotel Santin\, Via delle Grazie 9\, Pordenone\, 33170\, Italia
CATEGORIES:Attività
ATTACH;FMTTYPE=image/jpeg:https://fondazionegiovannisantinets.it/wp-content/uploads/2025/12/IMG-20251124-WA0006.jpg
END:VEVENT
BEGIN:VEVENT
DTSTART;VALUE=DATE:20251128
DTEND;VALUE=DATE:20251129
DTSTAMP:20260421T221359
CREATED:20251230T101115Z
LAST-MODIFIED:20251230T101207Z
UID:10000400-1764288000-1764374399@fondazionegiovannisantinets.it
SUMMARY:Presentazione del libro "Mistiche di terra - il totem è muto\, la terra parla\, tolto l'inutile" di Massimo Buset
DESCRIPTION:
URL:https://fondazionegiovannisantinets.it/events/presentazione-del-libro-mistiche-di-terra-il-totem-e-muto-la-terra-parla-tolto-linutile-di-massimo-buset/
LOCATION:Galleria d’Arte Hotel Santin\, Via delle Grazie 9\, Pordenone\, 33170\, Italia
CATEGORIES:Attività
ATTACH;FMTTYPE=image/jpeg:https://fondazionegiovannisantinets.it/wp-content/uploads/2025/12/IMG-20251124-WA0000.jpg
END:VEVENT
BEGIN:VEVENT
DTSTART;VALUE=DATE:20251114
DTEND;VALUE=DATE:20251115
DTSTAMP:20260421T221359
CREATED:20251121T092218Z
LAST-MODIFIED:20251121T092218Z
UID:10000388-1763078400-1763164799@fondazionegiovannisantinets.it
SUMMARY:Presentazione del libro "MAI INDIFFERENTE" di Paola Dalle Molle
DESCRIPTION:https://pordenoneoggi.it/pordenone/presentazione-il-14-libro-mai-indifferente-di-paola-dalle-molle/
URL:https://fondazionegiovannisantinets.it/events/presentazione-del-libro-mai-indifferente-di-paola-dalle-molle/
LOCATION:Galleria d’Arte Hotel Santin\, Via delle Grazie 9\, Pordenone\, 33170\, Italia
CATEGORIES:Attività
ATTACH;FMTTYPE=image/jpeg:https://fondazionegiovannisantinets.it/wp-content/uploads/2025/11/WhatsApp-Image-2025-11-16-at-07.17.12.jpeg
END:VEVENT
BEGIN:VEVENT
DTSTART;VALUE=DATE:20250912
DTEND;VALUE=DATE:20260111
DTSTAMP:20260421T221359
CREATED:20250924T102016Z
LAST-MODIFIED:20260415T105606Z
UID:10000380-1757635200-1768089599@fondazionegiovannisantinets.it
SUMMARY:"Libri d'Artista" di Stefano Jus
DESCRIPTION:  \n\n			\n				\n			\n			\n				\n			\n			\n				\n			\n			\n				\n			\n			\n				\n			\n			\n				\n			\n			\n				\n			\n			\n				\n			\n			\n				\n			\n			\n				\n			\n			\n				\n			\n			\n				\n			\n			\n				\n			\n			\n				\n			\n			\n				\n			\n		\n\nhttps://pordenoneoggi.it/pordenone/libri-dartista-di-stefano-jus-inaugurazione-il-12-al-santin/ \n\n			\n				\n			\n			\n				\n			\n			\n				\n			\n			\n				\n			\n			\n				\n			\n			\n				\n			\n			\n				\n			\n			\n				\n			\n			\n				\n			\n			\n				\n			\n			\n				\n			\n		\n\n 
URL:https://fondazionegiovannisantinets.it/events/libri-dartista-di-stefano-jus/
LOCATION:Galleria d’Arte Hotel Santin\, Via delle Grazie 9\, Pordenone\, 33170\, Italia
CATEGORIES:Mostre
ATTACH;FMTTYPE=image/jpeg:https://fondazionegiovannisantinets.it/wp-content/uploads/2025/09/locandina-Jus.jpg
END:VEVENT
BEGIN:VEVENT
DTSTART;VALUE=DATE:20250325
DTEND;VALUE=DATE:20250326
DTSTAMP:20260421T221359
CREATED:20250326T114041Z
LAST-MODIFIED:20250326T114929Z
UID:10000365-1742860800-1742947199@fondazionegiovannisantinets.it
SUMMARY:La grammatica del CAFFE'
DESCRIPTION:  \nhttps://pordenoneoggi.it/pordenone/la-grammatica-del-caffe-di-daria-illy-presentazione-il-25-al-santin/
URL:https://fondazionegiovannisantinets.it/events/la-grammatica-del-caffe/
LOCATION:Galleria d’Arte Hotel Santin\, Via delle Grazie 9\, Pordenone\, 33170\, Italia
CATEGORIES:Attività
ATTACH;FMTTYPE=image/jpeg:https://fondazionegiovannisantinets.it/wp-content/uploads/2025/03/WhatsApp-Image-2025-03-25-at-21.31.49.jpeg
END:VEVENT
BEGIN:VEVENT
DTSTART;VALUE=DATE:20250131
DTEND;VALUE=DATE:20250512
DTSTAMP:20260421T221359
CREATED:20250123T104052Z
LAST-MODIFIED:20250123T105712Z
UID:10000361-1738281600-1747007999@fondazionegiovannisantinets.it
SUMMARY:"TESTIMONIANZE" MATILDE SANTIN - OSCAR DAMIAN
DESCRIPTION:https://pordenoneoggi.it/pordenone/galleria-darte-giovanni-santin-il-31-inaugurazione-mostra-testimonianze/
URL:https://fondazionegiovannisantinets.it/events/testimonianze-matilde-santin-oscar-damian/
LOCATION:Galleria d’Arte Hotel Santin\, Via delle Grazie 9\, Pordenone\, 33170\, Italia
CATEGORIES:Mostre
ATTACH;FMTTYPE=image/jpeg:https://fondazionegiovannisantinets.it/wp-content/uploads/2025/01/WhatsApp-Image-2025-01-23-at-09.18.42.jpeg
END:VEVENT
BEGIN:VEVENT
DTSTART;VALUE=DATE:20241122
DTEND;VALUE=DATE:20241123
DTSTAMP:20260421T221359
CREATED:20241112T102117Z
LAST-MODIFIED:20241112T102216Z
UID:10000356-1732233600-1732319999@fondazionegiovannisantinets.it
SUMMARY:ROSE ROSSE?
DESCRIPTION:  \nCon il patrocinio del Comune di Pordenone.\nMercoledì 22 novembre alle ore 18:00 presso\nl’Hotel Santin di Pordenone\nFondazione Giovanni Santin onlus\,\nFidapa Pordenone\nCoordinamento Regionale P.O. AUSER FVG Osservatorio Pari Opportunità Auser Nazionale\nAUSER Territoriale Pordenone\nVi invitano all’evento: “Rose Rosse”\nUn recital con l’obiettivo di sensibilizzare ed approfondire il tema del contrasto alla violenza sulle donne. \n  \nhttps://www.comune.pordenone.it/it/file/eventi/calendario-uniti-contro-la-violenza-sulle-donne_versione_28-10-2024-11.pdf \n 
URL:https://fondazionegiovannisantinets.it/events/rose-rosse/
LOCATION:Galleria d’Arte Hotel Santin\, Via delle Grazie 9\, Pordenone\, 33170\, Italia
CATEGORIES:Attività
ATTACH;FMTTYPE=image/jpeg:https://fondazionegiovannisantinets.it/wp-content/uploads/2024/11/WhatsApp-Image-2024-11-12-at-10.51.03.jpeg
END:VEVENT
BEGIN:VEVENT
DTSTART;VALUE=DATE:20241029
DTEND;VALUE=DATE:20241030
DTSTAMP:20260421T221359
CREATED:20241030T120326Z
LAST-MODIFIED:20241030T120326Z
UID:10000348-1730160000-1730246399@fondazionegiovannisantinets.it
SUMMARY:LE DONNE DEL TESSILE DEL FRIULI VENEZIA GIULIA SI RACCONTANO
DESCRIPTION:
URL:https://fondazionegiovannisantinets.it/events/le-donne-del-tessile-del-friuli-venezia-giulia-si-raccontano/
LOCATION:Galleria d’Arte Hotel Santin\, Via delle Grazie 9\, Pordenone\, 33170\, Italia
CATEGORIES:Attività
ATTACH;FMTTYPE=image/jpeg:https://fondazionegiovannisantinets.it/wp-content/uploads/2024/10/WhatsApp-Image-2024-10-18-at-17.54.44.jpeg
END:VEVENT
BEGIN:VEVENT
DTSTART;VALUE=DATE:20241015
DTEND;VALUE=DATE:20241016
DTSTAMP:20260421T221359
CREATED:20241030T122131Z
LAST-MODIFIED:20241030T122131Z
UID:10000349-1728950400-1729036799@fondazionegiovannisantinets.it
SUMMARY:Visita mostra di Renato De Marco
DESCRIPTION:
URL:https://fondazionegiovannisantinets.it/events/visita-mostra-di-renato-de-marco/
LOCATION:Galleria d’Arte Hotel Santin\, Via delle Grazie 9\, Pordenone\, 33170\, Italia
CATEGORIES:Attività
ATTACH;FMTTYPE=image/jpeg:https://fondazionegiovannisantinets.it/wp-content/uploads/2024/10/WhatsApp-Image-2024-10-13-at-10.36.02.jpeg
END:VEVENT
BEGIN:VEVENT
DTSTART;VALUE=DATE:20240914
DTEND;VALUE=DATE:20250111
DTSTAMP:20260421T221359
CREATED:20241014T094821Z
LAST-MODIFIED:20241014T094821Z
UID:10000345-1726272000-1736553599@fondazionegiovannisantinets.it
SUMMARY:Renato De Marco "Invidio Bukowski"
DESCRIPTION:Espone Renato De Marco “Invidio Bukowski” a cura di Franca Benvenuti. \nInaugurazione il 14 settembre 2024 alle ore 18.00 presso Galleria d’Arte Giovanni Santin.
URL:https://fondazionegiovannisantinets.it/events/renato-de-marco-invidio-bukowski/
LOCATION:Galleria d’Arte Hotel Santin\, Via delle Grazie 9\, Pordenone\, 33170\, Italia
CATEGORIES:Mostre
ATTACH;FMTTYPE=image/jpeg:https://fondazionegiovannisantinets.it/wp-content/uploads/2024/10/WhatsApp-Image-2024-10-13-at-22.37.11.jpeg
END:VEVENT
BEGIN:VEVENT
DTSTART;VALUE=DATE:20240717
DTEND;VALUE=DATE:20240718
DTSTAMP:20260421T221359
CREATED:20240805T085500Z
LAST-MODIFIED:20240805T085547Z
UID:10000336-1721174400-1721260799@fondazionegiovannisantinets.it
SUMMARY:Presentazione del libro "Quattro passi insieme"
DESCRIPTION:“Quattro passi insieme” presentazione libro il 17 all’Hotel Santin
URL:https://fondazionegiovannisantinets.it/events/presentazione-del-libro-quattro-passi-insieme/
LOCATION:Galleria d’Arte Hotel Santin\, Via delle Grazie 9\, Pordenone\, 33170\, Italia
CATEGORIES:Attività
ATTACH;FMTTYPE=image/jpeg:https://fondazionegiovannisantinets.it/wp-content/uploads/2024/08/WhatsApp-Image-2024-07-16-at-16.42.34.jpeg
END:VEVENT
BEGIN:VEVENT
DTSTART;VALUE=DATE:20240617
DTEND;VALUE=DATE:20240618
DTSTAMP:20260421T221359
CREATED:20240605T101824Z
LAST-MODIFIED:20240605T102134Z
UID:10000325-1718582400-1718668799@fondazionegiovannisantinets.it
SUMMARY:Presentazione del libro "VIOLE DI PRIMAVERA" di FABIO MUCCIN
DESCRIPTION:
URL:https://fondazionegiovannisantinets.it/events/presentazione-del-libro-viole-di-primavera-di-fabio-muccin/
LOCATION:Galleria d’Arte Hotel Santin\, Via delle Grazie 9\, Pordenone\, 33170\, Italia
CATEGORIES:Attività
ATTACH;FMTTYPE=image/jpeg:https://fondazionegiovannisantinets.it/wp-content/uploads/2024/06/WhatsApp-Image-2024-06-03-at-13.56.09.jpeg
END:VEVENT
BEGIN:VEVENT
DTSTART;VALUE=DATE:20240531
DTEND;VALUE=DATE:20240909
DTSTAMP:20260421T221359
CREATED:20240605T103400Z
LAST-MODIFIED:20260415T105113Z
UID:10000327-1717113600-1725839999@fondazionegiovannisantinets.it
SUMMARY:MASSIMILIANA SONEGO "DIARIO INTERIORE"
DESCRIPTION:“Diario interiore”\, mostra Sonego si inaugura il 31 al Santin
URL:https://fondazionegiovannisantinets.it/events/massimiliana-sonego-diario-interiore/
LOCATION:Galleria d’Arte Hotel Santin\, Via delle Grazie 9\, Pordenone\, 33170\, Italia
CATEGORIES:Mostre
ATTACH;FMTTYPE=image/jpeg:https://fondazionegiovannisantinets.it/wp-content/uploads/2024/06/locandina-Sonego.jpg
END:VEVENT
BEGIN:VEVENT
DTSTART;VALUE=DATE:20240126
DTEND;VALUE=DATE:20240511
DTSTAMP:20260421T221359
CREATED:20260415T110016Z
LAST-MODIFIED:20260415T110016Z
UID:10000412-1706227200-1715385599@fondazionegiovannisantinets.it
SUMMARY:FRANCO DURANTE "FORMA\, LINEA E COLORE"
DESCRIPTION:
URL:https://fondazionegiovannisantinets.it/events/franco-durante-forma-linea-e-colore/
LOCATION:Galleria d’Arte Hotel Santin\, Via delle Grazie 9\, Pordenone\, 33170\, Italia
CATEGORIES:Mostre
ATTACH;FMTTYPE=image/jpeg:https://fondazionegiovannisantinets.it/wp-content/uploads/2026/04/locandina-Durante.jpg
END:VEVENT
BEGIN:VEVENT
DTSTART;VALUE=DATE:20231219
DTEND;VALUE=DATE:20231220
DTSTAMP:20260421T221359
CREATED:20240418T194215Z
LAST-MODIFIED:20240421T185421Z
UID:10000158-1702944000-1703030399@fondazionegiovannisantinets.it
SUMMARY:FINISSAGE DELLA MOSTRA FOTOGRAFICA DI RENZO DANELUZZI
DESCRIPTION:Ieri sera nella Galleria Santin si è svolto il finissage della mostra fotografica “Ferma la Violenza” di Renzo Daneluzzi\, curata da Franca Benvenuti.  La serata ha regalato a tutti i presenti forti emozioni per le letture interpretate dalla Compagnia Nuda Scena e i pezzi musicali eseguiti dalla violinista Elena Allegretto. Sono state presentate alcune storie di donne che hanno avuto un ruolo determinante nella vita di tutti noi e che hanno rivoluzionato concetti\, ambiti\, approcci ad esclusivo appannaggio del mondo maschile.  La Compagnia Nuda Scena negli ultimi anni ha realizzato un progetto molto interessante\, Vite Controcorrente\, con il fine di portare alla luce vite sconosciute\, nomi ignoti ai più perché\, sapere  che certi mutamenti sono avvenuti grazie a capacità femminili in tempi immemori\, rappresenta la giusta sintesi per parlare al femminile. Tra i testi letti e i brani musicali eseguiti al violino si è creata un’alchimia veramente speciale che tutti i presenti hanno potuto percepire. Grazie a Renzo. \n\n			\n				\n			\n			\n				\n			\n			\n				\n			\n			\n				\n			\n			\n				\n			\n			\n				\n			\n			\n				\n			\n			\n				\n			\n			\n				\n			\n			\n				\n			\n			\n				\n			\n			\n				\n			\n			\n				\n			\n			\n				\n			\n			\n				\n			\n			\n				\n			\n			\n				\n			\n			\n				\n			\n			\n				\n			\n			\n				\n			\n			\n				\n			\n		\n\n  \n 
URL:https://fondazionegiovannisantinets.it/events/finissage-della-mostra-fotografica-di-renzo-daneluzzi/
LOCATION:Galleria d’Arte Hotel Santin\, Via delle Grazie 9\, Pordenone\, 33170\, Italia
CATEGORIES:Attività
ATTACH;FMTTYPE=image/jpeg:https://fondazionegiovannisantinets.it/wp-content/uploads/2024/04/img-20231215-wa0003-xkoo2reump.jpg
END:VEVENT
BEGIN:VEVENT
DTSTART;TZID=Europe/Rome:20231216T213000
DTEND;TZID=Europe/Rome:20231216T230000
DTSTAMP:20260421T221359
CREATED:20240412T105249Z
LAST-MODIFIED:20240421T185458Z
UID:10000018-1702762200-1702767600@fondazionegiovannisantinets.it
SUMMARY:Presentazione del libro "i catari e il loro mistero"
DESCRIPTION:È stato un piacere ieri sera per la Fondazione Giovanni Santin onlus\, ospitare lo scrittore Giorgio Baietti che ci ha presentato il suo ultimo libro “I CATARI E IL LORO MISTERO”.  \n\n\n\nLa grande storia di un pensiero d’amore.   \n\n\n\nI Catari\, questo popolo buono\, giusto\, che é stato attaccato e distrutto dai potenti del tempo. 
URL:https://fondazionegiovannisantinets.it/events/presentazione-del-libro-i-catari-e-il-loro-mistero/
LOCATION:Galleria d’Arte Hotel Santin\, Via delle Grazie 9\, Pordenone\, 33170\, Italia
CATEGORIES:Attività
ATTACH;FMTTYPE=image/jpeg:https://fondazionegiovannisantinets.it/wp-content/uploads/2024/03/img-20231219-wa0004-0imsdnpfub-1.jpg
END:VEVENT
BEGIN:VEVENT
DTSTART;VALUE=DATE:20230906
DTEND;VALUE=DATE:20240107
DTSTAMP:20260421T221359
CREATED:20240421T084013Z
LAST-MODIFIED:20240421T084013Z
UID:10000284-1693958400-1704585599@fondazionegiovannisantinets.it
SUMMARY:Segni quasi persi
DESCRIPTION:
URL:https://fondazionegiovannisantinets.it/events/segni-quasi-persi/
LOCATION:Galleria d’Arte Hotel Santin\, Via delle Grazie 9\, Pordenone\, 33170\, Italia
CATEGORIES:Mostre
ATTACH;FMTTYPE=image/jpeg:https://fondazionegiovannisantinets.it/wp-content/uploads/2024/04/thumbnail-33.jpeg
END:VEVENT
BEGIN:VEVENT
DTSTART;VALUE=DATE:20230321
DTEND;VALUE=DATE:20231206
DTSTAMP:20260421T221359
CREATED:20240404T072248Z
LAST-MODIFIED:20240404T073812Z
UID:10000003-1679356800-1701820799@fondazionegiovannisantinets.it
SUMMARY:FERMA LA VIOLENZA
DESCRIPTION:In un mondo ideale la lotta contro la violenza maschile sulla donna non dovrebbe esistere\, ma il fenomeno continua ad essere di drammatica attualità modificandosi con il mutare dei costumi. \nOggi più che mai è necessario che tutte le donne\, come quelle fotografate da Renzo Daneluzzi per questa mostra\, si uniscano per creare uno scudo contro la violenza degli uomini che usano l’amore o la paura come pretesto per sentirsi forti. \nFermare la violenza è un’utopia? Vogliamo credere che tutti insieme\, donne e uomini\, lo si possa e lo si debba fare perché\, come disse\, nel lontano 1993\, l’allora Segretario Generale delle Nazioni Unite Kofi Annan “La violenza contro le donne è forse la più vergognosa violazione dei diritti umani. E forse è la più diffusa. \nNon conosce confini geografici\, culturali o di stato sociale. Finché continuerà\, non potremo pretendere di realizzare un vero progresso verso l’eguaglianza\, lo sviluppo e la pace”. \nA seguire ci sarà una degustazione emozionale con Prosecco rosé\, Cantina Principi di Porcia\, a cura di Maria Teresa Gasparet di Sorsi e Percorsi. \nLa mostra Ferma la violenza sarà visitabile fino al 5 dicembre nella galleria Giovanni Santin dove è allestita la mostra Segni quasi persi di Gianni Pasotti\, visitabile fino al 6 gennaio 2024. \nRenzo Daneluzzi ha iniziato la sua attività di fotografo nei primi anni 80 e ha conseguito significativi premi in Italia e all’estero: hanno parlato dei suoi lavori e pubblicato le sue opere sia la stampa regionale che numerose riviste nazionali. \nFranca Benvenuti \n\n			\n				\n			\n			\n				\n			\n			\n				\n			\n			\n				\n			\n			\n				\n			\n			\n				\n			\n			\n				\n			\n			\n				\n			\n			\n				\n			\n			\n				\n			\n			\n				\n			\n			\n				\n			\n			\n				\n			\n			\n				\n			\n			\n				\n			\n			\n				\n			\n			\n				\n			\n		\n \n  \n 
URL:https://fondazionegiovannisantinets.it/events/ferma-la-violenza/
LOCATION:Galleria d’Arte Hotel Santin\, Via delle Grazie 9\, Pordenone\, 33170\, Italia
CATEGORIES:Mostre
ATTACH;FMTTYPE=image/jpeg:https://fondazionegiovannisantinets.it/wp-content/uploads/2024/04/img-20231205-wa0001_1-apuasc3uzw.jpg
END:VEVENT
BEGIN:VEVENT
DTSTART;VALUE=DATE:20230101
DTEND;VALUE=DATE:20230601
DTSTAMP:20260421T221359
CREATED:20240410T204403Z
LAST-MODIFIED:20240410T204403Z
UID:10000015-1672531200-1685577599@fondazionegiovannisantinets.it
SUMMARY:GALLERIA D'ARTE GIOVANNI SANTIN - MARISA BIDESE
DESCRIPTION:
URL:https://fondazionegiovannisantinets.it/events/galleria-darte-giovanni-santin-marisa-bidese/
LOCATION:Galleria d’Arte Hotel Santin\, Via delle Grazie 9\, Pordenone\, 33170\, Italia
CATEGORIES:Mostre
ATTACH;FMTTYPE=image/jpeg:https://fondazionegiovannisantinets.it/wp-content/uploads/2024/04/img-20230307-wa0005-1jifbnguww-1.jpg
END:VEVENT
BEGIN:VEVENT
DTSTART;VALUE=DATE:20150626
DTEND;VALUE=DATE:20150627
DTSTAMP:20260421T221359
CREATED:20240418T191959Z
LAST-MODIFIED:20240418T191959Z
UID:10000145-1435276800-1435363199@fondazionegiovannisantinets.it
SUMMARY:PAOLO DIZIO CIOT
DESCRIPTION:Dal 26 Giugno 2015\, presso la hall dell’Hotel Santin di Pordenone\, sono state esposte le opere fotografiche Paolo Dizio Ciot.
URL:https://fondazionegiovannisantinets.it/events/paolo-dizio-ciot/
LOCATION:Galleria d’Arte Hotel Santin\, Via delle Grazie 9\, Pordenone\, 33170\, Italia
CATEGORIES:Mostre
ATTACH;FMTTYPE=image/jpeg:https://fondazionegiovannisantinets.it/wp-content/uploads/2024/04/img_8738-1glizdlw9.jpg
END:VEVENT
BEGIN:VEVENT
DTSTART;VALUE=DATE:20150424
DTEND;VALUE=DATE:20150425
DTSTAMP:20260421T221359
CREATED:20240418T190217Z
LAST-MODIFIED:20240418T190217Z
UID:10000136-1429833600-1429919999@fondazionegiovannisantinets.it
SUMMARY:PATRIZIA SERENA
DESCRIPTION:La Fondazione Giovanni Santin Onlus ha sostenuto l’evento che si è svolto sabato 24 Aprile 2015\, presso l’Hotel Santin\, a Pordenone in via delle Grazie 9. Durante la degustazioni di vini\, offerti dalla cantina Rive Col de Fer di Caneva\, si sono potuti ammirare i Mosaici dell’artista Patrizia Serena. \n 
URL:https://fondazionegiovannisantinets.it/events/patrizia-serena/
LOCATION:Galleria d’Arte Hotel Santin\, Via delle Grazie 9\, Pordenone\, 33170\, Italia
CATEGORIES:Mostre
ATTACH;FMTTYPE=image/jpeg:https://fondazionegiovannisantinets.it/wp-content/uploads/2024/04/evento_giovanna-7ixkpsthtg.jpg
END:VEVENT
END:VCALENDAR