BEGIN:VCALENDAR
VERSION:2.0
PRODID:-//Fondazione Giovanni Santin ETS - ECPv6.15.14//NONSGML v1.0//EN
CALSCALE:GREGORIAN
METHOD:PUBLISH
X-ORIGINAL-URL:https://fondazionegiovannisantinets.it
X-WR-CALDESC:Eventi per Fondazione Giovanni Santin ETS
REFRESH-INTERVAL;VALUE=DURATION:PT1H
X-Robots-Tag:noindex
X-PUBLISHED-TTL:PT1H
BEGIN:VTIMEZONE
TZID:Europe/Rome
BEGIN:DAYLIGHT
TZOFFSETFROM:+0100
TZOFFSETTO:+0200
TZNAME:CEST
DTSTART:20250330T010000
END:DAYLIGHT
BEGIN:STANDARD
TZOFFSETFROM:+0200
TZOFFSETTO:+0100
TZNAME:CET
DTSTART:20251026T010000
END:STANDARD
BEGIN:DAYLIGHT
TZOFFSETFROM:+0100
TZOFFSETTO:+0200
TZNAME:CEST
DTSTART:20260329T010000
END:DAYLIGHT
BEGIN:STANDARD
TZOFFSETFROM:+0200
TZOFFSETTO:+0100
TZNAME:CET
DTSTART:20261025T010000
END:STANDARD
BEGIN:DAYLIGHT
TZOFFSETFROM:+0100
TZOFFSETTO:+0200
TZNAME:CEST
DTSTART:20270328T010000
END:DAYLIGHT
BEGIN:STANDARD
TZOFFSETFROM:+0200
TZOFFSETTO:+0100
TZNAME:CET
DTSTART:20271031T010000
END:STANDARD
END:VTIMEZONE
BEGIN:VEVENT
DTSTART;VALUE=DATE:20260116
DTEND;VALUE=DATE:20260504
DTSTAMP:20260420T095702
CREATED:20260114T114907Z
LAST-MODIFIED:20260415T105355Z
UID:10000402-1768521600-1777852799@fondazionegiovannisantinets.it
SUMMARY:"MATERIE VIVE" di Alberto Pasqual
DESCRIPTION:  \nhttps://pordenoneoggi.it/pordenone/inaugurata-al-santin-mostra-materie-vive-di-alberto-pasqual/ \nhttps://lacittanordest.it/materie-vive-inaugura-un-nuovo-biennio-di-esposizioni/
URL:https://fondazionegiovannisantinets.it/events/materie-vive-di-alberto-pasqual/
LOCATION:Galleria d’Arte Hotel Santin\, Via delle Grazie 9\, Pordenone\, 33170\, Italia
CATEGORIES:Mostre
ATTACH;FMTTYPE=image/jpeg:https://fondazionegiovannisantinets.it/wp-content/uploads/2026/01/locandina-Pasqual.jpg
END:VEVENT
BEGIN:VEVENT
DTSTART;VALUE=DATE:20260328
DTEND;VALUE=DATE:20260531
DTSTAMP:20260420T095702
CREATED:20260324T075040Z
LAST-MODIFIED:20260330T095708Z
UID:10000410-1774656000-1780185599@fondazionegiovannisantinets.it
SUMMARY:VerdArte Pasiano di Pordenone
DESCRIPTION:
URL:https://fondazionegiovannisantinets.it/events/verdarte-pasiano-di-pordenone/
LOCATION:Parco La Munaressa Pasiano di Pordenone
CATEGORIES:Mostre
ATTACH;FMTTYPE=image/png:https://fondazionegiovannisantinets.it/wp-content/uploads/2026/03/Screenshot_20260316-173753.WPS-Office3-1.jpg
END:VEVENT
END:VCALENDAR