BEGIN:VCALENDAR
VERSION:2.0
PRODID:-//Fondazione Giovanni Santin ETS - ECPv6.15.14//NONSGML v1.0//EN
CALSCALE:GREGORIAN
METHOD:PUBLISH
X-WR-CALNAME:Fondazione Giovanni Santin ETS
X-ORIGINAL-URL:https://fondazionegiovannisantinets.it
X-WR-CALDESC:Eventi per Fondazione Giovanni Santin ETS
REFRESH-INTERVAL;VALUE=DURATION:PT1H
X-Robots-Tag:noindex
X-PUBLISHED-TTL:PT1H
BEGIN:VTIMEZONE
TZID:Europe/Rome
BEGIN:DAYLIGHT
TZOFFSETFROM:+0100
TZOFFSETTO:+0200
TZNAME:CEST
DTSTART:20240331T010000
END:DAYLIGHT
BEGIN:STANDARD
TZOFFSETFROM:+0200
TZOFFSETTO:+0100
TZNAME:CET
DTSTART:20241027T010000
END:STANDARD
BEGIN:DAYLIGHT
TZOFFSETFROM:+0100
TZOFFSETTO:+0200
TZNAME:CEST
DTSTART:20250330T010000
END:DAYLIGHT
BEGIN:STANDARD
TZOFFSETFROM:+0200
TZOFFSETTO:+0100
TZNAME:CET
DTSTART:20251026T010000
END:STANDARD
BEGIN:DAYLIGHT
TZOFFSETFROM:+0100
TZOFFSETTO:+0200
TZNAME:CEST
DTSTART:20260329T010000
END:DAYLIGHT
BEGIN:STANDARD
TZOFFSETFROM:+0200
TZOFFSETTO:+0100
TZNAME:CET
DTSTART:20261025T010000
END:STANDARD
BEGIN:DAYLIGHT
TZOFFSETFROM:+0100
TZOFFSETTO:+0200
TZNAME:CEST
DTSTART:20270328T010000
END:DAYLIGHT
BEGIN:STANDARD
TZOFFSETFROM:+0200
TZOFFSETTO:+0100
TZNAME:CET
DTSTART:20271031T010000
END:STANDARD
END:VTIMEZONE
BEGIN:VEVENT
DTSTART;VALUE=DATE:20260325
DTEND;VALUE=DATE:20260326
DTSTAMP:20260421T074223
CREATED:20260324T081204Z
LAST-MODIFIED:20260330T101022Z
UID:10000411-1774396800-1774483199@fondazionegiovannisantinets.it
SUMMARY:GIOVANNI TARANTO presenta "La Chianca"
DESCRIPTION:
URL:https://fondazionegiovannisantinets.it/events/giovanni-taranto-presenta-la-chianca/
LOCATION:Hotel Santin
CATEGORIES:Attività
ATTACH;FMTTYPE=image/jpeg:https://fondazionegiovannisantinets.it/wp-content/uploads/2026/03/WhatsApp-Image-2026-03-23-at-09.01.28.jpeg
END:VEVENT
BEGIN:VEVENT
DTSTART;VALUE=DATE:20260228
DTEND;VALUE=DATE:20260413
DTSTAMP:20260421T074223
CREATED:20260212T100934Z
LAST-MODIFIED:20260212T101146Z
UID:10000406-1772236800-1776038399@fondazionegiovannisantinets.it
SUMMARY:QUARTA EDIZIONE 2026 - gemme - nuovi orizzonti musicali
DESCRIPTION:
URL:https://fondazionegiovannisantinets.it/events/quarta-edizione-2026-gemme-nuovi-orizzonti-musicali/
LOCATION:Ex convento di San Francesco\, Pordenone\, Italy
CATEGORIES:Attività
ATTACH;FMTTYPE=image/jpeg:https://fondazionegiovannisantinets.it/wp-content/uploads/2026/02/WhatsApp-Image-2026-02-12-at-11.08.00-1.jpeg
END:VEVENT
BEGIN:VEVENT
DTSTART;VALUE=DATE:20260228
DTEND;VALUE=DATE:20260301
DTSTAMP:20260421T074223
CREATED:20260227T080042Z
LAST-MODIFIED:20260227T080042Z
UID:10000409-1772236800-1772323199@fondazionegiovannisantinets.it
SUMMARY:RECITAL - Alberto Cartuccia Cingolani -
DESCRIPTION:
URL:https://fondazionegiovannisantinets.it/events/recital-alberto-cartuccia-cingolani/
LOCATION:Ex convento di San Francesco\, Pordenone\, Italy
CATEGORIES:Attività
ATTACH;FMTTYPE=image/jpeg:https://fondazionegiovannisantinets.it/wp-content/uploads/2026/02/WhatsApp-Image-2026-02-27-at-08.30.22.jpeg
END:VEVENT
BEGIN:VEVENT
DTSTART;VALUE=DATE:20260225
DTEND;VALUE=DATE:20260226
DTSTAMP:20260421T074223
CREATED:20260212T101423Z
LAST-MODIFIED:20260212T101423Z
UID:10000407-1771977600-1772063999@fondazionegiovannisantinets.it
SUMMARY:LA CULTURA DEI DIRITTI: IL DIRITTO DI VIVERE
DESCRIPTION:
URL:https://fondazionegiovannisantinets.it/events/la-cultura-dei-diritti-il-diritto-di-vivere/
LOCATION:Sala Propordenone
CATEGORIES:Attività
ATTACH;FMTTYPE=image/jpeg:https://fondazionegiovannisantinets.it/wp-content/uploads/2026/02/WhatsApp-Image-2026-02-12-at-09.52.32.jpeg
END:VEVENT
BEGIN:VEVENT
DTSTART;VALUE=DATE:20260221
DTEND;VALUE=DATE:20260323
DTSTAMP:20260421T074223
CREATED:20260212T101854Z
LAST-MODIFIED:20260227T080505Z
UID:10000408-1771632000-1774223999@fondazionegiovannisantinets.it
SUMMARY:DONNE PROTAGONISTE 2026
DESCRIPTION:
URL:https://fondazionegiovannisantinets.it/events/donne-protagoniste-2026/
LOCATION:Casello di Guardia\, Via Antonio De Pellegrini\, Porcia\, 33080\, Italia
CATEGORIES:Mostre
ATTACH;FMTTYPE=image/jpeg:https://fondazionegiovannisantinets.it/wp-content/uploads/2026/02/Donne-protagoniste_Invito_0226.jpg
END:VEVENT
BEGIN:VEVENT
DTSTART;VALUE=DATE:20260208
DTEND;VALUE=DATE:20260209
DTSTAMP:20260421T074223
CREATED:20260119T112837Z
LAST-MODIFIED:20260119T112837Z
UID:10000404-1770508800-1770595199@fondazionegiovannisantinets.it
SUMMARY:FULVIO LUNA ROMERO "LA GHENGA DEGLI STORTI"
DESCRIPTION:
URL:https://fondazionegiovannisantinets.it/events/fulvio-luna-romero-la-ghenga-degli-storti/
CATEGORIES:Attività
ATTACH;FMTTYPE=image/jpeg:https://fondazionegiovannisantinets.it/wp-content/uploads/2026/01/WhatsApp-Image-2026-01-19-at-05.59.18.jpeg
END:VEVENT
BEGIN:VEVENT
DTSTART;VALUE=DATE:20260126
DTEND;VALUE=DATE:20260127
DTSTAMP:20260421T074223
CREATED:20260119T112215Z
LAST-MODIFIED:20260119T112215Z
UID:10000403-1769385600-1769471999@fondazionegiovannisantinets.it
SUMMARY:Giornata della Memoria - STORIE RITROVATE ... per non dimenticare
DESCRIPTION:
URL:https://fondazionegiovannisantinets.it/events/giornata-della-memoria-storie-ritrovate-per-non-dimenticare/
LOCATION:Galleria d’Arte Hotel Santin\, Via delle Grazie 9\, Pordenone\, 33170\, Italia
CATEGORIES:Attività
ATTACH;FMTTYPE=image/jpeg:https://fondazionegiovannisantinets.it/wp-content/uploads/2026/01/WhatsApp-Image-2026-01-12-at-10.44.06-2.jpeg
END:VEVENT
BEGIN:VEVENT
DTSTART;VALUE=DATE:20251227
DTEND;VALUE=DATE:20251230
DTSTAMP:20260421T074223
CREATED:20251230T091738Z
LAST-MODIFIED:20251230T091805Z
UID:10000392-1766793600-1767052799@fondazionegiovannisantinets.it
SUMMARY:Pordenone Acustica Festival 2025
DESCRIPTION:
URL:https://fondazionegiovannisantinets.it/events/pordenone-acustica-festival-2025/
LOCATION:Ex convento di San Francesco\, Pordenone\, Italy
CATEGORIES:Attività
ATTACH;FMTTYPE=image/jpeg:https://fondazionegiovannisantinets.it/wp-content/uploads/2025/12/WhatsApp-Image-2025-12-23-at-12.42.11.jpeg
END:VEVENT
BEGIN:VEVENT
DTSTART;VALUE=DATE:20251218
DTEND;VALUE=DATE:20260119
DTSTAMP:20260421T074223
CREATED:20251230T094532Z
LAST-MODIFIED:20251230T094532Z
UID:10000397-1766016000-1768780799@fondazionegiovannisantinets.it
SUMMARY:Bodor Zoltán
DESCRIPTION:Join us for the opening of Árnyék a Falon\nan exhibition by Bodor Zoltán🎨🖼️\n📅 December 18\n⏰ 6:00 PM\nStep into a world where light\, shadow\, and emotion meet on the wall.\nWe look forward to welcoming you. ✨ \n#MuseumHotelBudapest #gallery #exhibition #budapest #boutiquehotel
URL:https://fondazionegiovannisantinets.it/events/bodor-zoltan/
LOCATION:Museum Hotel Budapest\, Trefort utca 2\, Budapest\, 1088\, Ungheria
CATEGORIES:Mostre
ATTACH;FMTTYPE=image/jpeg:https://fondazionegiovannisantinets.it/wp-content/uploads/2025/12/597482090_1445675264229432_1837820239705601008_n.jpg
END:VEVENT
BEGIN:VEVENT
DTSTART;VALUE=DATE:20251218
DTEND;VALUE=DATE:20251219
DTSTAMP:20260421T074223
CREATED:20251230T092225Z
LAST-MODIFIED:20251230T092225Z
UID:10000393-1766016000-1766102399@fondazionegiovannisantinets.it
SUMMARY:Quaderni Zoppolani e Lunari 2026 "Art e artisc"
DESCRIPTION:
URL:https://fondazionegiovannisantinets.it/events/quaderni-zoppolani-e-lunari-2026-art-e-artisc/
LOCATION:Auditorium di Zoppola
CATEGORIES:Attività
ATTACH;FMTTYPE=image/jpeg:https://fondazionegiovannisantinets.it/wp-content/uploads/2025/12/WhatsApp-Image-2025-12-17-at-11.55.07-1.jpeg
END:VEVENT
BEGIN:VEVENT
DTSTART;VALUE=DATE:20251216
DTEND;VALUE=DATE:20251217
DTSTAMP:20260421T074223
CREATED:20251230T094025Z
LAST-MODIFIED:20251230T094025Z
UID:10000396-1765843200-1765929599@fondazionegiovannisantinets.it
SUMMARY:Incontro con l'autore MASSIMO CARLOTTO
DESCRIPTION:
URL:https://fondazionegiovannisantinets.it/events/incontro-con-lautore-massimo-carlotto/
LOCATION:Galleria d’Arte Hotel Santin\, Via delle Grazie 9\, Pordenone\, 33170\, Italia
CATEGORIES:Attività
ATTACH;FMTTYPE=image/jpeg:https://fondazionegiovannisantinets.it/wp-content/uploads/2025/12/WhatsApp-Image-2025-12-05-at-21.43.08-1.jpeg
END:VEVENT
BEGIN:VEVENT
DTSTART;VALUE=DATE:20251213
DTEND;VALUE=DATE:20260302
DTSTAMP:20260421T074223
CREATED:20251230T093107Z
LAST-MODIFIED:20251230T093107Z
UID:10000394-1765584000-1772409599@fondazionegiovannisantinets.it
SUMMARY:LA VIGNA DI NOE' "L'uva e il vino nell'arte friulana"
DESCRIPTION:
URL:https://fondazionegiovannisantinets.it/events/la-vigna-di-noe-luva-e-il-vino-nellarte-friulana/
LOCATION:Galleria Celso e Giovanni Costantini\, Castions\, 33080\, Italia
CATEGORIES:Mostre
ATTACH;FMTTYPE=image/jpeg:https://fondazionegiovannisantinets.it/wp-content/uploads/2025/12/WhatsApp-Image-2025-12-16-at-15.34.56.jpeg
END:VEVENT
BEGIN:VEVENT
DTSTART;VALUE=DATE:20251210
DTEND;VALUE=DATE:20251211
DTSTAMP:20260421T074223
CREATED:20251230T095102Z
LAST-MODIFIED:20251230T095102Z
UID:10000398-1765324800-1765411199@fondazionegiovannisantinets.it
SUMMARY:Presentazione del libro di Paola Calvetti "Il segreto del cigno"
DESCRIPTION:https://pordenoneoggi.it/provincia/il-segreto-del-cigno-libro-paola-calvetti-il-10-a-porcia/
URL:https://fondazionegiovannisantinets.it/events/presentazione-del-libro-di-paola-calvetti-il-segreto-del-cigno/
LOCATION:Auditorium Diemoz\, Porcia
CATEGORIES:Attività
ATTACH;FMTTYPE=image/jpeg:https://fondazionegiovannisantinets.it/wp-content/uploads/2025/12/WhatsApp-Image-2025-12-02-at-13.08.28.jpeg
END:VEVENT
BEGIN:VEVENT
DTSTART;VALUE=DATE:20251209
DTEND;VALUE=DATE:20251210
DTSTAMP:20260421T074223
CREATED:20251230T093757Z
LAST-MODIFIED:20251230T094201Z
UID:10000395-1765238400-1765324799@fondazionegiovannisantinets.it
SUMMARY:Mostra fotografica II edizione "LA VIOLENZA MASCHILE SULLE DONNE HA MOLTE FACCE\, NON LA MIA"
DESCRIPTION:https://pordenoneoggi.it/pordenone/la-violenza-maschile-sulle-donne-ha-molte-facce-non-la-mia/ \n 
URL:https://fondazionegiovannisantinets.it/events/mostra-fotografica-ii-edizione-la-violenza-maschile-sulle-donne-ha-molte-facce-non-la-mia/
LOCATION:Casa della Musica\, Piazza della Motta\, Pordenone
CATEGORIES:Mostre
ATTACH;FMTTYPE=image/jpeg:https://fondazionegiovannisantinets.it/wp-content/uploads/2025/12/WhatsApp-Image-2025-12-05-at-21.43.08.jpeg
END:VEVENT
BEGIN:VEVENT
DTSTART;VALUE=DATE:20251205
DTEND;VALUE=DATE:20251206
DTSTAMP:20260421T074223
CREATED:20251230T100649Z
LAST-MODIFIED:20251230T100649Z
UID:10000399-1764892800-1764979199@fondazionegiovannisantinets.it
SUMMARY:Presentazione del libro "DI VITA IN VITA" di Sara Zanella
DESCRIPTION:https://pordenoneoggi.it/pordenone/di-vita-in-vita-libro-sara-zanella-al-santin-il-5-dicembre/
URL:https://fondazionegiovannisantinets.it/events/presentazione-del-libro-di-vita-in-vita-di-sara-zanella/
LOCATION:Galleria d’Arte Hotel Santin\, Via delle Grazie 9\, Pordenone\, 33170\, Italia
CATEGORIES:Attività
ATTACH;FMTTYPE=image/jpeg:https://fondazionegiovannisantinets.it/wp-content/uploads/2025/12/IMG-20251124-WA0006.jpg
END:VEVENT
BEGIN:VEVENT
DTSTART;VALUE=DATE:20251128
DTEND;VALUE=DATE:20251129
DTSTAMP:20260421T074223
CREATED:20251230T101115Z
LAST-MODIFIED:20251230T101207Z
UID:10000400-1764288000-1764374399@fondazionegiovannisantinets.it
SUMMARY:Presentazione del libro "Mistiche di terra - il totem è muto\, la terra parla\, tolto l'inutile" di Massimo Buset
DESCRIPTION:
URL:https://fondazionegiovannisantinets.it/events/presentazione-del-libro-mistiche-di-terra-il-totem-e-muto-la-terra-parla-tolto-linutile-di-massimo-buset/
LOCATION:Galleria d’Arte Hotel Santin\, Via delle Grazie 9\, Pordenone\, 33170\, Italia
CATEGORIES:Attività
ATTACH;FMTTYPE=image/jpeg:https://fondazionegiovannisantinets.it/wp-content/uploads/2025/12/IMG-20251124-WA0000.jpg
END:VEVENT
BEGIN:VEVENT
DTSTART;VALUE=DATE:20251120
DTEND;VALUE=DATE:20251121
DTSTAMP:20260421T074223
CREATED:20251121T092600Z
LAST-MODIFIED:20251121T092600Z
UID:10000389-1763596800-1763683199@fondazionegiovannisantinets.it
SUMMARY:Presentazione del libro "LA CASSETTA DELLE LETTERE PER I CARI ESTINTI" di Lorenza Stroppa
DESCRIPTION:Giovedì 20 novembre appuntamento autunnale di DONNE PROTAGONISTE 2025 con Lorenza Stroppa che presenterà il suo ultimo romanzo LA CASSETTA DELLE LETTERE PER I CARI ESTINTI Mondadori\, dialogherà con l’autrice Clementina Pace.\nSALA DIEMOZ\, ORE 18.00\, VIA DELLE RISORGIVE 3\, PORCIA \nL’incontro è promosso dall’Assessorato alla Cultura del Comune di Porcia e la Fondazione Giovanni Santin ETS in collaborazione con: Biblioteca civica di Porcia\, Circolo fotografico “La Finestra”\, Fidapa BPW Italy sezione Pordenone\, Lions Club Porcia\, Rotary Pordenone\, Soroptimist Club Pordenone\, UTLE di PORCIA APS
URL:https://fondazionegiovannisantinets.it/events/presentazione-del-libro-la-cassetta-delle-lettere-per-i-cari-estinti-di-lorenza-stroppa/
LOCATION:Via delle Risorgive 3 Porcia
CATEGORIES:Attività
ATTACH;FMTTYPE=image/jpeg:https://fondazionegiovannisantinets.it/wp-content/uploads/2025/11/WhatsApp-Image-2025-11-16-at-00.54.51.jpeg
END:VEVENT
BEGIN:VEVENT
DTSTART;VALUE=DATE:20251115
DTEND;VALUE=DATE:20251116
DTSTAMP:20260421T074223
CREATED:20251121T091810Z
LAST-MODIFIED:20251121T092002Z
UID:10000387-1763164800-1763251199@fondazionegiovannisantinets.it
SUMMARY:VIII Memorial Santin
DESCRIPTION: 
URL:https://fondazionegiovannisantinets.it/events/viii-memorial-santin/
CATEGORIES:Attività
ATTACH;FMTTYPE=image/jpeg:https://fondazionegiovannisantinets.it/wp-content/uploads/2025/11/WhatsApp-Image-2025-11-15-at-17.44.07.jpeg
END:VEVENT
BEGIN:VEVENT
DTSTART;VALUE=DATE:20251114
DTEND;VALUE=DATE:20251115
DTSTAMP:20260421T074223
CREATED:20251121T092218Z
LAST-MODIFIED:20251121T092218Z
UID:10000388-1763078400-1763164799@fondazionegiovannisantinets.it
SUMMARY:Presentazione del libro "MAI INDIFFERENTE" di Paola Dalle Molle
DESCRIPTION:https://pordenoneoggi.it/pordenone/presentazione-il-14-libro-mai-indifferente-di-paola-dalle-molle/
URL:https://fondazionegiovannisantinets.it/events/presentazione-del-libro-mai-indifferente-di-paola-dalle-molle/
LOCATION:Galleria d’Arte Hotel Santin\, Via delle Grazie 9\, Pordenone\, 33170\, Italia
CATEGORIES:Attività
ATTACH;FMTTYPE=image/jpeg:https://fondazionegiovannisantinets.it/wp-content/uploads/2025/11/WhatsApp-Image-2025-11-16-at-07.17.12.jpeg
END:VEVENT
BEGIN:VEVENT
DTSTART;VALUE=DATE:20251113
DTEND;VALUE=DATE:20251115
DTSTAMP:20260421T074223
CREATED:20251121T092913Z
LAST-MODIFIED:20251121T092913Z
UID:10000390-1762992000-1763164799@fondazionegiovannisantinets.it
SUMMARY:Terek és Hurok
DESCRIPTION:
URL:https://fondazionegiovannisantinets.it/events/terek-es-hurok/
LOCATION:Museum Hotel Budapest\, Trefort utca 2\, Budapest\, 1088\, Ungheria
CATEGORIES:Mostre
ATTACH;FMTTYPE=image/jpeg:https://fondazionegiovannisantinets.it/wp-content/uploads/2025/11/WhatsApp-Image-2025-11-11-at-06.19.10.jpeg
END:VEVENT
BEGIN:VEVENT
DTSTART;VALUE=DATE:20251108
DTEND;VALUE=DATE:20260118
DTSTAMP:20260421T074223
CREATED:20250924T111827Z
LAST-MODIFIED:20260119T113212Z
UID:10000384-1762560000-1768694399@fondazionegiovannisantinets.it
SUMMARY:Verdarte San Vendemiano
DESCRIPTION:Verdarte nuova edizione 2025-2026 a cura di Mila Marzotto con il patrocinio del Comune di San Vendemiano e il coinvolgimento di numerosi artisti e delle scuola di ogni ordine e grado. \n\n			\n				\n			\n			\n				\n			\n			\n				\n			\n			\n				\n			\n			\n				\n			\n			\n				\n			\n			\n				\n			\n			\n				\n			\n			\n				\n			\n			\n				\n			\n			\n				\n			\n			\n				\n			\n			\n				\n			\n			\n				\n			\n			\n				\n			\n			\n				\n			\n			\n				\n			\n			\n				\n			\n			\n				\n			\n			\n				\n			\n			\n				\n			\n			\n				\n			\n			\n				\n			\n			\n				\n			\n			\n				\n			\n			\n				\n			\n			\n				\n			\n			\n				\n			\n			\n				\n			\n			\n				\n			\n			\n				\n			\n			\n				\n			\n			\n				\n			\n			\n				\n			\n			\n				\n			\n			\n				\n			\n			\n				\n			\n			\n				\n			\n			\n				\n			\n			\n				\n			\n			\n				\n			\n			\n				\n			\n			\n				\n			\n			\n				\n			\n			\n				\n			\n			\n				\n			\n			\n				\n			\n			\n				\n			\n			\n				\n			\n			\n				\n			\n			\n				\n			\n			\n				\n			\n			\n				\n			\n			\n				\n			\n			\n				\n			\n			\n				\n			\n			\n				\n			\n			\n				\n			\n			\n				\n			\n			\n				\n			\n			\n				\n			\n			\n				\n			\n			\n				\n			\n			\n				\n			\n			\n				\n			\n			\n				\n			\n		\n\n  \n 
URL:https://fondazionegiovannisantinets.it/events/verdarte-san-vendemiano/
LOCATION:San Vendemiano
CATEGORIES:Mostre
ATTACH;FMTTYPE=image/jpeg:https://fondazionegiovannisantinets.it/wp-content/uploads/2025/09/WhatsApp-Image-2025-10-20-at-17.36.17.jpeg
END:VEVENT
BEGIN:VEVENT
DTSTART;VALUE=DATE:20251101
DTEND;VALUE=DATE:20251102
DTSTAMP:20260421T074223
CREATED:20251230T102701Z
LAST-MODIFIED:20251230T102701Z
UID:10000401-1761955200-1762041599@fondazionegiovannisantinets.it
SUMMARY:Un omaggio ai 65 anni della P.A.N. - Opere dalla collezione Cà Lozzio "In volo"
DESCRIPTION:
URL:https://fondazionegiovannisantinets.it/events/un-omaggio-ai-65-anni-della-p-a-n-opere-dalla-collezione-ca-lozzio-in-volo/
LOCATION:Ca Lozzio\, Via Maggiore di Piavon\, 23\, Oderzo\, Treviso\, 31046\, Italia
CATEGORIES:Mostre
ATTACH;FMTTYPE=image/jpeg:https://fondazionegiovannisantinets.it/wp-content/uploads/2025/12/IMG-20251124-WA0001.jpg
END:VEVENT
BEGIN:VEVENT
DTSTART;VALUE=DATE:20251016
DTEND;VALUE=DATE:20251110
DTSTAMP:20260421T074223
CREATED:20251121T100551Z
LAST-MODIFIED:20251121T100830Z
UID:10000391-1760572800-1762732799@fondazionegiovannisantinets.it
SUMMARY:"FOTO DIPINTE IN UN MAGAZZINO" del pittore ISTVAN NEUBERGER
DESCRIPTION:Invito cordialmente tutti i miei cari colleghi artisti\, amici\, conoscenti interessati all’arte\,\nPer l’inaugurazione della mostra “FOTO DIPINTE IN UN MAGAZZINO” del pittore ISTVAN NEUBERGER presso la GALLERIA DEL MUSEO 2025. 10. 16. ( giovedì ) 18° óra\nLa mostra è visitabile: 2025. 10. 17.\n„FONDAZIONE Givanni Santin onlius” per il contemporanea\nVENEZIA – BUDAPEST\nsupportati dando la possibilità di presentare artisti visivi italiani e contemporanei ungheresi. www.museumhotel.hu\nCuratore ungherese della mostra: R. Mária Török artista visiva HOTEL MUSEUM BUDAPEST (1088 Budapest Trefort Street 2. sz. )\n(*Metropolitana 2. * Villamos 47. 49. * Autobus 9. ) da Astoria al 5 perc walk )
URL:https://fondazionegiovannisantinets.it/events/foto-dipinte-in-un-magazzino-del-pittore-istvan-neuberger/
LOCATION:Museum Hotel Budapest\, Trefort utca 2\, Budapest\, 1088\, Ungheria
CATEGORIES:Mostre
ATTACH;FMTTYPE=image/jpeg:https://fondazionegiovannisantinets.it/wp-content/uploads/2025/11/WhatsApp-Image-2025-10-08-at-01.04.41.jpeg
END:VEVENT
BEGIN:VEVENT
DTSTART;VALUE=DATE:20251012
DTEND;VALUE=DATE:20251110
DTSTAMP:20260421T074223
CREATED:20251001T113002Z
LAST-MODIFIED:20251121T101005Z
UID:10000386-1760227200-1762732799@fondazionegiovannisantinets.it
SUMMARY:TERRE mostra di EVARISTO CIAN
DESCRIPTION:https://www.udinetoday.it/eventi/mostra-terre-evaristo-cian-pocenia.html
URL:https://fondazionegiovannisantinets.it/events/terre-mostra-di-evaristo-cian/
LOCATION:Biblioteca Comunale Pocenia (UD)
CATEGORIES:Mostre
ATTACH;FMTTYPE=image/jpeg:https://fondazionegiovannisantinets.it/wp-content/uploads/2025/10/WhatsApp-Image-2025-09-25-at-09.23.48.jpeg
END:VEVENT
BEGIN:VEVENT
DTSTART;VALUE=DATE:20251011
DTEND;VALUE=DATE:20251117
DTSTAMP:20260421T074223
CREATED:20250924T105930Z
LAST-MODIFIED:20250924T105930Z
UID:10000382-1760140800-1763337599@fondazionegiovannisantinets.it
SUMMARY:Cinquant'anni in arte 1975_2025 di Dario Rosolen
DESCRIPTION:
URL:https://fondazionegiovannisantinets.it/events/cinquantanni-in-arte-1975_2025-di-dario-rosolen/
LOCATION:Museo Civico D’Arte Palazzo Ricchieri Pordenone
CATEGORIES:Mostre
ATTACH;FMTTYPE=image/jpeg:https://fondazionegiovannisantinets.it/wp-content/uploads/2025/09/WhatsApp-Image-2025-09-24-at-12.57.11.jpeg
END:VEVENT
BEGIN:VEVENT
DTSTART;VALUE=DATE:20250925
DTEND;VALUE=DATE:20250926
DTSTAMP:20260421T074223
CREATED:20250924T095819Z
LAST-MODIFIED:20250924T095819Z
UID:10000378-1758758400-1758844799@fondazionegiovannisantinets.it
SUMMARY:UTINFORM
DESCRIPTION:Siamo lieti di invitarvi all’inaugurazione della nostra nuova mostra! Unisciti a noi per celebrare la creatività\, l’ispirazione e la bellezza dell’espressione artistica.\n🗓 25.09.2025\n🕐 18 PM\n📍Hotel Museo Budapest Gallery\nVieni\, esplora e condividi questo momento speciale con noi.
URL:https://fondazionegiovannisantinets.it/events/utinform/
LOCATION:Museum Hotel Budapest\, Trefort utca 2\, Budapest\, 1088\, Ungheria
CATEGORIES:Mostre
ATTACH;FMTTYPE=image/jpeg:https://fondazionegiovannisantinets.it/wp-content/uploads/2025/09/WhatsApp-Image-2025-09-22-at-18.56.31.jpeg
END:VEVENT
BEGIN:VEVENT
DTSTART;VALUE=DATE:20250920
DTEND;VALUE=DATE:20250921
DTSTAMP:20260421T074223
CREATED:20250924T100743Z
LAST-MODIFIED:20250924T100743Z
UID:10000379-1758326400-1758412799@fondazionegiovannisantinets.it
SUMMARY:Io&leAI incontro con MASSIMO POLDELMENGO
DESCRIPTION:Pordenonelegge\nSala Propordenone \nSabato 20 settembre\nore 18.00 \nIo&leAI\nincontro con\nMASSIMO POLDELMENGO\npresenta \nFulvio Dell’Agnese \nin collaborazione con\nFondazioneAdo Furlan\nFondazione Giovanni Santin Onlus \nfoto di Sergio Vaccher \n\n			\n				\n			\n			\n				\n			\n			\n				\n			\n			\n				\n			\n			\n				\n			\n			\n				\n			\n			\n				\n			\n			\n				\n			\n			\n				\n			\n			\n				\n			\n		\n\n 
URL:https://fondazionegiovannisantinets.it/events/ioleai-incontro-con-massimo-poldelmengo/
LOCATION:Sala Propordenone
CATEGORIES:Attività
ATTACH;FMTTYPE=image/jpeg:https://fondazionegiovannisantinets.it/wp-content/uploads/2025/09/WhatsApp-Image-2025-09-20-at-23.05.35.jpeg
END:VEVENT
BEGIN:VEVENT
DTSTART;VALUE=DATE:20250913
DTEND;VALUE=DATE:20250914
DTSTAMP:20260421T074223
CREATED:20250823T070615Z
LAST-MODIFIED:20250924T122701Z
UID:10000377-1757721600-1757807999@fondazionegiovannisantinets.it
SUMMARY:Dialoghi tra Musica\, Natura e Filosofia
DESCRIPTION:Il BLANC EUROPEAN FESTIVAL ha l’onore di ospitare un grandissimo artista nella stagione musicale. \nGiovanni Allevi\, compositore e pianista\, incontrerà il pubblico\, condividendo musica per piano solo e riflessioni sul tema dell’ambiente\, in dialogo con la dottoressa forestale Monica Cairoli\, nell’incantevole \ncornice di Malga Valli. \nIl M°Allevi condurrà il pubblico in un viaggio intimo e collettivo\, affrontando temi centrali del nostro tempo: la fragilità come risorsa\, la bellezza dell’istante presente\, la relazione dell’uomo con la natura come fondamento per una nuova visione del mondo. \n 
URL:https://fondazionegiovannisantinets.it/events/dialoghi-tra-musica-natura-e-filosofia/
LOCATION:Barcis (PN)\, Malga Valli\, Barcis\, Pordenone\, Italy
CATEGORIES:Attività
ATTACH;FMTTYPE=image/jpeg:https://fondazionegiovannisantinets.it/wp-content/uploads/2025/08/WhatsApp-Image-2025-08-22-at-21.02.58.jpeg
END:VEVENT
BEGIN:VEVENT
DTSTART;VALUE=DATE:20250912
DTEND;VALUE=DATE:20260111
DTSTAMP:20260421T074223
CREATED:20250924T102016Z
LAST-MODIFIED:20260415T105606Z
UID:10000380-1757635200-1768089599@fondazionegiovannisantinets.it
SUMMARY:"Libri d'Artista" di Stefano Jus
DESCRIPTION:  \n\n			\n				\n			\n			\n				\n			\n			\n				\n			\n			\n				\n			\n			\n				\n			\n			\n				\n			\n			\n				\n			\n			\n				\n			\n			\n				\n			\n			\n				\n			\n			\n				\n			\n			\n				\n			\n			\n				\n			\n			\n				\n			\n			\n				\n			\n		\n\nhttps://pordenoneoggi.it/pordenone/libri-dartista-di-stefano-jus-inaugurazione-il-12-al-santin/ \n\n			\n				\n			\n			\n				\n			\n			\n				\n			\n			\n				\n			\n			\n				\n			\n			\n				\n			\n			\n				\n			\n			\n				\n			\n			\n				\n			\n			\n				\n			\n			\n				\n			\n		\n\n 
URL:https://fondazionegiovannisantinets.it/events/libri-dartista-di-stefano-jus/
LOCATION:Galleria d’Arte Hotel Santin\, Via delle Grazie 9\, Pordenone\, 33170\, Italia
CATEGORIES:Mostre
ATTACH;FMTTYPE=image/jpeg:https://fondazionegiovannisantinets.it/wp-content/uploads/2025/09/locandina-Jus.jpg
END:VEVENT
BEGIN:VEVENT
DTSTART;VALUE=DATE:20250830
DTEND;VALUE=DATE:20250913
DTSTAMP:20260421T074223
CREATED:20250924T110442Z
LAST-MODIFIED:20250924T110442Z
UID:10000383-1756512000-1757721599@fondazionegiovannisantinets.it
SUMMARY:"Settembre d'arte" di Massimo Poldelmengo
DESCRIPTION:
URL:https://fondazionegiovannisantinets.it/events/settembre-darte-di-massimo-poldelmengo/
LOCATION:Oratorio Madonna delle Grazie Pordenone
CATEGORIES:Mostre
ATTACH;FMTTYPE=image/jpeg:https://fondazionegiovannisantinets.it/wp-content/uploads/2025/09/WhatsApp-Image-2025-09-24-at-13.01.29.jpeg
END:VEVENT
END:VCALENDAR