BEGIN:VCALENDAR
VERSION:2.0
PRODID:-//Fondazione Giovanni Santin ETS - ECPv6.15.14//NONSGML v1.0//EN
CALSCALE:GREGORIAN
METHOD:PUBLISH
X-ORIGINAL-URL:https://fondazionegiovannisantinets.it
X-WR-CALDESC:Eventi per Fondazione Giovanni Santin ETS
REFRESH-INTERVAL;VALUE=DURATION:PT1H
X-Robots-Tag:noindex
X-PUBLISHED-TTL:PT1H
BEGIN:VTIMEZONE
TZID:Europe/Rome
BEGIN:DAYLIGHT
TZOFFSETFROM:+0100
TZOFFSETTO:+0200
TZNAME:CEST
DTSTART:20230326T010000
END:DAYLIGHT
BEGIN:STANDARD
TZOFFSETFROM:+0200
TZOFFSETTO:+0100
TZNAME:CET
DTSTART:20231029T010000
END:STANDARD
BEGIN:DAYLIGHT
TZOFFSETFROM:+0100
TZOFFSETTO:+0200
TZNAME:CEST
DTSTART:20240331T010000
END:DAYLIGHT
BEGIN:STANDARD
TZOFFSETFROM:+0200
TZOFFSETTO:+0100
TZNAME:CET
DTSTART:20241027T010000
END:STANDARD
BEGIN:DAYLIGHT
TZOFFSETFROM:+0100
TZOFFSETTO:+0200
TZNAME:CEST
DTSTART:20250330T010000
END:DAYLIGHT
BEGIN:STANDARD
TZOFFSETFROM:+0200
TZOFFSETTO:+0100
TZNAME:CET
DTSTART:20251026T010000
END:STANDARD
BEGIN:DAYLIGHT
TZOFFSETFROM:+0100
TZOFFSETTO:+0200
TZNAME:CEST
DTSTART:20260329T010000
END:DAYLIGHT
BEGIN:STANDARD
TZOFFSETFROM:+0200
TZOFFSETTO:+0100
TZNAME:CET
DTSTART:20261025T010000
END:STANDARD
BEGIN:DAYLIGHT
TZOFFSETFROM:+0100
TZOFFSETTO:+0200
TZNAME:CEST
DTSTART:20270328T010000
END:DAYLIGHT
BEGIN:STANDARD
TZOFFSETFROM:+0200
TZOFFSETTO:+0100
TZNAME:CET
DTSTART:20271031T010000
END:STANDARD
END:VTIMEZONE
BEGIN:VEVENT
DTSTART;VALUE=DATE:20260221
DTEND;VALUE=DATE:20260323
DTSTAMP:20260421T234910
CREATED:20260212T101854Z
LAST-MODIFIED:20260227T080505Z
UID:10000408-1771632000-1774223999@fondazionegiovannisantinets.it
SUMMARY:DONNE PROTAGONISTE 2026
DESCRIPTION:
URL:https://fondazionegiovannisantinets.it/events/donne-protagoniste-2026/
LOCATION:Casello di Guardia\, Via Antonio De Pellegrini\, Porcia\, 33080\, Italia
CATEGORIES:Mostre
ATTACH;FMTTYPE=image/jpeg:https://fondazionegiovannisantinets.it/wp-content/uploads/2026/02/Donne-protagoniste_Invito_0226.jpg
END:VEVENT
BEGIN:VEVENT
DTSTART;VALUE=DATE:20251218
DTEND;VALUE=DATE:20260119
DTSTAMP:20260421T234910
CREATED:20251230T094532Z
LAST-MODIFIED:20251230T094532Z
UID:10000397-1766016000-1768780799@fondazionegiovannisantinets.it
SUMMARY:Bodor Zoltán
DESCRIPTION:Join us for the opening of Árnyék a Falon\nan exhibition by Bodor Zoltán🎨🖼️\n📅 December 18\n⏰ 6:00 PM\nStep into a world where light\, shadow\, and emotion meet on the wall.\nWe look forward to welcoming you. ✨ \n#MuseumHotelBudapest #gallery #exhibition #budapest #boutiquehotel
URL:https://fondazionegiovannisantinets.it/events/bodor-zoltan/
LOCATION:Museum Hotel Budapest\, Trefort utca 2\, Budapest\, 1088\, Ungheria
CATEGORIES:Mostre
ATTACH;FMTTYPE=image/jpeg:https://fondazionegiovannisantinets.it/wp-content/uploads/2025/12/597482090_1445675264229432_1837820239705601008_n.jpg
END:VEVENT
BEGIN:VEVENT
DTSTART;VALUE=DATE:20251213
DTEND;VALUE=DATE:20260302
DTSTAMP:20260421T234910
CREATED:20251230T093107Z
LAST-MODIFIED:20251230T093107Z
UID:10000394-1765584000-1772409599@fondazionegiovannisantinets.it
SUMMARY:LA VIGNA DI NOE' "L'uva e il vino nell'arte friulana"
DESCRIPTION:
URL:https://fondazionegiovannisantinets.it/events/la-vigna-di-noe-luva-e-il-vino-nellarte-friulana/
LOCATION:Galleria Celso e Giovanni Costantini\, Castions\, 33080\, Italia
CATEGORIES:Mostre
ATTACH;FMTTYPE=image/jpeg:https://fondazionegiovannisantinets.it/wp-content/uploads/2025/12/WhatsApp-Image-2025-12-16-at-15.34.56.jpeg
END:VEVENT
BEGIN:VEVENT
DTSTART;VALUE=DATE:20251209
DTEND;VALUE=DATE:20251210
DTSTAMP:20260421T234910
CREATED:20251230T093757Z
LAST-MODIFIED:20251230T094201Z
UID:10000395-1765238400-1765324799@fondazionegiovannisantinets.it
SUMMARY:Mostra fotografica II edizione "LA VIOLENZA MASCHILE SULLE DONNE HA MOLTE FACCE\, NON LA MIA"
DESCRIPTION:https://pordenoneoggi.it/pordenone/la-violenza-maschile-sulle-donne-ha-molte-facce-non-la-mia/ \n 
URL:https://fondazionegiovannisantinets.it/events/mostra-fotografica-ii-edizione-la-violenza-maschile-sulle-donne-ha-molte-facce-non-la-mia/
LOCATION:Casa della Musica\, Piazza della Motta\, Pordenone
CATEGORIES:Mostre
ATTACH;FMTTYPE=image/jpeg:https://fondazionegiovannisantinets.it/wp-content/uploads/2025/12/WhatsApp-Image-2025-12-05-at-21.43.08.jpeg
END:VEVENT
BEGIN:VEVENT
DTSTART;VALUE=DATE:20251113
DTEND;VALUE=DATE:20251115
DTSTAMP:20260421T234910
CREATED:20251121T092913Z
LAST-MODIFIED:20251121T092913Z
UID:10000390-1762992000-1763164799@fondazionegiovannisantinets.it
SUMMARY:Terek és Hurok
DESCRIPTION:
URL:https://fondazionegiovannisantinets.it/events/terek-es-hurok/
LOCATION:Museum Hotel Budapest\, Trefort utca 2\, Budapest\, 1088\, Ungheria
CATEGORIES:Mostre
ATTACH;FMTTYPE=image/jpeg:https://fondazionegiovannisantinets.it/wp-content/uploads/2025/11/WhatsApp-Image-2025-11-11-at-06.19.10.jpeg
END:VEVENT
BEGIN:VEVENT
DTSTART;VALUE=DATE:20251108
DTEND;VALUE=DATE:20260118
DTSTAMP:20260421T234910
CREATED:20250924T111827Z
LAST-MODIFIED:20260119T113212Z
UID:10000384-1762560000-1768694399@fondazionegiovannisantinets.it
SUMMARY:Verdarte San Vendemiano
DESCRIPTION:Verdarte nuova edizione 2025-2026 a cura di Mila Marzotto con il patrocinio del Comune di San Vendemiano e il coinvolgimento di numerosi artisti e delle scuola di ogni ordine e grado. \n\n			\n				\n			\n			\n				\n			\n			\n				\n			\n			\n				\n			\n			\n				\n			\n			\n				\n			\n			\n				\n			\n			\n				\n			\n			\n				\n			\n			\n				\n			\n			\n				\n			\n			\n				\n			\n			\n				\n			\n			\n				\n			\n			\n				\n			\n			\n				\n			\n			\n				\n			\n			\n				\n			\n			\n				\n			\n			\n				\n			\n			\n				\n			\n			\n				\n			\n			\n				\n			\n			\n				\n			\n			\n				\n			\n			\n				\n			\n			\n				\n			\n			\n				\n			\n			\n				\n			\n			\n				\n			\n			\n				\n			\n			\n				\n			\n			\n				\n			\n			\n				\n			\n			\n				\n			\n			\n				\n			\n			\n				\n			\n			\n				\n			\n			\n				\n			\n			\n				\n			\n			\n				\n			\n			\n				\n			\n			\n				\n			\n			\n				\n			\n			\n				\n			\n			\n				\n			\n			\n				\n			\n			\n				\n			\n			\n				\n			\n			\n				\n			\n			\n				\n			\n			\n				\n			\n			\n				\n			\n			\n				\n			\n			\n				\n			\n			\n				\n			\n			\n				\n			\n			\n				\n			\n			\n				\n			\n			\n				\n			\n			\n				\n			\n			\n				\n			\n			\n				\n			\n			\n				\n			\n			\n				\n			\n			\n				\n			\n		\n\n  \n 
URL:https://fondazionegiovannisantinets.it/events/verdarte-san-vendemiano/
LOCATION:San Vendemiano
CATEGORIES:Mostre
ATTACH;FMTTYPE=image/jpeg:https://fondazionegiovannisantinets.it/wp-content/uploads/2025/09/WhatsApp-Image-2025-10-20-at-17.36.17.jpeg
END:VEVENT
BEGIN:VEVENT
DTSTART;VALUE=DATE:20251101
DTEND;VALUE=DATE:20251102
DTSTAMP:20260421T234910
CREATED:20251230T102701Z
LAST-MODIFIED:20251230T102701Z
UID:10000401-1761955200-1762041599@fondazionegiovannisantinets.it
SUMMARY:Un omaggio ai 65 anni della P.A.N. - Opere dalla collezione Cà Lozzio "In volo"
DESCRIPTION:
URL:https://fondazionegiovannisantinets.it/events/un-omaggio-ai-65-anni-della-p-a-n-opere-dalla-collezione-ca-lozzio-in-volo/
LOCATION:Ca Lozzio\, Via Maggiore di Piavon\, 23\, Oderzo\, Treviso\, 31046\, Italia
CATEGORIES:Mostre
ATTACH;FMTTYPE=image/jpeg:https://fondazionegiovannisantinets.it/wp-content/uploads/2025/12/IMG-20251124-WA0001.jpg
END:VEVENT
BEGIN:VEVENT
DTSTART;VALUE=DATE:20251016
DTEND;VALUE=DATE:20251110
DTSTAMP:20260421T234910
CREATED:20251121T100551Z
LAST-MODIFIED:20251121T100830Z
UID:10000391-1760572800-1762732799@fondazionegiovannisantinets.it
SUMMARY:"FOTO DIPINTE IN UN MAGAZZINO" del pittore ISTVAN NEUBERGER
DESCRIPTION:Invito cordialmente tutti i miei cari colleghi artisti\, amici\, conoscenti interessati all’arte\,\nPer l’inaugurazione della mostra “FOTO DIPINTE IN UN MAGAZZINO” del pittore ISTVAN NEUBERGER presso la GALLERIA DEL MUSEO 2025. 10. 16. ( giovedì ) 18° óra\nLa mostra è visitabile: 2025. 10. 17.\n„FONDAZIONE Givanni Santin onlius” per il contemporanea\nVENEZIA – BUDAPEST\nsupportati dando la possibilità di presentare artisti visivi italiani e contemporanei ungheresi. www.museumhotel.hu\nCuratore ungherese della mostra: R. Mária Török artista visiva HOTEL MUSEUM BUDAPEST (1088 Budapest Trefort Street 2. sz. )\n(*Metropolitana 2. * Villamos 47. 49. * Autobus 9. ) da Astoria al 5 perc walk )
URL:https://fondazionegiovannisantinets.it/events/foto-dipinte-in-un-magazzino-del-pittore-istvan-neuberger/
LOCATION:Museum Hotel Budapest\, Trefort utca 2\, Budapest\, 1088\, Ungheria
CATEGORIES:Mostre
ATTACH;FMTTYPE=image/jpeg:https://fondazionegiovannisantinets.it/wp-content/uploads/2025/11/WhatsApp-Image-2025-10-08-at-01.04.41.jpeg
END:VEVENT
BEGIN:VEVENT
DTSTART;VALUE=DATE:20251012
DTEND;VALUE=DATE:20251110
DTSTAMP:20260421T234910
CREATED:20251001T113002Z
LAST-MODIFIED:20251121T101005Z
UID:10000386-1760227200-1762732799@fondazionegiovannisantinets.it
SUMMARY:TERRE mostra di EVARISTO CIAN
DESCRIPTION:https://www.udinetoday.it/eventi/mostra-terre-evaristo-cian-pocenia.html
URL:https://fondazionegiovannisantinets.it/events/terre-mostra-di-evaristo-cian/
LOCATION:Biblioteca Comunale Pocenia (UD)
CATEGORIES:Mostre
ATTACH;FMTTYPE=image/jpeg:https://fondazionegiovannisantinets.it/wp-content/uploads/2025/10/WhatsApp-Image-2025-09-25-at-09.23.48.jpeg
END:VEVENT
BEGIN:VEVENT
DTSTART;VALUE=DATE:20251011
DTEND;VALUE=DATE:20251117
DTSTAMP:20260421T234910
CREATED:20250924T105930Z
LAST-MODIFIED:20250924T105930Z
UID:10000382-1760140800-1763337599@fondazionegiovannisantinets.it
SUMMARY:Cinquant'anni in arte 1975_2025 di Dario Rosolen
DESCRIPTION:
URL:https://fondazionegiovannisantinets.it/events/cinquantanni-in-arte-1975_2025-di-dario-rosolen/
LOCATION:Museo Civico D’Arte Palazzo Ricchieri Pordenone
CATEGORIES:Mostre
ATTACH;FMTTYPE=image/jpeg:https://fondazionegiovannisantinets.it/wp-content/uploads/2025/09/WhatsApp-Image-2025-09-24-at-12.57.11.jpeg
END:VEVENT
BEGIN:VEVENT
DTSTART;VALUE=DATE:20250925
DTEND;VALUE=DATE:20250926
DTSTAMP:20260421T234910
CREATED:20250924T095819Z
LAST-MODIFIED:20250924T095819Z
UID:10000378-1758758400-1758844799@fondazionegiovannisantinets.it
SUMMARY:UTINFORM
DESCRIPTION:Siamo lieti di invitarvi all’inaugurazione della nostra nuova mostra! Unisciti a noi per celebrare la creatività\, l’ispirazione e la bellezza dell’espressione artistica.\n🗓 25.09.2025\n🕐 18 PM\n📍Hotel Museo Budapest Gallery\nVieni\, esplora e condividi questo momento speciale con noi.
URL:https://fondazionegiovannisantinets.it/events/utinform/
LOCATION:Museum Hotel Budapest\, Trefort utca 2\, Budapest\, 1088\, Ungheria
CATEGORIES:Mostre
ATTACH;FMTTYPE=image/jpeg:https://fondazionegiovannisantinets.it/wp-content/uploads/2025/09/WhatsApp-Image-2025-09-22-at-18.56.31.jpeg
END:VEVENT
BEGIN:VEVENT
DTSTART;VALUE=DATE:20250912
DTEND;VALUE=DATE:20260111
DTSTAMP:20260421T234910
CREATED:20250924T102016Z
LAST-MODIFIED:20260415T105606Z
UID:10000380-1757635200-1768089599@fondazionegiovannisantinets.it
SUMMARY:"Libri d'Artista" di Stefano Jus
DESCRIPTION:  \n\n			\n				\n			\n			\n				\n			\n			\n				\n			\n			\n				\n			\n			\n				\n			\n			\n				\n			\n			\n				\n			\n			\n				\n			\n			\n				\n			\n			\n				\n			\n			\n				\n			\n			\n				\n			\n			\n				\n			\n			\n				\n			\n			\n				\n			\n		\n\nhttps://pordenoneoggi.it/pordenone/libri-dartista-di-stefano-jus-inaugurazione-il-12-al-santin/ \n\n			\n				\n			\n			\n				\n			\n			\n				\n			\n			\n				\n			\n			\n				\n			\n			\n				\n			\n			\n				\n			\n			\n				\n			\n			\n				\n			\n			\n				\n			\n			\n				\n			\n		\n\n 
URL:https://fondazionegiovannisantinets.it/events/libri-dartista-di-stefano-jus/
LOCATION:Galleria d’Arte Hotel Santin\, Via delle Grazie 9\, Pordenone\, 33170\, Italia
CATEGORIES:Mostre
ATTACH;FMTTYPE=image/jpeg:https://fondazionegiovannisantinets.it/wp-content/uploads/2025/09/locandina-Jus.jpg
END:VEVENT
BEGIN:VEVENT
DTSTART;VALUE=DATE:20250830
DTEND;VALUE=DATE:20250913
DTSTAMP:20260421T234910
CREATED:20250924T110442Z
LAST-MODIFIED:20250924T110442Z
UID:10000383-1756512000-1757721599@fondazionegiovannisantinets.it
SUMMARY:"Settembre d'arte" di Massimo Poldelmengo
DESCRIPTION:
URL:https://fondazionegiovannisantinets.it/events/settembre-darte-di-massimo-poldelmengo/
LOCATION:Oratorio Madonna delle Grazie Pordenone
CATEGORIES:Mostre
ATTACH;FMTTYPE=image/jpeg:https://fondazionegiovannisantinets.it/wp-content/uploads/2025/09/WhatsApp-Image-2025-09-24-at-13.01.29.jpeg
END:VEVENT
BEGIN:VEVENT
DTSTART;VALUE=DATE:20250824
DTEND;VALUE=DATE:20251013
DTSTAMP:20260421T234910
CREATED:20250924T103721Z
LAST-MODIFIED:20250924T103721Z
UID:10000381-1755993600-1760313599@fondazionegiovannisantinets.it
SUMMARY:"Archivi della memoria" di Alessandro Lazzer
DESCRIPTION:
URL:https://fondazionegiovannisantinets.it/events/archivi-della-memoria-di-alessandro-lazzer/
LOCATION:Ca Lozzio\, Via Maggiore di Piavon\, 23\, Oderzo\, Treviso\, 31046\, Italia
CATEGORIES:Mostre
ATTACH;FMTTYPE=image/jpeg:https://fondazionegiovannisantinets.it/wp-content/uploads/2025/09/WhatsApp-Image-2025-08-17-at-09.12.38.jpeg
END:VEVENT
BEGIN:VEVENT
DTSTART;VALUE=DATE:20250607
DTEND;VALUE=DATE:20250901
DTSTAMP:20260421T234910
CREATED:20250530T090258Z
LAST-MODIFIED:20250924T105342Z
UID:10000373-1749254400-1756684799@fondazionegiovannisantinets.it
SUMMARY:DOPPIO DIALOGO - Antonello Tagliafierro e Olimpia Biasi
DESCRIPTION:https://www.aboutartonline.com/doppio-dialogo-artisti-e-opere-della-collezione-var-co-delluniversita-degli-studi-della-campania-luigi-vanvitelli-sabato-7-giugno-2025-alle-1130/
URL:https://fondazionegiovannisantinets.it/events/doppio-dialogo-antonello-tagliafierro-e-olimpia-biasi/
LOCATION:Palazzo Contarini del Bovolo\, San Marco 4303\, Venezia
CATEGORIES:Mostre
ATTACH;FMTTYPE=image/jpeg:https://fondazionegiovannisantinets.it/wp-content/uploads/2025/05/WhatsApp-Image-2025-05-30-at-10.43.08.jpeg
END:VEVENT
BEGIN:VEVENT
DTSTART;VALUE=DATE:20250531
DTEND;VALUE=DATE:20250630
DTSTAMP:20260421T234910
CREATED:20250530T090835Z
LAST-MODIFIED:20250530T090954Z
UID:10000374-1748649600-1751241599@fondazionegiovannisantinets.it
SUMMARY:AD ASTRA # 1 cosmogrammi poetici
DESCRIPTION:
URL:https://fondazionegiovannisantinets.it/events/ad-astra-1-cosmogrammi-poetici/
LOCATION:Galleria La Fortezza Gradisca D’Isonzo
CATEGORIES:Mostre
ATTACH;FMTTYPE=image/jpeg:https://fondazionegiovannisantinets.it/wp-content/uploads/2025/05/WhatsApp-Image-2025-05-28-at-16.47.20.jpeg
END:VEVENT
BEGIN:VEVENT
DTSTART;TZID=Europe/Rome:20250524T080000
DTEND;TZID=Europe/Rome:20250622T170000
DTSTAMP:20260421T234910
CREATED:20250521T155008Z
LAST-MODIFIED:20250521T155008Z
UID:10000372-1748073600-1750611600@fondazionegiovannisantinets.it
SUMMARY:KINTSUGI - ELISABETTA DI SOPRA
DESCRIPTION:
URL:https://fondazionegiovannisantinets.it/events/kintsugi-elisabetta-di-sopra/
CATEGORIES:Mostre
ATTACH;FMTTYPE=image/jpeg:https://fondazionegiovannisantinets.it/wp-content/uploads/2025/05/WhatsApp-Image-2025-05-20-at-22.04.35.jpeg
END:VEVENT
BEGIN:VEVENT
DTSTART;VALUE=DATE:20250523
DTEND;VALUE=DATE:20250524
DTSTAMP:20260421T234910
CREATED:20250521T154659Z
LAST-MODIFIED:20250521T154659Z
UID:10000371-1747958400-1748044799@fondazionegiovannisantinets.it
SUMMARY:ATTITUDINE - LUIGI MANCIOCCO e ALBERTO PASQUALE
DESCRIPTION:
URL:https://fondazionegiovannisantinets.it/events/attitudine-luigi-manciocco-e-alberto-pasquale/
CATEGORIES:Mostre
ATTACH;FMTTYPE=image/jpeg:https://fondazionegiovannisantinets.it/wp-content/uploads/2025/05/WhatsApp-Image-2025-05-20-at-22.04.35-1.jpeg
END:VEVENT
BEGIN:VEVENT
DTSTART;VALUE=DATE:20250521
DTEND;VALUE=DATE:20250623
DTSTAMP:20260421T234910
CREATED:20250530T093051Z
LAST-MODIFIED:20250530T093051Z
UID:10000376-1747785600-1750636799@fondazionegiovannisantinets.it
SUMMARY:FOSZLANYOK - SIMON ZOLTAN
DESCRIPTION:
URL:https://fondazionegiovannisantinets.it/events/foszlanyok-simon-zoltan/
LOCATION:Museum Hotel Budapest\, Trefort utca 2\, Budapest\, 1088\, Ungheria
CATEGORIES:Mostre
ATTACH;FMTTYPE=image/jpeg:https://fondazionegiovannisantinets.it/wp-content/uploads/2025/05/WhatsApp-Image-2025-05-21-at-20.11.49.jpeg
END:VEVENT
BEGIN:VEVENT
DTSTART;VALUE=DATE:20250425
DTEND;VALUE=DATE:20250616
DTSTAMP:20260421T234910
CREATED:20250326T123437Z
LAST-MODIFIED:20250326T123437Z
UID:10000368-1745539200-1750031999@fondazionegiovannisantinets.it
SUMMARY:DARIO ROSOLEN - FERMO IMMAGINE
DESCRIPTION:
URL:https://fondazionegiovannisantinets.it/events/dario-rosolen-fermo-immagine/
LOCATION:Ca Lozzio\, Via Maggiore di Piavon\, 23\, Oderzo\, Treviso\, 31046\, Italia
CATEGORIES:Mostre
ATTACH;FMTTYPE=image/jpeg:https://fondazionegiovannisantinets.it/wp-content/uploads/2025/03/Screenshot_20250326_133135.jpg
END:VEVENT
BEGIN:VEVENT
DTSTART;VALUE=DATE:20250323
DTEND;VALUE=DATE:20250428
DTSTAMP:20260421T234910
CREATED:20250326T122206Z
LAST-MODIFIED:20250326T122844Z
UID:10000367-1742688000-1745798399@fondazionegiovannisantinets.it
SUMMARY:SGUARDI DI PRIMAVERA di Sonia Strukul
DESCRIPTION:https://villapisani.it/eventi/mostra-darte-sonia-strukul-a-villa-pisani-di-vescovana/ \n\n			\n				\n			\n			\n				\n			\n			\n				\n			\n			\n				\n			\n			\n				\n			\n			\n				\n			\n			\n				\n			\n			\n				\n			\n			\n				\n			\n			\n				\n			\n			\n				\n			\n			\n				\n			\n		\n\n 
URL:https://fondazionegiovannisantinets.it/events/sguardi-di-primavera-di-sonia-strukul/
LOCATION:Villa Pisani Bolognesi Scalabrin
CATEGORIES:Mostre
ATTACH;FMTTYPE=image/jpeg:https://fondazionegiovannisantinets.it/wp-content/uploads/2025/03/WhatsApp-Image-2025-03-06-at-19.01.05.jpeg
END:VEVENT
BEGIN:VEVENT
DTSTART;VALUE=DATE:20250322
DTEND;VALUE=DATE:20250414
DTSTAMP:20260421T234910
CREATED:20250326T115504Z
LAST-MODIFIED:20250326T121259Z
UID:10000366-1742601600-1744588799@fondazionegiovannisantinets.it
SUMMARY:Spartito MOSTRA
DESCRIPTION:https://www.giuseppeborsoi.it/2025/03/14/mostra-spartito-di-simone-bortolotti-e-dante-turchetto-a-stevena-di-caneva/
URL:https://fondazionegiovannisantinets.it/events/spartito-mostra/
LOCATION:Villa Frova\, Piazza San Marco 3\, Caneva PN\, 33070\, Italia
CATEGORIES:Mostre
ATTACH;FMTTYPE=image/jpeg:https://fondazionegiovannisantinets.it/wp-content/uploads/2025/03/WhatsApp-Image-2025-03-26-at-12.44.53.jpeg
END:VEVENT
BEGIN:VEVENT
DTSTART;VALUE=DATE:20250222
DTEND;VALUE=DATE:20250324
DTSTAMP:20260421T234910
CREATED:20250326T124745Z
LAST-MODIFIED:20250326T125713Z
UID:10000370-1740182400-1742774399@fondazionegiovannisantinets.it
SUMMARY:DONNE PROTAGONISTE 2025 - ELOGIO de LA PELLE
DESCRIPTION:LA S.V. è invitata all’inaugurazione della mostra\nELOGIO de LA PELLE \na cura di Alessandra Santin \nEspongono \nFRANCESCA DELLA TOFFOLA\, ELISABETTA DI SOPRA\, MARCELLO MASCHERINI \nANDREA BRUSADIN ospite speciale \nSabato 22 febbraio ore 11.00 \nPORCIA – CASELLO DI GUARDIA – VIA DE PELLEGRINI \nun caro saluto\nFranca Benvenuti
URL:https://fondazionegiovannisantinets.it/events/donne-protagoniste-2025-elogio-della-pelle/
LOCATION:Casello di Guardia\, Via Antonio De Pellegrini\, Porcia\, 33080\, Italia
CATEGORIES:Mostre
ATTACH;FMTTYPE=image/jpeg:https://fondazionegiovannisantinets.it/wp-content/uploads/2025/03/WhatsApp-Image-2025-03-26-at-13.46.42.jpeg
END:VEVENT
BEGIN:VEVENT
DTSTART;VALUE=DATE:20250221
DTEND;VALUE=DATE:20250317
DTSTAMP:20260421T234910
CREATED:20250326T124210Z
LAST-MODIFIED:20250327T091357Z
UID:10000369-1740096000-1742169599@fondazionegiovannisantinets.it
SUMMARY:DOUBLE SOUND di ISTVAN SZIR ÁNYI
DESCRIPTION:Invito cordialmente tutti i miei cari colleghi artisti\, amici\, conoscenti interessati all’arte\,\nPer l’inaugurazione della mostra “DOUBLE SOUND” di ISTVAN SZIR ÁNYI\, formatore e fotografo\, presso la GALLERY DEL MUSEO: 2025. 02. 21. ( venerdì) 18 óra\nLa mostra è visitabile: 2025. 03. 16.\n“FONDAZIONE Givanni Santin onlius” per il contemporaneo VENEZIA – BUDAPEST\nsupportati dando la possibilità di presentare artisti visivi italiani e contemporanei ungheresi. www.museumhotel.hu\nCuratore ungherese della mostra: R. Mária Török artista visiva HOTEL MUSEUM BUDAPEST (1088 Budapest Trefort Street 2. sz. )\n(*Metropolitana 2. * Villamos 47. 49. * Autobus 9. ) da Astoria al 5 perc walk )
URL:https://fondazionegiovannisantinets.it/events/double-sound-di-istvan-szir-anyi/
LOCATION:Museum Hotel Budapest\, Trefort utca 2\, Budapest\, 1088\, Ungheria
CATEGORIES:Mostre
ATTACH;FMTTYPE=image/jpeg:https://fondazionegiovannisantinets.it/wp-content/uploads/2025/03/WhatsApp-Image-2025-02-16-at-00.20.25.jpeg
END:VEVENT
BEGIN:VEVENT
DTSTART;VALUE=DATE:20250208
DTEND;VALUE=DATE:20250603
DTSTAMP:20260421T234910
CREATED:20250123T103200Z
LAST-MODIFIED:20250123T103530Z
UID:10000360-1738972800-1748908799@fondazionegiovannisantinets.it
SUMMARY:DOPPIO DIALOGO - Amedeo Sanzone e Ludovico Bomben
DESCRIPTION:Inaugurazione sabato 8 febbraio 2025 alle ore 11.30 presso Palazzo Contarini del Bovolo
URL:https://fondazionegiovannisantinets.it/events/doppio-dialogo-amedeo-sanzone-e-ludovico-bomben/
LOCATION:Palazzo Contarini del Bovolo\, San Marco 4303\, Venezia
CATEGORIES:Mostre
ATTACH;FMTTYPE=image/jpeg:https://fondazionegiovannisantinets.it/wp-content/uploads/2025/01/WhatsApp-Image-2025-01-21-at-13.33.00.jpeg
END:VEVENT
BEGIN:VEVENT
DTSTART;VALUE=DATE:20250131
DTEND;VALUE=DATE:20250512
DTSTAMP:20260421T234910
CREATED:20250123T104052Z
LAST-MODIFIED:20250123T105712Z
UID:10000361-1738281600-1747007999@fondazionegiovannisantinets.it
SUMMARY:"TESTIMONIANZE" MATILDE SANTIN - OSCAR DAMIAN
DESCRIPTION:https://pordenoneoggi.it/pordenone/galleria-darte-giovanni-santin-il-31-inaugurazione-mostra-testimonianze/
URL:https://fondazionegiovannisantinets.it/events/testimonianze-matilde-santin-oscar-damian/
LOCATION:Galleria d’Arte Hotel Santin\, Via delle Grazie 9\, Pordenone\, 33170\, Italia
CATEGORIES:Mostre
ATTACH;FMTTYPE=image/jpeg:https://fondazionegiovannisantinets.it/wp-content/uploads/2025/01/WhatsApp-Image-2025-01-23-at-09.18.42.jpeg
END:VEVENT
BEGIN:VEVENT
DTSTART;VALUE=DATE:20250124
DTEND;VALUE=DATE:20251101
DTSTAMP:20260421T234910
CREATED:20250123T104441Z
LAST-MODIFIED:20250123T104441Z
UID:10000362-1737676800-1761955199@fondazionegiovannisantinets.it
SUMMARY:STEFANO TUBARO "CROMODINAMICA ESTETICA"
DESCRIPTION:
URL:https://fondazionegiovannisantinets.it/events/stefano-tubaro-cromodinamica-estetica/
LOCATION:Earth Foundation
CATEGORIES:Mostre
ATTACH;FMTTYPE=image/jpeg:https://fondazionegiovannisantinets.it/wp-content/uploads/2025/01/WhatsApp-Image-2025-01-23-at-09.21.22.jpeg
END:VEVENT
BEGIN:VEVENT
DTSTART;VALUE=DATE:20250116
DTEND;VALUE=DATE:20250217
DTSTAMP:20260421T234910
CREATED:20250108T120324Z
LAST-MODIFIED:20250108T120324Z
UID:10000357-1736985600-1739750399@fondazionegiovannisantinets.it
SUMMARY:UZSAI HELYZET-KEPEK
DESCRIPTION:Invito cordialmente tutti i miei cari colleghi artisti\, amici\, conoscenti interessati all’arte a\nASSOCIAZIONE DI PITTORI UNGHERSI nella GALLERIA DEL MUSEO\,\nLa mostra introduttiva del primo centro artistico a Uzsa\nche aprirà nel 2025. 01. 16. ( giovedì ) 18° óra\nLa mostra è visitabile: 2025. 02. 16.\n„FONDAZIONE Givanni Santin onlius” per il contemporanea\nVENEZIA – BUDAPEST\nsupportati dando la possibilità di presentare artisti visivi italiani e contemporanei ungheresi. www.museumhotel.hu\nCuratore ungherese della mostra: R. Mária Török artista visiva HOTEL MUSEUM BUDAPEST (1088 Budapest Trefort Street 2. sz. )\n(*Metropolitana 2. * Villamos 47. 49. * Autobus 9. ) da Astoria al 5 perc walk )
URL:https://fondazionegiovannisantinets.it/events/uzsai-helyzet-kepek/
LOCATION:Museum Hotel Budapest\, Trefort utca 2\, Budapest\, 1088\, Ungheria
CATEGORIES:Mostre
ATTACH;FMTTYPE=image/jpeg:https://fondazionegiovannisantinets.it/wp-content/uploads/2025/01/WhatsApp-Image-2025-01-07-at-20.01.57.jpeg
END:VEVENT
BEGIN:VEVENT
DTSTART;VALUE=DATE:20241207
DTEND;VALUE=DATE:20250224
DTSTAMP:20260421T234910
CREATED:20250108T121951Z
LAST-MODIFIED:20250108T122038Z
UID:10000359-1733529600-1740355199@fondazionegiovannisantinets.it
SUMMARY:IRENE E LE ALTRE - La condizione della donna artista in Friuli (sec. XVI-XIX)
DESCRIPTION:A cura di Enrico Lucchese e Stefano Aloisi
URL:https://fondazionegiovannisantinets.it/events/irene-e-le-altre-la-condizione-della-donna-artista-in-friuli-sec-xvi-xix/
LOCATION:Galleria Celso e Giovanni Costantini\, Castions\, 33080\, Italia
CATEGORIES:Mostre
ATTACH;FMTTYPE=image/jpeg:https://fondazionegiovannisantinets.it/wp-content/uploads/2025/01/Screenshot_20250108_131514.jpg
END:VEVENT
BEGIN:VEVENT
DTSTART;VALUE=DATE:20241202
DTEND;VALUE=DATE:20250107
DTSTAMP:20260421T234910
CREATED:20250123T110057Z
LAST-MODIFIED:20250123T110057Z
UID:10000364-1733097600-1736207999@fondazionegiovannisantinets.it
SUMMARY:LA VIOLENZA MASCHILE SULLE DONNE HA MOLTE FACCE NON LA MIA
DESCRIPTION:
URL:https://fondazionegiovannisantinets.it/events/la-violenza-maschile-sulle-donne-ha-molte-facce-non-la-mia/
LOCATION:Biblioteca Civica di Pordenone\, Piazzale XX Settembre\, 11\, Pordenone\, 33170\, Italia
CATEGORIES:Mostre
ATTACH;FMTTYPE=image/jpeg:https://fondazionegiovannisantinets.it/wp-content/uploads/2025/01/WhatsApp-Image-2025-01-15-at-17.51.09.jpeg
END:VEVENT
END:VCALENDAR